BEGIN:VCALENDAR
VERSION:2.0
PRODID:-//Embodying Rhythm - ECPv6.15.20//NONSGML v1.0//EN
CALSCALE:GREGORIAN
METHOD:PUBLISH
X-WR-CALNAME:Embodying Rhythm
X-ORIGINAL-URL:https://embodyingrhythm.com
X-WR-CALDESC:Events for Embodying Rhythm
REFRESH-INTERVAL;VALUE=DURATION:PT1H
X-Robots-Tag:noindex
X-PUBLISHED-TTL:PT1H
BEGIN:VTIMEZONE
TZID:America/Denver
BEGIN:DAYLIGHT
TZOFFSETFROM:-0700
TZOFFSETTO:-0600
TZNAME:MDT
DTSTART:20220313T090000
END:DAYLIGHT
BEGIN:STANDARD
TZOFFSETFROM:-0600
TZOFFSETTO:-0700
TZNAME:MST
DTSTART:20221106T080000
END:STANDARD
BEGIN:DAYLIGHT
TZOFFSETFROM:-0700
TZOFFSETTO:-0600
TZNAME:MDT
DTSTART:20230312T090000
END:DAYLIGHT
BEGIN:STANDARD
TZOFFSETFROM:-0600
TZOFFSETTO:-0700
TZNAME:MST
DTSTART:20231105T080000
END:STANDARD
BEGIN:DAYLIGHT
TZOFFSETFROM:-0700
TZOFFSETTO:-0600
TZNAME:MDT
DTSTART:20240310T090000
END:DAYLIGHT
BEGIN:STANDARD
TZOFFSETFROM:-0600
TZOFFSETTO:-0700
TZNAME:MST
DTSTART:20241103T080000
END:STANDARD
END:VTIMEZONE
BEGIN:VEVENT
DTSTART;TZID=America/Denver:20230205T110000
DTEND;TZID=America/Denver:20230205T123000
DTSTAMP:20260425T160959
CREATED:20230124T042103Z
LAST-MODIFIED:20230124T043558Z
UID:9809-1675594800-1675600200@embodyingrhythm.com
SUMMARY:Live Music - for Movement as Medicine
DESCRIPTION:Accompanied by Responsive Live Music with Daniel B\, Sami Akert\, and Chloe Watkins \nSunday\, February 5th\, 11am-12:30pm \nAt the Hearth – 138 Grand Ave. Paonia \nFacilitated by Arlyn Alderdice \nReceive wisdom from the body while inviting internal connection\, nourishment\, strength and vitality.\nWe will explore surrender\, lightness\, and deep peace\, as we dance our way home to ourselves.\nYour unique dance is the teacher\, there are no steps to learn. \nChildcare available onsite. \n$15-$35 suggested donation
URL:https://embodyingrhythm.com/event/live-music-for-movement-as-medicine-2/
LOCATION:CO
CATEGORIES:Arlyn Alderdice,Workshops and classes
END:VEVENT
BEGIN:VEVENT
DTSTART;TZID=America/Denver:20230210T090000
DTEND;TZID=America/Denver:20230210T100000
DTSTAMP:20260425T160959
CREATED:20221226T234514Z
LAST-MODIFIED:20230207T154347Z
UID:9781-1676019600-1676023200@embodyingrhythm.com
SUMMARY:Pre-Recorded Music for Movement as Medicine practice
DESCRIPTION:Fridays at the Hearth from 9am – 10am \nWe create this dance together through deep listening to our whole selves – beyond the mind\, tapping into the body\, heart and soul of what it is to be human. We practice tracking our sensations\, connecting our movements with our breath and shaking out what is no longer needed. What is left after we are cleaner is the tug on our hearts pulling us into our lives and connecting us with the wisdom of our bodies. \nThese are intense times on the planet\, let’s slow it down and be with our bodies\, together. \nOffered in the gift model – which means if you receive benefit\, please gift it outward to others with specificity and generosity\, or gift it back to me via a donation (read more about the gift model) \n  \n“Gifts\, on the other hand\, we intuitively recognize as sacred\, which is why even today we make ceremonies of giving presents. Gifts embody the key qualities of the sacredness I discussed in the introduction. First\, uniqueness: unlike the standardized commodities of today\, purchased in closed transactions with money and alienated from their origins\, gifts are unique to the extent that they partake of the giver. Second\, wholeness\, interdependency: gifts expand the circle of self to include the entire community. Whereas money today embodies the principle\, “More for me is less for you\,” in a gift economy\, more for you is also more for me because those who have given to those who need. Gifts cement the mystical realization of participation in something greater than oneself which\, yet\, is not separate from oneself. The axioms of rational self-interest change because the self has expanded to include something of the other.” -Sacred Economics by Charles Eisenstein
URL:https://embodyingrhythm.com/event/pre-recorded-music-for-movement-as-medicine-practice-8/
LOCATION:TLC Hearth\, 138 Grand Ave\, Paonia\, CO\, 81428\, United States
CATEGORIES:Arlyn Alderdice,Workshops and classes
END:VEVENT
BEGIN:VEVENT
DTSTART;TZID=America/Denver:20230219T110000
DTEND;TZID=America/Denver:20230219T123000
DTSTAMP:20260425T160959
CREATED:20230207T153922Z
LAST-MODIFIED:20230207T153922Z
UID:9824-1676804400-1676809800@embodyingrhythm.com
SUMMARY:Exploring Nourishment - Movement as Medicine
DESCRIPTION:At the Yoga Tree in Hotchkiss\n\nWe’ll have a theme for each of these mid-month Sunday dances and also plenty of time to dance through whatever is needed as well.\nThey will build on each other\, but designed to be stand-alone experiences.\n\n11am-12:30pm\n\nSunday Feb. 19th: exploring nourishment\nSunday March 19th: exploring healthy boundaries\nSunday April 23rd: exploring inspiration\n\n\nWe create this dance together through deep listening to our whole selves – beyond the mind\, tapping into the heart and soul of what it is to be a human in a body.\n\nOffered on a sliding scale $10-$25 each class.\n\n\nWe’ll be using pre-recorded music for these.
URL:https://embodyingrhythm.com/event/exploring-nourishment-movement-as-medicine/
LOCATION:Hotchkiss Yoga Tree\, 110 South 7th Street\, Hotchkiss\, CO\, 81419\, United States
CATEGORIES:Arlyn Alderdice,Workshops and classes
END:VEVENT
END:VCALENDAR