BEGIN:VCALENDAR
VERSION:2.0
PRODID:-//Embodying Rhythm - ECPv6.15.20//NONSGML v1.0//EN
CALSCALE:GREGORIAN
METHOD:PUBLISH
X-WR-CALNAME:Embodying Rhythm
X-ORIGINAL-URL:https://embodyingrhythm.com
X-WR-CALDESC:Events for Embodying Rhythm
REFRESH-INTERVAL;VALUE=DURATION:PT1H
X-Robots-Tag:noindex
X-PUBLISHED-TTL:PT1H
BEGIN:VTIMEZONE
TZID:America/Denver
BEGIN:DAYLIGHT
TZOFFSETFROM:-0700
TZOFFSETTO:-0600
TZNAME:MDT
DTSTART:20220313T090000
END:DAYLIGHT
BEGIN:STANDARD
TZOFFSETFROM:-0600
TZOFFSETTO:-0700
TZNAME:MST
DTSTART:20221106T080000
END:STANDARD
BEGIN:DAYLIGHT
TZOFFSETFROM:-0700
TZOFFSETTO:-0600
TZNAME:MDT
DTSTART:20230312T090000
END:DAYLIGHT
BEGIN:STANDARD
TZOFFSETFROM:-0600
TZOFFSETTO:-0700
TZNAME:MST
DTSTART:20231105T080000
END:STANDARD
BEGIN:DAYLIGHT
TZOFFSETFROM:-0700
TZOFFSETTO:-0600
TZNAME:MDT
DTSTART:20240310T090000
END:DAYLIGHT
BEGIN:STANDARD
TZOFFSETFROM:-0600
TZOFFSETTO:-0700
TZNAME:MST
DTSTART:20241103T080000
END:STANDARD
END:VTIMEZONE
BEGIN:VEVENT
DTSTART;TZID=America/Denver:20230606T170000
DTEND;TZID=America/Denver:20230606T200000
DTSTAMP:20260424T205210
CREATED:20230530T123750Z
LAST-MODIFIED:20230604T141225Z
UID:9929-1686070800-1686081600@embodyingrhythm.com
SUMMARY:Mama Lingua at Arbol Farmer's Market
DESCRIPTION:A relaxed atmosphere to enjoy local offerings and some good music. \n5-8pm in Paonia Town Park.
URL:https://embodyingrhythm.com/event/mama-lingua-at-arbol-farmers-market/
LOCATION:CO
CATEGORIES:Arlyn Alderdice,Mama Lingua,Performance
END:VEVENT
BEGIN:VEVENT
DTSTART;TZID=America/Denver:20230608T180000
DTEND;TZID=America/Denver:20230608T191500
DTSTAMP:20260424T205210
CREATED:20230409T034305Z
LAST-MODIFIED:20230411T032052Z
UID:9901-1686247200-1686251700@embodyingrhythm.com
SUMMARY:Mama Lingua in Ouray\, CO
DESCRIPTION:As part of the Mountain Air series. \nOpening on June 8th. \nmore
URL:https://embodyingrhythm.com/event/mama-lingua-in-ouray-co/
LOCATION:CO
CATEGORIES:Arlyn Alderdice,Mama Lingua,Performance
END:VEVENT
BEGIN:VEVENT
DTSTART;TZID=America/Denver:20230609T090000
DTEND;TZID=America/Denver:20230609T100000
DTSTAMP:20260424T205210
CREATED:20230207T154539Z
LAST-MODIFIED:20230530T123305Z
UID:9832-1686301200-1686304800@embodyingrhythm.com
SUMMARY:Friday Movement Practice
DESCRIPTION:Fridays at the Hearth from 9am – 10am \nWith Rose Costello on June 2 and June 16   (no dance during the month of July\, but otherwise\, we’re rocking it year-round) \nWe create this dance together through deep listening to our whole selves – beyond the mind\, tapping into the body\, heart and soul of what it is to be human. We practice tracking our sensations\, connecting our movements with our breath and shaking out what is no longer needed. What is left after we are cleaner is the tug on our hearts pulling us into our lives and connecting us with the wisdom of our bodies. \nThese are intense times on the planet\, let’s slow it down and be with our bodies\, together. \nOffered in the gift model – which means if you receive benefit\, please gift it outward to others with specificity and generosity\, or gift it back to me via a donation (read more about the gift model)
URL:https://embodyingrhythm.com/event/friday-movement-practice/
LOCATION:TLC Hearth\, 138 Grand Ave\, Paonia\, CO\, 81428\, United States
CATEGORIES:Arlyn Alderdice,Workshops and classes
END:VEVENT
BEGIN:VEVENT
DTSTART;TZID=America/Denver:20230617T190000
DTEND;TZID=America/Denver:20230617T211500
DTSTAMP:20260424T205210
CREATED:20230409T034521Z
LAST-MODIFIED:20230411T032030Z
UID:9903-1687028400-1687036500@embodyingrhythm.com
SUMMARY:Mama Lingua full evening set at Big B's
DESCRIPTION:join us for an evening of music at Big B’s. \nFun for the whole family.
URL:https://embodyingrhythm.com/event/mama-lingua-full-evening-set-at-big-bs/
LOCATION:Big B’s\, 39126 Highway 133\, Hotchkiss\, CO\, 81419\, United States
CATEGORIES:Arlyn Alderdice,Mama Lingua,Performance
END:VEVENT
BEGIN:VEVENT
DTSTART;TZID=America/Denver:20230619T090000
DTEND;TZID=America/Denver:20230720T170000
DTSTAMP:20260424T205210
CREATED:20230224T234902Z
LAST-MODIFIED:20230414T203914Z
UID:9847-1687165200-1689872400@embodyingrhythm.com
SUMMARY:Summer Youth Backpacking Trips with The Nature Connection led by David & Arlyn
DESCRIPTION:Explore the woods with us this summer! We will be offering 4 youth camping & backpacking trips for 11-15 year olds this summer through The Nature Connection. They will all be 4 day/3 night trips\, two for girls and two for boys. Each gender will have a camping/backpacking 101 trip with 2 nights at a local campground then a short 1 night backpack. The second trip is a full backpacking trip where we spend all 4 days/ 3 nights hiking in the wilderness\, camping under the stars\, and carrying everything that we’ll need on our backs. more here \nBoot to Roots Boys Backpacking 101 trip will be June 19-22\nThe Girls in the Woods Backpacking 101 trip will be June 26-29 \nBoots to Roots boys backpacking trip July 10-13\nThe Girls in the Wilderness backpacking trip July 17-20 \n__ \nIf that sounds great\, but you’re not a youth in that age range\, please contact us to discuss a possibility of setting up a life-coaching / backpacking trip.
URL:https://embodyingrhythm.com/event/summer-youth-backpacking-trips-with-the-nature-connection-led-by-david-arlyn/
LOCATION:The Nature Connection\, 397 Miners Way\, Hotchkiss\, CO\, 81419\, United States
CATEGORIES:Arlyn Alderdice,Summercamp,Workshops and classes
ATTACH;FMTTYPE=image/jpeg:https://embodyingrhythm.com/wp-content/uploads/TNC-Bkpk.jpg
END:VEVENT
END:VCALENDAR