BEGIN:VCALENDAR
VERSION:2.0
PRODID:-//Embodying Rhythm - ECPv6.15.20//NONSGML v1.0//EN
CALSCALE:GREGORIAN
METHOD:PUBLISH
X-ORIGINAL-URL:https://embodyingrhythm.com
X-WR-CALDESC:Events for Embodying Rhythm
REFRESH-INTERVAL;VALUE=DURATION:PT1H
X-Robots-Tag:noindex
X-PUBLISHED-TTL:PT1H
BEGIN:VTIMEZONE
TZID:America/Denver
BEGIN:DAYLIGHT
TZOFFSETFROM:-0700
TZOFFSETTO:-0600
TZNAME:MDT
DTSTART:20220313T090000
END:DAYLIGHT
BEGIN:STANDARD
TZOFFSETFROM:-0600
TZOFFSETTO:-0700
TZNAME:MST
DTSTART:20221106T080000
END:STANDARD
BEGIN:DAYLIGHT
TZOFFSETFROM:-0700
TZOFFSETTO:-0600
TZNAME:MDT
DTSTART:20230312T090000
END:DAYLIGHT
BEGIN:STANDARD
TZOFFSETFROM:-0600
TZOFFSETTO:-0700
TZNAME:MST
DTSTART:20231105T080000
END:STANDARD
BEGIN:DAYLIGHT
TZOFFSETFROM:-0700
TZOFFSETTO:-0600
TZNAME:MDT
DTSTART:20240310T090000
END:DAYLIGHT
BEGIN:STANDARD
TZOFFSETFROM:-0600
TZOFFSETTO:-0700
TZNAME:MST
DTSTART:20241103T080000
END:STANDARD
END:VTIMEZONE
BEGIN:VEVENT
DTSTART;TZID=America/Denver:20230811T090000
DTEND;TZID=America/Denver:20230811T100000
DTSTAMP:20260424T140136
CREATED:20230604T142152Z
LAST-MODIFIED:20230814T180348Z
UID:9937-1691744400-1691748000@embodyingrhythm.com
SUMMARY:Friday Movement Practice - still going strong
DESCRIPTION:Ongoing — Fridays at the Hearth from 9am – 10am \n(Rose will sub July 21 & 28). \nWe create this dance together through deep listening to our whole selves – beyond the mind\, tapping into the body\, heart and soul of what it is to be human. We practice tracking our sensations\, connecting our movements with our breath and shaking out what is no longer needed. What is left after we are cleaner is the tug on our hearts pulling us into our lives and connecting us with the wisdom of our bodies. \nThese are intense times on the planet\, let’s slow it down and be with our bodies\, together.
URL:https://embodyingrhythm.com/event/friday-movement-practice-resumes/
LOCATION:TLC Hearth\, 138 Grand Ave\, Paonia\, CO\, 81428\, United States
CATEGORIES:Arlyn Alderdice,Workshops and classes
END:VEVENT
BEGIN:VEVENT
DTSTART;TZID=America/Denver:20230815T090000
DTEND;TZID=America/Denver:20230815T100000
DTSTAMP:20260424T140136
CREATED:20230726T134352Z
LAST-MODIFIED:20230726T134352Z
UID:9956-1692090000-1692093600@embodyingrhythm.com
SUMMARY:Online - Move Your Life - begins
DESCRIPTION:A new life coaching + movement group facilitated by Arlyn Alderdice. \nhttps://arlynalderdice.com/product/tuesday-move-your-life-9am-10am-mtn-11-noon-est/
URL:https://embodyingrhythm.com/event/online-move-your-life-begins/
LOCATION:CO
CATEGORIES:Arlyn Alderdice,Workshops and classes
END:VEVENT
BEGIN:VEVENT
DTSTART;TZID=America/Denver:20230818T090000
DTEND;TZID=America/Denver:20230818T100000
DTSTAMP:20260424T140136
CREATED:20230814T180447Z
LAST-MODIFIED:20230814T180447Z
UID:9979-1692349200-1692352800@embodyingrhythm.com
SUMMARY:Friday Morning Dance Practice
DESCRIPTION:Ongoing — Fridays at the Hearth from 9am – 10am \nWe create this dance together through deep listening to our whole selves – beyond the mind\, tapping into the body\, heart and soul of what it is to be human. We practice tracking our sensations\, connecting our movements with our breath and shaking out what is no longer needed. What is left after we are cleaner is the tug on our hearts pulling us into our lives and connecting us with the wisdom of our bodies. \nThese are intense times on the planet\, let’s slow it down and be with our bodies\, together.
URL:https://embodyingrhythm.com/event/friday-morning-dance-practice-2/
LOCATION:CO
CATEGORIES:Arlyn Alderdice,Workshops and classes
END:VEVENT
BEGIN:VEVENT
DTSTART;TZID=America/Denver:20230822T090000
DTEND;TZID=America/Denver:20230822T100000
DTSTAMP:20260424T140136
CREATED:20230814T173741Z
LAST-MODIFIED:20230814T173741Z
UID:9966-1692694800-1692698400@embodyingrhythm.com
SUMMARY:Move Your Life - Online - Weekly on Tuesdays
DESCRIPTION:the practice: group life coaching & movement\nWe will let gentle movement help inform and unlock the stuck places in our bodies and our lives. There will be room for feeling and for listening\, room for uncovering what has been hidden so that true movement\, authentic to our full selves\, can unfold in our bodies and our lives. Bring your journal\, water\, a safe place to move as we’ll be online\, and a willingness to listen to your body. \n  \nMore info and registration here.
URL:https://embodyingrhythm.com/event/move-your-life-online-weekly-on-tuesdays/
LOCATION:CO
CATEGORIES:Arlyn Alderdice,Workshops and classes
END:VEVENT
END:VCALENDAR