BEGIN:VCALENDAR
VERSION:2.0
PRODID:-//Embodying Rhythm - ECPv6.15.20//NONSGML v1.0//EN
CALSCALE:GREGORIAN
METHOD:PUBLISH
X-WR-CALNAME:Embodying Rhythm
X-ORIGINAL-URL:https://embodyingrhythm.com
X-WR-CALDESC:Events for Embodying Rhythm
REFRESH-INTERVAL;VALUE=DURATION:PT1H
X-Robots-Tag:noindex
X-PUBLISHED-TTL:PT1H
BEGIN:VTIMEZONE
TZID:America/Denver
BEGIN:DAYLIGHT
TZOFFSETFROM:-0700
TZOFFSETTO:-0600
TZNAME:MDT
DTSTART:20220313T090000
END:DAYLIGHT
BEGIN:STANDARD
TZOFFSETFROM:-0600
TZOFFSETTO:-0700
TZNAME:MST
DTSTART:20221106T080000
END:STANDARD
BEGIN:DAYLIGHT
TZOFFSETFROM:-0700
TZOFFSETTO:-0600
TZNAME:MDT
DTSTART:20230312T090000
END:DAYLIGHT
BEGIN:STANDARD
TZOFFSETFROM:-0600
TZOFFSETTO:-0700
TZNAME:MST
DTSTART:20231105T080000
END:STANDARD
BEGIN:DAYLIGHT
TZOFFSETFROM:-0700
TZOFFSETTO:-0600
TZNAME:MDT
DTSTART:20240310T090000
END:DAYLIGHT
BEGIN:STANDARD
TZOFFSETFROM:-0600
TZOFFSETTO:-0700
TZNAME:MST
DTSTART:20241103T080000
END:STANDARD
END:VTIMEZONE
BEGIN:VEVENT
DTSTART;TZID=America/Denver:20231105T110000
DTEND;TZID=America/Denver:20231105T123000
DTSTAMP:20260424T084135
CREATED:20231024T162545Z
LAST-MODIFIED:20231024T162545Z
UID:10066-1699182000-1699187400@embodyingrhythm.com
SUMMARY:Live Music for Movement as Medicine
DESCRIPTION:Movement As Medicine – An Experiential Dance Practice\nAccompanied by Responsive Live Music\n11am-12:30pm \nAt the Hearth\, 138 Grand Ave. Paonia \nFacilitated by Arlyn Alderdice\nWith live music by David Alderdice\, Daniel B\, and Mateo Sandate \n\nReceive wisdom from the body while inviting\ninternal connection\, nourishment\, strength and vitality\nas we dance our way home to ourselves.\nYour unique dance is the teacher\, there are no steps to learn.\n\nchildcare available on-site\nSuggested donation $20-$35 (work-trade available\, please inquire) \nBrought to you by The Learning Council and Embodying Rhythm\nmore information www.embodyingrhythm.com/dance
URL:https://embodyingrhythm.com/event/live-music-for-movement-as-medicine-5/
LOCATION:CO
CATEGORIES:Arlyn Alderdice,Performance
END:VEVENT
BEGIN:VEVENT
DTSTART;TZID=America/Denver:20231117T190000
DTEND;TZID=America/Denver:20231117T210000
DTSTAMP:20260424T084135
CREATED:20230821T191232Z
LAST-MODIFIED:20230821T191232Z
UID:9988-1700247600-1700254800@embodyingrhythm.com
SUMMARY:Embodying Rhythm Collective & Mama Lingua in Cedaredge\, CO
DESCRIPTION:Nov 17\, 7:00 PM – 9:00 PM \nGrand Mesa Arts & Events Center\, 195 W Main St\, Cedaredge\, CO \nhttps://www.gmaec.org/event-details/the-embodying-rhythm-collective-mama-lingua \n  \nThe Embodying Rhythm Collective & Mama Lingua present an eclectic acoustic concert event featuring – Arlyn Alderdice\, David Alderdice\, Sami Akert\, Daniel Be\, Jeannette Carey\, Tony Peters\, Chelsie Taylor\, & Chloe Watkins. \nJoin us for an intimate musical journey featuring traditional and modern music from around the world as well as original music from the North Fork Valley. All the musicians are well-versed multi-instrumentalists\, so you will hear many different tone colors and musical textures through the sounds of singing (including three part harmonies)\, strings (including fiddle\, cello\, guitar\, electric bass and mandolin)\, woodwinds (including clarinet\, melodica\, alto saxophone\, tenor saxophone and flute)\, brass (including trumpet\, trombone and sousaphone) and pitched as well as unpitched percussion (including drum set\, hand drums\, shakers and different sized wooden marimbas).
URL:https://embodyingrhythm.com/event/embodying-rhythm-collective-mama-lingua-in-cedaredge-co/
LOCATION:CO
CATEGORIES:Arlyn Alderdice,David Performance,Mama Lingua,Performance
END:VEVENT
BEGIN:VEVENT
DTSTART;TZID=America/Denver:20231128T090000
DTEND;TZID=America/Denver:20231128T153000
DTSTAMP:20260424T084135
CREATED:20231028T053306Z
LAST-MODIFIED:20231028T053306Z
UID:10080-1701162000-1701185400@embodyingrhythm.com
SUMMARY:Step Into Your Life Series Begins with Arlyn Alderdice
DESCRIPTION:4 Week Series Nov. 28 – Dec. 19\nOnly $75\, which includes 4 classes and 1:1 session with Arlyn \n  \nOnline: Tuesdays 9am – 10am mtn / 11am – noon est \nIn Person: Tuesdays\, 2pm-3:15pm \nStep out of the rules\, roles\, and traditions that your conditioning tells you that you have to do during the holidays and step into your authentic expression. \nMore information: https://arlynalderdice.com/coaching/
URL:https://embodyingrhythm.com/event/step-into-your-life-series-begins-with-arlyn-alderdice/
LOCATION:CO
CATEGORIES:Arlyn Alderdice,Workshops and classes
ATTACH;FMTTYPE=image/jpeg:https://embodyingrhythm.com/wp-content/uploads/arlyn-aspens-purple-squat.jpg
END:VEVENT
END:VCALENDAR