BEGIN:VCALENDAR
VERSION:2.0
PRODID:-//Embodying Rhythm - ECPv6.15.20//NONSGML v1.0//EN
CALSCALE:GREGORIAN
METHOD:PUBLISH
X-ORIGINAL-URL:https://embodyingrhythm.com
X-WR-CALDESC:Events for Embodying Rhythm
REFRESH-INTERVAL;VALUE=DURATION:PT1H
X-Robots-Tag:noindex
X-PUBLISHED-TTL:PT1H
BEGIN:VTIMEZONE
TZID:America/Denver
BEGIN:DAYLIGHT
TZOFFSETFROM:-0700
TZOFFSETTO:-0600
TZNAME:MDT
DTSTART:20230312T090000
END:DAYLIGHT
BEGIN:STANDARD
TZOFFSETFROM:-0600
TZOFFSETTO:-0700
TZNAME:MST
DTSTART:20231105T080000
END:STANDARD
BEGIN:DAYLIGHT
TZOFFSETFROM:-0700
TZOFFSETTO:-0600
TZNAME:MDT
DTSTART:20240310T090000
END:DAYLIGHT
BEGIN:STANDARD
TZOFFSETFROM:-0600
TZOFFSETTO:-0700
TZNAME:MST
DTSTART:20241103T080000
END:STANDARD
BEGIN:DAYLIGHT
TZOFFSETFROM:-0700
TZOFFSETTO:-0600
TZNAME:MDT
DTSTART:20250309T090000
END:DAYLIGHT
BEGIN:STANDARD
TZOFFSETFROM:-0600
TZOFFSETTO:-0700
TZNAME:MST
DTSTART:20251102T080000
END:STANDARD
END:VTIMEZONE
BEGIN:VEVENT
DTSTART;TZID=America/Denver:20240407T110000
DTEND;TZID=America/Denver:20240407T123000
DTSTAMP:20260424T002457
CREATED:20240326T035446Z
LAST-MODIFIED:20240327T162333Z
UID:10206-1712487600-1712493000@embodyingrhythm.com
SUMMARY:Movement as Medicine with Responsive Live Music
DESCRIPTION:Facilitated by Arlyn Alderdice \nwith David Alderdice\, Daniel Be and John Whooley \n  \nchildcare available on-site
URL:https://embodyingrhythm.com/event/movement-as-medicine-with-responsive-live-music/
LOCATION:TLC Hearth\, 138 Grand Ave\, Paonia\, CO\, 81428\, United States
CATEGORIES:Arlyn Alderdice,Workshops and classes
END:VEVENT
BEGIN:VEVENT
DTSTART;TZID=America/Denver:20240412T090000
DTEND;TZID=America/Denver:20240412T100000
DTSTAMP:20260424T002457
CREATED:20240106T224805Z
LAST-MODIFIED:20240326T035304Z
UID:10154-1712912400-1712916000@embodyingrhythm.com
SUMMARY:Friday Morning Dance Practice
DESCRIPTION:9am at the Hearth in Paonia\, CO \nWith pre-recorded music. A great way to shake off your week and step into your self fully.
URL:https://embodyingrhythm.com/event/friday-morning-dance-practice-4/
LOCATION:TLC Hearth\, 138 Grand Ave\, Paonia\, CO\, 81428\, United States
CATEGORIES:Arlyn Alderdice,Performance
END:VEVENT
BEGIN:VEVENT
DTSTART;TZID=America/Denver:20240413T103000
DTEND;TZID=America/Denver:20240413T120000
DTSTAMP:20260424T002457
CREATED:20240402T195130Z
LAST-MODIFIED:20240402T195130Z
UID:10229-1713004200-1713009600@embodyingrhythm.com
SUMMARY:Second Saturday Solkattu Session
DESCRIPTION:Embody Rhythm together with us! \nThis is a great practice. Contact us to learn more.
URL:https://embodyingrhythm.com/event/second-saturday-solkattu-session/
LOCATION:CO
CATEGORIES:Arlyn Alderdice,Workshops and classes
END:VEVENT
BEGIN:VEVENT
DTSTART;TZID=America/Denver:20240421T090000
DTEND;TZID=America/Denver:20240421T140000
DTSTAMP:20260424T002457
CREATED:20240327T162709Z
LAST-MODIFIED:20240327T162709Z
UID:10210-1713690000-1713708000@embodyingrhythm.com
SUMMARY:Arlyn Alderdice guest teacher at Women's Soul Care Day
DESCRIPTION:Join us for a special day celebrating YOU! \nWhen: Saturday April 20th 9am-2pm \nWhat: Celebrating the Soul \nWhere: Lions Club 602 N. Nevada Montrose \nCost: $40 (scholarships available) \nSponsored by: The Spiritual Awareness Center \nPresented by: Deborah Solomon & Rev. Kim E. Briarwood \nSpecial guests: Arlyn Alderdice Dance & Drumming (10am-noon)
URL:https://embodyingrhythm.com/event/arlyn-alderdice-guest-teacher-at-womens-soul-care-day/
LOCATION:CO
CATEGORIES:Arlyn Alderdice,Workshops and classes
END:VEVENT
END:VCALENDAR