BEGIN:VCALENDAR
VERSION:2.0
PRODID:-//Embodying Rhythm - ECPv6.15.20//NONSGML v1.0//EN
CALSCALE:GREGORIAN
METHOD:PUBLISH
X-WR-CALNAME:Embodying Rhythm
X-ORIGINAL-URL:https://embodyingrhythm.com
X-WR-CALDESC:Events for Embodying Rhythm
REFRESH-INTERVAL;VALUE=DURATION:PT1H
X-Robots-Tag:noindex
X-PUBLISHED-TTL:PT1H
BEGIN:VTIMEZONE
TZID:America/Denver
BEGIN:DAYLIGHT
TZOFFSETFROM:-0700
TZOFFSETTO:-0600
TZNAME:MDT
DTSTART:20230312T090000
END:DAYLIGHT
BEGIN:STANDARD
TZOFFSETFROM:-0600
TZOFFSETTO:-0700
TZNAME:MST
DTSTART:20231105T080000
END:STANDARD
BEGIN:DAYLIGHT
TZOFFSETFROM:-0700
TZOFFSETTO:-0600
TZNAME:MDT
DTSTART:20240310T090000
END:DAYLIGHT
BEGIN:STANDARD
TZOFFSETFROM:-0600
TZOFFSETTO:-0700
TZNAME:MST
DTSTART:20241103T080000
END:STANDARD
BEGIN:DAYLIGHT
TZOFFSETFROM:-0700
TZOFFSETTO:-0600
TZNAME:MDT
DTSTART:20250309T090000
END:DAYLIGHT
BEGIN:STANDARD
TZOFFSETFROM:-0600
TZOFFSETTO:-0700
TZNAME:MST
DTSTART:20251102T080000
END:STANDARD
END:VTIMEZONE
BEGIN:VEVENT
DTSTART;TZID=America/Denver:20240601T180000
DTEND;TZID=America/Denver:20240601T190000
DTSTAMP:20260423T210120
CREATED:20240327T164306Z
LAST-MODIFIED:20240327T164306Z
UID:10221-1717264800-1717268400@embodyingrhythm.com
SUMMARY:Mama Lingua at Riverfest
DESCRIPTION:more info \nwww.mamalinguamusic.com \nand\nwesternslopeconservation.org
URL:https://embodyingrhythm.com/event/mama-lingua-at-riverfest/
LOCATION:CO
CATEGORIES:Arlyn Alderdice,Mama Lingua
END:VEVENT
BEGIN:VEVENT
DTSTART;TZID=America/Denver:20240607T090000
DTEND;TZID=America/Denver:20240607T100000
DTSTAMP:20260423T210120
CREATED:20240602T231747Z
LAST-MODIFIED:20240602T232028Z
UID:10281-1717750800-1717754400@embodyingrhythm.com
SUMMARY:Friday Morning Movement Practice with Arlyn
DESCRIPTION:Somatic dance is about the felt experience of the mover\, it’s not about looking any particular way. And while there is time and invitation to move as you would like to\, there’s a map that we follow and invitations to deeper inquiry that are offered gently by the facilitator throughout the movement practice. It’s not a partner dance and there are no dance moves taught; the music and facilitation evokes different styles of movement that look different in each body. I call it Movement as Medicine. \nOngoing \nClass value $10-$15 per person. Talk to me if you need an alternative form of exchange.
URL:https://embodyingrhythm.com/event/friday-morning-movement-practice-with-arlyn/
LOCATION:TLC Hearth\, 138 Grand Ave\, Paonia\, CO\, 81428\, United States
CATEGORIES:Arlyn Alderdice,Workshops and classes
END:VEVENT
BEGIN:VEVENT
DTSTART;TZID=America/Denver:20240614T090000
DTEND;TZID=America/Denver:20240614T100000
DTSTAMP:20260423T210120
CREATED:20240602T231954Z
LAST-MODIFIED:20240602T232048Z
UID:10283-1718355600-1718359200@embodyingrhythm.com
SUMMARY:Friday Morning Dance with Arlyn
DESCRIPTION:It’s the same practice\, but every day we discover something different as we track our internal landscape through movement. Somatic dance is about the felt experience of the mover\, it’s not about looking any particular way. And while there is time and invitation to move as you would like to\, there’s a map that we follow and invitations to deeper inquiry that are offered gently by the facilitator throughout the movement practice. It’s not a partner dance and there are no dance moves taught; the music and facilitation evokes different styles of movement that look different in each body. I call it Movement as Medicine. \nOngoing. \nClass value $10-$15 per person. Talk to me if you need an alternative form of exchange.
URL:https://embodyingrhythm.com/event/friday-morning-dance-with-arlyn/
LOCATION:TLC Hearth\, 138 Grand Ave\, Paonia\, CO\, 81428\, United States
CATEGORIES:Arlyn Alderdice,Workshops and classes
END:VEVENT
BEGIN:VEVENT
DTSTART;TZID=America/Denver:20240614T180000
DTEND;TZID=America/Denver:20240614T193000
DTSTAMP:20260423T210120
CREATED:20240602T232339Z
LAST-MODIFIED:20240602T232339Z
UID:10288-1718388000-1718393400@embodyingrhythm.com
SUMMARY:Mama Lingua in Cedaredge\, CO
DESCRIPTION:More info at www.mamalinguamusic.com
URL:https://embodyingrhythm.com/event/mama-lingua-in-cedaredge-co/
LOCATION:Grand Mesa Arts & Events Center\, 195 W. Main\, Cedaredge\, CO\, United States
CATEGORIES:Arlyn Alderdice,Mama Lingua
END:VEVENT
BEGIN:VEVENT
DTSTART;TZID=America/Denver:20240621T090000
DTEND;TZID=America/Denver:20240621T100000
DTSTAMP:20260423T210120
CREATED:20240602T232445Z
LAST-MODIFIED:20240602T232445Z
UID:10291-1718960400-1718964000@embodyingrhythm.com
SUMMARY:Friday Morning Dance
DESCRIPTION:It’s the same practice\, but every day we discover something different as we track our internal landscape through movement. Somatic dance is about the felt experience of the mover\, it’s not about looking any particular way. And while there is time and invitation to move as you would like to\, there’s a map that we follow and invitations to deeper inquiry that are offered gently by the facilitator throughout the movement practice. It’s not a partner dance and there are no dance moves taught; the music and facilitation evokes different styles of movement that look different in each body. I call it Movement as Medicine. \nOngoing. \nClass value $10-$15 per person. Talk to me if you need an alternative form of exchange.
URL:https://embodyingrhythm.com/event/friday-morning-dance/
LOCATION:TLC Hearth\, 138 Grand Ave\, Paonia\, CO\, 81428\, United States
CATEGORIES:Arlyn Alderdice,Workshops and classes
END:VEVENT
END:VCALENDAR