BEGIN:VCALENDAR
VERSION:2.0
PRODID:-//Embodying Rhythm - ECPv6.15.20//NONSGML v1.0//EN
CALSCALE:GREGORIAN
METHOD:PUBLISH
X-WR-CALNAME:Embodying Rhythm
X-ORIGINAL-URL:https://embodyingrhythm.com
X-WR-CALDESC:Events for Embodying Rhythm
REFRESH-INTERVAL;VALUE=DURATION:PT1H
X-Robots-Tag:noindex
X-PUBLISHED-TTL:PT1H
BEGIN:VTIMEZONE
TZID:America/Denver
BEGIN:DAYLIGHT
TZOFFSETFROM:-0700
TZOFFSETTO:-0600
TZNAME:MDT
DTSTART:20230312T090000
END:DAYLIGHT
BEGIN:STANDARD
TZOFFSETFROM:-0600
TZOFFSETTO:-0700
TZNAME:MST
DTSTART:20231105T080000
END:STANDARD
BEGIN:DAYLIGHT
TZOFFSETFROM:-0700
TZOFFSETTO:-0600
TZNAME:MDT
DTSTART:20240310T090000
END:DAYLIGHT
BEGIN:STANDARD
TZOFFSETFROM:-0600
TZOFFSETTO:-0700
TZNAME:MST
DTSTART:20241103T080000
END:STANDARD
BEGIN:DAYLIGHT
TZOFFSETFROM:-0700
TZOFFSETTO:-0600
TZNAME:MDT
DTSTART:20250309T090000
END:DAYLIGHT
BEGIN:STANDARD
TZOFFSETFROM:-0600
TZOFFSETTO:-0700
TZNAME:MST
DTSTART:20251102T080000
END:STANDARD
END:VTIMEZONE
BEGIN:VEVENT
DTSTART;TZID=America/Denver:20241011T170000
DTEND;TZID=America/Denver:20241011T181500
DTSTAMP:20260423T135500
CREATED:20240924T150452Z
LAST-MODIFIED:20241010T185251Z
UID:10361-1728666000-1728670500@embodyingrhythm.com
SUMMARY:Mama Lingua at Ciderfest at Big B's in Paonia\, CO
DESCRIPTION:Celebrating the fall. \nOpening for Sun Jr. \n  \nhttps://www.bigbs.com/event-details-registration/2024-ciderfest
URL:https://embodyingrhythm.com/event/mama-lingua-at-ciderfest-at-big-bs-in-paonia-co/
LOCATION:Big B’s\, 39126 Highway 133\, Hotchkiss\, CO\, 81419\, United States
CATEGORIES:Arlyn Alderdice,Mama Lingua,Performance
END:VEVENT
BEGIN:VEVENT
DTSTART;TZID=America/Denver:20241024T140000
DTEND;TZID=America/Denver:20241024T151500
DTSTAMP:20260423T135500
CREATED:20240924T152810Z
LAST-MODIFIED:20241018T205549Z
UID:10367-1729778400-1729782900@embodyingrhythm.com
SUMMARY:Money Freedom online group with Arlyn Alderdice
DESCRIPTION:This group is full. Please stay posted for when the course is ready!\n\nMoney Freedom with Arlyn Alderdice\nThis is an online offering via Zoom. Open to the first 15 registrants. There is no charge for the group\, but there is a feedback request.\n4 Thursdays @ 1pm pacific/ 2pm mtn/ 3pm central/ 4pm est\nstarting Thursday October 24th through Thursday Nov. 14th\n\n\nArlyn Alderdice is a Wayfinder Life Coach & SomaSource leader\, this group is not financial or entrepreneurial advice. This course is designed to help free up emotional energy and bring awareness to our financial patterns + bring us in touch with something larger than our small egoic self in relationship to money. This allows us to make conscious choices about how to direct the flow of our money and live a life that is more aligned with our own values.  Once we have more freedom in our lives\, on all the levels\, we can make better choices for ourselves and ultimately our planet.
URL:https://embodyingrhythm.com/event/money-freedom-online-group-with-arlyn-alderdice/
LOCATION:CO
CATEGORIES:Arlyn Alderdice,Workshops and classes
END:VEVENT
BEGIN:VEVENT
DTSTART;TZID=America/Denver:20241027T140000
DTEND;TZID=America/Denver:20241027T170000
DTSTAMP:20260423T135500
CREATED:20240924T145808Z
LAST-MODIFIED:20240924T145808Z
UID:10356-1730037600-1730048400@embodyingrhythm.com
SUMMARY:Women's Drum and Voice in Paonia\, CO
DESCRIPTION:This gathering will be juicy. An opportunity to deep dive into rhythm and creative expression. \nPractice listening\, practice leading. \nWomen – we have drums!
URL:https://embodyingrhythm.com/event/womens-drum-and-voice-in-paonia-co/
LOCATION:CO
CATEGORIES:Arlyn Alderdice,Workshops and classes
END:VEVENT
BEGIN:VEVENT
DTSTART;TZID=America/Denver:20241028T090000
DTEND;TZID=America/Denver:20241028T100000
DTSTAMP:20260423T135500
CREATED:20241024T183207Z
LAST-MODIFIED:20241024T183207Z
UID:10433-1730106000-1730109600@embodyingrhythm.com
SUMMARY:Grief Summit Morning Dances in Paonia\, CO
DESCRIPTION:Come to one or all the morning dances. There will be a short experiential exercise on Monday and Tuesday\, but otherwise you are welcome to dance whatever is present for you\, be it grief or not. \n9am – 10am Monday – Friday. Oct. 28 – Nov. 1 \n 
URL:https://embodyingrhythm.com/event/grief-summit-morning-dances-in-paonia-co/
LOCATION:TLC Hearth\, 138 Grand Ave\, Paonia\, CO\, 81428\, United States
CATEGORIES:Arlyn Alderdice,Workshops and classes
END:VEVENT
END:VCALENDAR