BEGIN:VCALENDAR
VERSION:2.0
PRODID:-//Embodying Rhythm - ECPv6.15.20//NONSGML v1.0//EN
CALSCALE:GREGORIAN
METHOD:PUBLISH
X-ORIGINAL-URL:https://embodyingrhythm.com
X-WR-CALDESC:Events for Embodying Rhythm
REFRESH-INTERVAL;VALUE=DURATION:PT1H
X-Robots-Tag:noindex
X-PUBLISHED-TTL:PT1H
BEGIN:VTIMEZONE
TZID:America/Denver
BEGIN:DAYLIGHT
TZOFFSETFROM:-0700
TZOFFSETTO:-0600
TZNAME:MDT
DTSTART:20240310T090000
END:DAYLIGHT
BEGIN:STANDARD
TZOFFSETFROM:-0600
TZOFFSETTO:-0700
TZNAME:MST
DTSTART:20241103T080000
END:STANDARD
BEGIN:DAYLIGHT
TZOFFSETFROM:-0700
TZOFFSETTO:-0600
TZNAME:MDT
DTSTART:20250309T090000
END:DAYLIGHT
BEGIN:STANDARD
TZOFFSETFROM:-0600
TZOFFSETTO:-0700
TZNAME:MST
DTSTART:20251102T080000
END:STANDARD
BEGIN:DAYLIGHT
TZOFFSETFROM:-0700
TZOFFSETTO:-0600
TZNAME:MDT
DTSTART:20260308T090000
END:DAYLIGHT
BEGIN:STANDARD
TZOFFSETFROM:-0600
TZOFFSETTO:-0700
TZNAME:MST
DTSTART:20261101T080000
END:STANDARD
END:VTIMEZONE
BEGIN:VEVENT
DTSTART;TZID=America/Denver:20250202T110000
DTEND;TZID=America/Denver:20250202T123000
DTSTAMP:20260422T215932
CREATED:20241202T155535Z
LAST-MODIFIED:20250105T214539Z
UID:10469-1738494000-1738499400@embodyingrhythm.com
SUMMARY:Live Music Movement as Medicine
DESCRIPTION:With David Alderdice\, Daniel Be\, Ben Bentele and Emma Humes.
URL:https://embodyingrhythm.com/event/live-music-movement-as-medicine/
LOCATION:CO
CATEGORIES:Arlyn Alderdice,Workshops and classes
END:VEVENT
BEGIN:VEVENT
DTSTART;TZID=America/Denver:20250208T090000
DTEND;TZID=America/Denver:20250208T150000
DTSTAMP:20260422T215932
CREATED:20241228T225413Z
LAST-MODIFIED:20250115T171939Z
UID:10505-1739005200-1739026800@embodyingrhythm.com
SUMMARY:Arlyn Alderdice at the Grand Mesa Health\, Wellness & Beauty Fair in Cedaredge\, CO
DESCRIPTION:Arlyn Alderdice at the Grand Mesa Health\, Wellness & Beauty Fair!\nSaturday\, February 8\, 2025. 9am – 3pm\nAt the Grand Mesa Center for the Arts in Cedaredge. (195 W. Main)\nArlyn will present “Stress & Anxiety Reduction through Somatic (body centered) Movement” with 10 different experiential movement practices at 12/noon. \nThere are other presentations on the hour starting at 10am including at 1 pm – Change Facilitator-Betsy Koos\, LCSW “Change is Possible – with a Map for Change”
URL:https://embodyingrhythm.com/event/arlyn-alderdice-at-the-grand-mesa-health-wellness-beauty-fair-in-cedaredge-co/
LOCATION:Grand Mesa Arts & Events Center\, 195 W. Main\, Cedaredge\, CO\, United States
CATEGORIES:Arlyn Alderdice,Open House
END:VEVENT
BEGIN:VEVENT
DTSTART;TZID=America/Denver:20250210T103000
DTEND;TZID=America/Denver:20250210T113000
DTSTAMP:20260422T215932
CREATED:20241210T192837Z
LAST-MODIFIED:20250204T005202Z
UID:10477-1739183400-1739187000@embodyingrhythm.com
SUMMARY:Women's Dance - with Arlyn Alderdice
DESCRIPTION:Women’s Movement as Medicine \nMondays 10:30-11:30am February 10th is our last session for this cycle. \n  \nLet’s lean in and dance our way to our Full Being Aliveness!!
URL:https://embodyingrhythm.com/event/womens-dance-with-arlyn-alderdice/
LOCATION:Paonia Laundromat\, 604 2nd St\, Paonia\, CO\, United States
CATEGORIES:Arlyn Alderdice,Workshops and classes
END:VEVENT
BEGIN:VEVENT
DTSTART;TZID=America/Denver:20250221T110000
DTEND;TZID=America/Denver:20250221T120000
DTSTAMP:20260422T215932
CREATED:20250102T043349Z
LAST-MODIFIED:20250305T163654Z
UID:10511-1740135600-1740139200@embodyingrhythm.com
SUMMARY:Life-Coach Skills Meet-Up with Arlyn Alderdice
DESCRIPTION:11am-noon\nFriday March 14th\nCurious about life-coaching? Come and learn a coaching tool and check-in coachy style. Each session unique. Come to one\, two or three groups. \n“Now\, more than ever\, the world needs you to follow your heart.” -Martha Beck \n“I will not rescue you\, for you are not powerless. I will not fix you\, for you are not broken. I will not heal you\, for I see you\, in your wholeness. I will walk with you through the darkness\, as you remember your light.” – A Medicine Person’s Prayer⁠ \n 
URL:https://embodyingrhythm.com/event/life-coach-skills-meet-up-with-arlyn-alderdice/
LOCATION:TLC Hearth\, 138 Grand Ave\, Paonia\, CO\, 81428\, United States
CATEGORIES:Arlyn Alderdice,Workshops and classes
END:VEVENT
END:VCALENDAR