BEGIN:VCALENDAR
VERSION:2.0
PRODID:-//Embodying Rhythm - ECPv6.15.20//NONSGML v1.0//EN
CALSCALE:GREGORIAN
METHOD:PUBLISH
X-WR-CALNAME:Embodying Rhythm
X-ORIGINAL-URL:https://embodyingrhythm.com
X-WR-CALDESC:Events for Embodying Rhythm
REFRESH-INTERVAL;VALUE=DURATION:PT1H
X-Robots-Tag:noindex
X-PUBLISHED-TTL:PT1H
BEGIN:VTIMEZONE
TZID:America/Denver
BEGIN:DAYLIGHT
TZOFFSETFROM:-0700
TZOFFSETTO:-0600
TZNAME:MDT
DTSTART:20240310T090000
END:DAYLIGHT
BEGIN:STANDARD
TZOFFSETFROM:-0600
TZOFFSETTO:-0700
TZNAME:MST
DTSTART:20241103T080000
END:STANDARD
BEGIN:DAYLIGHT
TZOFFSETFROM:-0700
TZOFFSETTO:-0600
TZNAME:MDT
DTSTART:20250309T090000
END:DAYLIGHT
BEGIN:STANDARD
TZOFFSETFROM:-0600
TZOFFSETTO:-0700
TZNAME:MST
DTSTART:20251102T080000
END:STANDARD
BEGIN:DAYLIGHT
TZOFFSETFROM:-0700
TZOFFSETTO:-0600
TZNAME:MDT
DTSTART:20260308T090000
END:DAYLIGHT
BEGIN:STANDARD
TZOFFSETFROM:-0600
TZOFFSETTO:-0700
TZNAME:MST
DTSTART:20261101T080000
END:STANDARD
END:VTIMEZONE
BEGIN:VEVENT
DTSTART;TZID=America/Denver:20250605T150000
DTEND;TZID=America/Denver:20250605T170000
DTSTAMP:20260422T181740
CREATED:20250512T185209Z
LAST-MODIFIED:20250512T185209Z
UID:10663-1749135600-1749142800@embodyingrhythm.com
SUMMARY:Frame Drum Workshop
DESCRIPTION:all experience levels welcome\ndrums available for use \nThis is a co-ed educational workshop experience taught by David and Arlyn Alderdice. We will go over some sounds and techniques and playing styles as well as different traditional and modern grooves and rhythms as well as improvisational tips. It’s a great way to deepen the\nrelationship to rhythm and the frame drum and is designed to meet each player where they are at in the frame drum journey from beginner to advanced. \n  \n3-5pm on the first Thursday of the summer months\, June 5th ~ July 3rd ~ August 7th \nRegistration & Information: 970- 2 94- 93 93    admin @  embodying rhythm.com \nlocated at the Embodying Rhythm Teaching Studio East of Hotchkiss\, address and directions available upon registration
URL:https://embodyingrhythm.com/event/frame-drum-workshop/
LOCATION:CO
CATEGORIES:Arlyn Alderdice,Workshops and classes
END:VEVENT
BEGIN:VEVENT
DTSTART;TZID=America/Denver:20250607T103000
DTEND;TZID=America/Denver:20250607T123000
DTSTAMP:20260422T181740
CREATED:20250529T193643Z
LAST-MODIFIED:20250529T193643Z
UID:10694-1749292200-1749299400@embodyingrhythm.com
SUMMARY:Solkattu Workshop with the Alderdices\, Hotchkiss\, CO
DESCRIPTION:Solkattu is a rhythmic tradition from Southern India. \nIn this workshop we’ll learn to quickly embody different rhythmic patterns in a fun group class. \nwith David and Arlyn Alderdice at the Embodying Rhythm Teaching Studio outside Hotchkiss\, CO \nregistration and information : 970-  29 4 – 9393 \nor via contact 
URL:https://embodyingrhythm.com/event/solkattu-workshop-with-the-alderdices-hotchkiss-co/
LOCATION:CO
CATEGORIES:Arlyn Alderdice,Workshops and classes
END:VEVENT
BEGIN:VEVENT
DTSTART;TZID=America/Denver:20250613T130000
DTEND;TZID=America/Denver:20250613T150000
DTSTAMP:20260422T181740
CREATED:20250529T193210Z
LAST-MODIFIED:20250529T193210Z
UID:10691-1749819600-1749826800@embodyingrhythm.com
SUMMARY:Marimba Workshop with the Alderdices Hotchkiss\, CO
DESCRIPTION:This fun polyphonic ensemble music is easy to learn and fun to play. \nJoin us for an exciting workshop opportunity. \nJune 13th\, 1-3pm at the Embodying Rhythm Teaching Studio just outside Hotchkiss\, CO \nFor information and registration 970 – 29 4 – 9393 \n$20 \nGeared for adults\, ages 11+ welcome with an accompanying adult
URL:https://embodyingrhythm.com/event/marimba-workshop-with-the-alderdices-hotchkiss-co/
LOCATION:CO
CATEGORIES:Arlyn Alderdice,Workshops and classes
END:VEVENT
BEGIN:VEVENT
DTSTART;TZID=America/Denver:20250614T100000
DTEND;TZID=America/Denver:20250614T120000
DTSTAMP:20260422T181740
CREATED:20250519T015834Z
LAST-MODIFIED:20250519T015834Z
UID:10684-1749895200-1749902400@embodyingrhythm.com
SUMMARY:Honoring and Healing with The Father workshop with Arlyn & Katie
DESCRIPTION:“Honoring and Healing with The Father”\na movement and sound healing workshop\nWith Arlyn Alderdice and Katie Snyder\nThis Father’s Day weekend\, Saturday June 14th from 10-noon at the Opaloka\nOpen to every body\, no prior experience necessary. \nSliding scale $20-$40\, no pre-registration required\, but please arrive at 9:45am so we can have our full journey together! \nThrough community\, gentle movement and a sound healing journey we will honor the Father in his various forms: Father Sky\, our physical human Father\, the Father within each of us\, and the Great Father who holds us all. Our full range of feelings are welcome from anger to celebration as we offer ourselves to greater healing and wholeness with the masculine. \nThe Opaloka is at 39675 Panorama Rd\, Paonia (but maps take you too far). Parking in the field before the red address sign. Walk up to the Opaloka from the field.
URL:https://embodyingrhythm.com/event/honoring-and-healing-with-the-father-workshop-with-arlyn-katie/
LOCATION:CO
CATEGORIES:Arlyn Alderdice,Workshops and classes
END:VEVENT
BEGIN:VEVENT
DTSTART;TZID=America/Denver:20250620T090000
DTEND;TZID=America/Denver:20250620T100000
DTSTAMP:20260422T181740
CREATED:20250414T011401Z
LAST-MODIFIED:20250615T230409Z
UID:10632-1750410000-1750413600@embodyingrhythm.com
SUMMARY:Movement as Medicine (pre-recorded music) with Arlyn Alderdice in Paonia\, CO
DESCRIPTION:9am-10am at the Hearth. Let’s dance our way to Fully Being Aliveness! \nThis is a great conscious dance practice to return to again and again as we shake off the old and step into our best versions of ourselves.
URL:https://embodyingrhythm.com/event/movement-as-medicine-pre-recorded-music-with-arlyn-alderdice-in-paonia-co/
LOCATION:TLC Hearth\, 138 Grand Ave\, Paonia\, CO\, 81428\, United States
CATEGORIES:Arlyn Alderdice,Workshops and classes
ATTACH;FMTTYPE=image/jpeg:https://embodyingrhythm.com/wp-content/uploads/Friday-Movement-as-Medicine-fall-2024-2.jpg
END:VEVENT
END:VCALENDAR