BEGIN:VCALENDAR
VERSION:2.0
PRODID:-//Embodying Rhythm - ECPv6.15.20//NONSGML v1.0//EN
CALSCALE:GREGORIAN
METHOD:PUBLISH
X-WR-CALNAME:Embodying Rhythm
X-ORIGINAL-URL:https://embodyingrhythm.com
X-WR-CALDESC:Events for Embodying Rhythm
REFRESH-INTERVAL;VALUE=DURATION:PT1H
X-Robots-Tag:noindex
X-PUBLISHED-TTL:PT1H
BEGIN:VTIMEZONE
TZID:America/Denver
BEGIN:DAYLIGHT
TZOFFSETFROM:-0700
TZOFFSETTO:-0600
TZNAME:MDT
DTSTART:20240310T090000
END:DAYLIGHT
BEGIN:STANDARD
TZOFFSETFROM:-0600
TZOFFSETTO:-0700
TZNAME:MST
DTSTART:20241103T080000
END:STANDARD
BEGIN:DAYLIGHT
TZOFFSETFROM:-0700
TZOFFSETTO:-0600
TZNAME:MDT
DTSTART:20250309T090000
END:DAYLIGHT
BEGIN:STANDARD
TZOFFSETFROM:-0600
TZOFFSETTO:-0700
TZNAME:MST
DTSTART:20251102T080000
END:STANDARD
BEGIN:DAYLIGHT
TZOFFSETFROM:-0700
TZOFFSETTO:-0600
TZNAME:MDT
DTSTART:20260308T090000
END:DAYLIGHT
BEGIN:STANDARD
TZOFFSETFROM:-0600
TZOFFSETTO:-0700
TZNAME:MST
DTSTART:20261101T080000
END:STANDARD
END:VTIMEZONE
BEGIN:VEVENT
DTSTART;TZID=America/Denver:20250807T150000
DTEND;TZID=America/Denver:20250807T170000
DTSTAMP:20260422T052107
CREATED:20250512T185343Z
LAST-MODIFIED:20250512T185343Z
UID:10669-1754578800-1754586000@embodyingrhythm.com
SUMMARY:Frame Drum Workshop
DESCRIPTION:all experience levels welcome\ndrums available for use \nThis is a co-ed educational workshop experience taught by David and Arlyn Alderdice. We will go over some sounds and techniques and playing styles as well as different traditional and modern grooves and rhythms as well as improvisational tips. It’s a great way to deepen the\nrelationship to rhythm and the frame drum and is designed to meet each player where they are at in the frame drum journey from beginner to advanced. \n  \n3-5pm on the first Thursday of the summer months\, June 5th ~ July 3rd ~ August 7th \nRegistration & Information: 970- 2 94- 93 93    admin @  embodying rhythm.com \nlocated at the Embodying Rhythm Teaching Studio East of Hotchkiss\, address and directions available upon registration
URL:https://embodyingrhythm.com/event/frame-drum-workshop-3/
LOCATION:CO
CATEGORIES:Arlyn Alderdice,Workshops and classes
END:VEVENT
BEGIN:VEVENT
DTSTART;TZID=America/Denver:20250809T143000
DTEND;TZID=America/Denver:20250809T153000
DTSTAMP:20260422T052107
CREATED:20250807T022706Z
LAST-MODIFIED:20250807T022706Z
UID:10719-1754749800-1754753400@embodyingrhythm.com
SUMMARY:Mama Lingua in Marble\, CO
DESCRIPTION:as part of MarbleFest!
URL:https://embodyingrhythm.com/event/mama-lingua-in-marble-co/
LOCATION:CO
CATEGORIES:Arlyn Alderdice,Performance
END:VEVENT
BEGIN:VEVENT
DTSTART;TZID=America/Denver:20250818T141500
DTEND;TZID=America/Denver:20250818T151500
DTSTAMP:20260422T052107
CREATED:20250807T022536Z
LAST-MODIFIED:20250807T022546Z
UID:10717-1755526500-1755530100@embodyingrhythm.com
SUMMARY:Presencing Practicing with Arlyn Alderdice
DESCRIPTION:In essence this will be Group Life-Coaching (empowering individuals to live more fulfilling lives). \nThe practices will be different each week. \nBring a journal. We will practice meeting ourselves and the moment together. \n$16 drop-in\, or $36 for 3 classes
URL:https://embodyingrhythm.com/event/presencing-practicing-with-arlyn-alderdice/
LOCATION:Opaloka\, 39675 Panorama Rd\, Paonia\, 81428\, United States
CATEGORIES:Arlyn Alderdice,Workshops and classes
END:VEVENT
BEGIN:VEVENT
DTSTART;TZID=America/Denver:20250824T093000
DTEND;TZID=America/Denver:20250824T123000
DTSTAMP:20260422T052107
CREATED:20250807T023725Z
LAST-MODIFIED:20250807T023725Z
UID:10725-1756027800-1756038600@embodyingrhythm.com
SUMMARY:Deeper Dance -- A weekend Practice with Arlyn in Paonia\, CO
DESCRIPTION:Curious what would happen if we just kept dancing? A deeper dance! \nYou’ll recognize the practice and more can be revealed if we just keep going. Benefits like improved resilience\, breaking through limitations\, and increased self-acceptance. \nSee what it is for you\, join us for a deeper dance!
URL:https://embodyingrhythm.com/event/deeper-dance-a-weekend-practice-with-arlyn-in-paonia-co/
LOCATION:TLC Hearth\, 138 Grand Ave\, Paonia\, CO\, 81428\, United States
CATEGORIES:Arlyn Alderdice,Workshops and classes
END:VEVENT
BEGIN:VEVENT
DTSTART;TZID=America/Denver:20250829T090000
DTEND;TZID=America/Denver:20250829T100000
DTSTAMP:20260422T052107
CREATED:20250615T230645Z
LAST-MODIFIED:20250827T151745Z
UID:10702-1756458000-1756461600@embodyingrhythm.com
SUMMARY:Movement as Medicine\, Prerecorded Music
DESCRIPTION:9am-10am at the Hearth. Let’s dance our way to Fully Being Aliveness! \nThis is a great conscious dance practice to return to again and again as we shake off the old and step into our best versions of ourselves.
URL:https://embodyingrhythm.com/event/movement-as-medicine-prerecorded-music-sub-rose-costello/
LOCATION:CO
CATEGORIES:Arlyn Alderdice,Workshops and classes
ATTACH;FMTTYPE=image/jpeg:https://embodyingrhythm.com/wp-content/uploads/Frida-Move-Med-summer.jpg
END:VEVENT
END:VCALENDAR