BEGIN:VCALENDAR
VERSION:2.0
PRODID:-//Embodying Rhythm - ECPv6.15.20//NONSGML v1.0//EN
CALSCALE:GREGORIAN
METHOD:PUBLISH
X-ORIGINAL-URL:https://embodyingrhythm.com
X-WR-CALDESC:Events for Embodying Rhythm
REFRESH-INTERVAL;VALUE=DURATION:PT1H
X-Robots-Tag:noindex
X-PUBLISHED-TTL:PT1H
BEGIN:VTIMEZONE
TZID:America/Denver
BEGIN:DAYLIGHT
TZOFFSETFROM:-0700
TZOFFSETTO:-0600
TZNAME:MDT
DTSTART:20240310T090000
END:DAYLIGHT
BEGIN:STANDARD
TZOFFSETFROM:-0600
TZOFFSETTO:-0700
TZNAME:MST
DTSTART:20241103T080000
END:STANDARD
BEGIN:DAYLIGHT
TZOFFSETFROM:-0700
TZOFFSETTO:-0600
TZNAME:MDT
DTSTART:20250309T090000
END:DAYLIGHT
BEGIN:STANDARD
TZOFFSETFROM:-0600
TZOFFSETTO:-0700
TZNAME:MST
DTSTART:20251102T080000
END:STANDARD
BEGIN:DAYLIGHT
TZOFFSETFROM:-0700
TZOFFSETTO:-0600
TZNAME:MDT
DTSTART:20260308T090000
END:DAYLIGHT
BEGIN:STANDARD
TZOFFSETFROM:-0600
TZOFFSETTO:-0700
TZNAME:MST
DTSTART:20261101T080000
END:STANDARD
END:VTIMEZONE
BEGIN:VEVENT
DTSTART;TZID=America/Denver:20250915T141500
DTEND;TZID=America/Denver:20250915T151500
DTSTAMP:20260422T221539
CREATED:20250615T231242Z
LAST-MODIFIED:20250910T183908Z
UID:10705-1757945700-1757949300@embodyingrhythm.com
SUMMARY:Presencing Practicing with Arlyn Alderdice at the Opaloka in Paonia\, CO
DESCRIPTION:In essence this will be Group Life-Coaching (empowering individuals to live more fulfilling lives). \nThe practices will be different each week. \nBring a journal. We will practice meeting ourselves and the moment together. \n$16 drop-in\, or $36 for 3 classes\, or $45 for 4 \nSept. 15 working with opposites with Internal Family Systems \nSept. 22 Action and Commitment Therapy tools \nSept. 29 internal contract burning\, guided visualization \n 
URL:https://embodyingrhythm.com/event/presencing-practicing-with-arlyn-alderdice-at-the-opaloka-in-paonia-co/
LOCATION:Opaloka\, 39675 Panorama Rd\, Paonia\, 81428\, United States
CATEGORIES:Arlyn Alderdice,Workshops and classes
END:VEVENT
BEGIN:VEVENT
DTSTART;TZID=America/Denver:20250917T103000
DTEND;TZID=America/Denver:20250917T113000
DTSTAMP:20260422T221539
CREATED:20250807T024225Z
LAST-MODIFIED:20250910T184241Z
UID:10729-1758105000-1758108600@embodyingrhythm.com
SUMMARY:Women's Movement as Medicine with Arlyn in Paonia
DESCRIPTION:Women\, let’s gather and dance together! \nHealing comes in many forms and many layers and for me\, dance is a pathway and a practice. I hope you’ll join us to tap into your body wisdom and full being aliveness! \n  \nDance when you’re broken open.\nDance when you’ve torn the bandage off.\nDance in the middle of fighting.\nDance in your blood.\nDance when you’re perfectly free. \n-Rumi
URL:https://embodyingrhythm.com/event/womens-movement-as-medicine-with-arlyn-in-paonia/
LOCATION:Paonia Laundromat\, 604 2nd St\, Paonia\, CO\, United States
CATEGORIES:Arlyn Alderdice,Workshops and classes
END:VEVENT
BEGIN:VEVENT
DTSTART;TZID=America/Denver:20250919T090000
DTEND;TZID=America/Denver:20250919T100000
DTSTAMP:20260422T221539
CREATED:20250910T184805Z
LAST-MODIFIED:20250910T184805Z
UID:10776-1758272400-1758276000@embodyingrhythm.com
SUMMARY:Friday Morning Dance with Arlyn Alderdice in Paonia\, CO
DESCRIPTION:A sweet community practice. Let’s dance our way home to ourselves! \n9-10am at the Hearth in Paonia every Friday. \nWe’ve been dancing on Friday mornings for three years now\, every week\, very occasionally with a substitute\, but the river of the Friday practice continues. Some days it’s deep\, transformative\, profound and some days it’s a bit of exercise and self-expression. Either way\, we keep practicing\, we keep dancing.
URL:https://embodyingrhythm.com/event/friday-morning-dance-with-arlyn-alderdice-in-paonia-co/
LOCATION:TLC Hearth\, 138 Grand Ave\, Paonia\, CO\, 81428\, United States
CATEGORIES:Arlyn Alderdice,Workshops and classes
END:VEVENT
BEGIN:VEVENT
DTSTART;TZID=America/Denver:20250928T153000
DTEND;TZID=America/Denver:20250928T170000
DTSTAMP:20260422T221539
CREATED:20250818T011222Z
LAST-MODIFIED:20250818T011222Z
UID:10737-1759073400-1759078800@embodyingrhythm.com
SUMMARY:Mama Lingua at Mountain Harvest Festival in Paonia\, CO
DESCRIPTION:We’re looking forward to some Sunday afternoon music! \nhttps://mountainharvestfestival.org/
URL:https://embodyingrhythm.com/event/mama-lingua-at-mountain-harvest-festival-in-paonia-co/
LOCATION:Paonia Town Park\, United States
CATEGORIES:Arlyn Alderdice,Performance
ATTACH;FMTTYPE=image/jpeg:https://embodyingrhythm.com/wp-content/uploads/Web-Mama-Lingua-2025-MHF.jpg
END:VEVENT
BEGIN:VEVENT
DTSTART;TZID=America/Denver:20251004T120000
DTEND;TZID=America/Denver:20251004T160000
DTSTAMP:20260422T221539
CREATED:20250807T022939Z
LAST-MODIFIED:20250807T022939Z
UID:10721-1759579200-1759593600@embodyingrhythm.com
SUMMARY:Mama Lingua at Fall Festival in Mt. Crested Butte
DESCRIPTION:Join us for a fun day for the whole family.
URL:https://embodyingrhythm.com/event/mama-lingua-at-fall-festival-in-mt-crested-butte/
CATEGORIES:Arlyn Alderdice,Performance
END:VEVENT
BEGIN:VEVENT
DTSTART;TZID=America/Denver:20251030T140000
DTEND;TZID=America/Denver:20251030T153000
DTSTAMP:20260422T221539
CREATED:20250826T224623Z
LAST-MODIFIED:20250921T194019Z
UID:10744-1761832800-1761838200@embodyingrhythm.com
SUMMARY:Frame Drum Class with David and Arlyn Alderdice
DESCRIPTION:Start or continue your frame drum journey. \n  \nPlease rsvp to 970- 29 4-93 93 for directions and more information.
URL:https://embodyingrhythm.com/event/frame-drum-class-with-david-and-arlyn-alderdie/
CATEGORIES:Arlyn Alderdice,Workshops and classes
ATTACH;FMTTYPE=image/jpeg:https://embodyingrhythm.com/wp-content/uploads/pile-of-drums.jpg
END:VEVENT
END:VCALENDAR