BEGIN:VCALENDAR
VERSION:2.0
PRODID:-//Embodying Rhythm - ECPv6.15.20//NONSGML v1.0//EN
CALSCALE:GREGORIAN
METHOD:PUBLISH
X-WR-CALNAME:Embodying Rhythm
X-ORIGINAL-URL:https://embodyingrhythm.com
X-WR-CALDESC:Events for Embodying Rhythm
REFRESH-INTERVAL;VALUE=DURATION:PT1H
X-Robots-Tag:noindex
X-PUBLISHED-TTL:PT1H
BEGIN:VTIMEZONE
TZID:America/Denver
BEGIN:DAYLIGHT
TZOFFSETFROM:-0700
TZOFFSETTO:-0600
TZNAME:MDT
DTSTART:20240310T090000
END:DAYLIGHT
BEGIN:STANDARD
TZOFFSETFROM:-0600
TZOFFSETTO:-0700
TZNAME:MST
DTSTART:20241103T080000
END:STANDARD
BEGIN:DAYLIGHT
TZOFFSETFROM:-0700
TZOFFSETTO:-0600
TZNAME:MDT
DTSTART:20250309T090000
END:DAYLIGHT
BEGIN:STANDARD
TZOFFSETFROM:-0600
TZOFFSETTO:-0700
TZNAME:MST
DTSTART:20251102T080000
END:STANDARD
BEGIN:DAYLIGHT
TZOFFSETFROM:-0700
TZOFFSETTO:-0600
TZNAME:MDT
DTSTART:20260308T090000
END:DAYLIGHT
BEGIN:STANDARD
TZOFFSETFROM:-0600
TZOFFSETTO:-0700
TZNAME:MST
DTSTART:20261101T080000
END:STANDARD
END:VTIMEZONE
BEGIN:VEVENT
DTSTART;TZID=America/Denver:20250618T180000
DTEND;TZID=America/Denver:20250618T210000
DTSTAMP:20260424T060731
CREATED:20250530T183115Z
LAST-MODIFIED:20250530T183115Z
UID:10697-1750269600-1750280400@embodyingrhythm.com
SUMMARY:David Alderdice with Polka Poyo in Almont\, CO
DESCRIPTION:The Pavillion Dance Series in Almont\, CO.\n\nTickets for The Pavillion Dance Series\n\nDavid Alderdice on drums\, Jon Hickam on accordion\, Jeannette Carey on Sousaphone and Tony Peters on horns.\n\nDance lesson 6-7pm live music 7:30-9pm
URL:https://embodyingrhythm.com/event/david-alderdice-with-polka-poyo-in-almont-co/
CATEGORIES:David Performance,Workshops and classes
ATTACH;FMTTYPE=image/jpeg:https://embodyingrhythm.com/wp-content/uploads/11845058_10153659404994131_1845105270077424836_o-1.jpg
END:VEVENT
END:VCALENDAR