BEGIN:VCALENDAR
VERSION:2.0
PRODID:-//Embodying Rhythm - ECPv6.15.20//NONSGML v1.0//EN
CALSCALE:GREGORIAN
METHOD:PUBLISH
X-ORIGINAL-URL:https://embodyingrhythm.com
X-WR-CALDESC:Events for Embodying Rhythm
REFRESH-INTERVAL;VALUE=DURATION:PT1H
X-Robots-Tag:noindex
X-PUBLISHED-TTL:PT1H
BEGIN:VTIMEZONE
TZID:America/Denver
BEGIN:DAYLIGHT
TZOFFSETFROM:-0700
TZOFFSETTO:-0600
TZNAME:MDT
DTSTART:20210314T090000
END:DAYLIGHT
BEGIN:STANDARD
TZOFFSETFROM:-0600
TZOFFSETTO:-0700
TZNAME:MST
DTSTART:20211107T080000
END:STANDARD
BEGIN:DAYLIGHT
TZOFFSETFROM:-0700
TZOFFSETTO:-0600
TZNAME:MDT
DTSTART:20220313T090000
END:DAYLIGHT
BEGIN:STANDARD
TZOFFSETFROM:-0600
TZOFFSETTO:-0700
TZNAME:MST
DTSTART:20221106T080000
END:STANDARD
BEGIN:DAYLIGHT
TZOFFSETFROM:-0700
TZOFFSETTO:-0600
TZNAME:MDT
DTSTART:20230312T090000
END:DAYLIGHT
BEGIN:STANDARD
TZOFFSETFROM:-0600
TZOFFSETTO:-0700
TZNAME:MST
DTSTART:20231105T080000
END:STANDARD
BEGIN:DAYLIGHT
TZOFFSETFROM:-0700
TZOFFSETTO:-0600
TZNAME:MDT
DTSTART:20240310T090000
END:DAYLIGHT
BEGIN:STANDARD
TZOFFSETFROM:-0600
TZOFFSETTO:-0700
TZNAME:MST
DTSTART:20241103T080000
END:STANDARD
BEGIN:DAYLIGHT
TZOFFSETFROM:-0700
TZOFFSETTO:-0600
TZNAME:MDT
DTSTART:20250309T090000
END:DAYLIGHT
BEGIN:STANDARD
TZOFFSETFROM:-0600
TZOFFSETTO:-0700
TZNAME:MST
DTSTART:20251102T080000
END:STANDARD
END:VTIMEZONE
BEGIN:VEVENT
DTSTART;TZID=America/Denver:20240927T180000
DTEND;TZID=America/Denver:20240927T183000
DTSTAMP:20260424T014156
CREATED:20240924T145217Z
LAST-MODIFIED:20240924T145611Z
UID:10351-1727460000-1727461800@embodyingrhythm.com
SUMMARY:NFV Community & Parade Band in Paonia\, CO
DESCRIPTION:as part of the Mountain Harvest Festival. \n6pm downtown! \nCommunity Band
URL:https://embodyingrhythm.com/event/nfv-community-parade-band-in-paonia-co/
CATEGORIES:David Performance,Performance
END:VEVENT
BEGIN:VEVENT
DTSTART;TZID=America/Denver:20240211T143000
DTEND;TZID=America/Denver:20240211T170000
DTSTAMP:20260424T014156
CREATED:20231218T161659Z
LAST-MODIFIED:20240125T200455Z
UID:10113-1707661800-1707670800@embodyingrhythm.com
SUMMARY:NFV Community Band at the Paradise in Paonia
DESCRIPTION:Join us for an evening of swing\, funk and fun! \n2pm doors \n2:30pm swing lesson with Morgan MacInnis \n3:30pm live music \ntickets \nvideos
URL:https://embodyingrhythm.com/event/nfv-community-band-at-the-paradise-in-paonia/
LOCATION:Paradise Theater\, United States
CATEGORIES:David Performance,Performance
END:VEVENT
BEGIN:VEVENT
DTSTART;TZID=America/Denver:20240204T110000
DTEND;TZID=America/Denver:20240204T123000
DTSTAMP:20260424T014156
CREATED:20240104T193153Z
LAST-MODIFIED:20240104T193217Z
UID:10131-1707044400-1707049800@embodyingrhythm.com
SUMMARY:Movement as Medicine with Live Music in Paonia\, CO
DESCRIPTION:First Sunday of the month. \nMovement As Medicine – An Experiential Dance Practice\nAccompanied by Responsive Live Music\n11am-12:30pmAt the Hearth\, 138 Grand Ave. Paonia\n\nFacilitated by Arlyn Alderdice\nWith live music by David Alderdice\, Daniel B\, and Eric Baumheier\nReceive wisdom from the body while inviting\ninternal connection\, nourishment\, strength and vitality\nas we dance our way home to ourselves.\nYour unique dance is the teacher\, there are no steps to learn.\n\nchildcare available on-site\n\nSuggested donation $20-$35 (work-trade available\, please inquire) \nBrought to you by The Learning Council and Embodying Rhythm\nmore information www.embodyingrhythm.com/dance
URL:https://embodyingrhythm.com/event/movement-as-medicine-with-live-music-in-paonia-co/
LOCATION:TLC Hearth\, 138 Grand Ave\, Paonia\, CO\, 81428\, United States
CATEGORIES:Arlyn Alderdice,David Performance,Performance
END:VEVENT
BEGIN:VEVENT
DTSTART;TZID=America/Denver:20231117T190000
DTEND;TZID=America/Denver:20231117T210000
DTSTAMP:20260424T014156
CREATED:20230821T191232Z
LAST-MODIFIED:20230821T191232Z
UID:9988-1700247600-1700254800@embodyingrhythm.com
SUMMARY:Embodying Rhythm Collective & Mama Lingua in Cedaredge\, CO
DESCRIPTION:Nov 17\, 7:00 PM – 9:00 PM \nGrand Mesa Arts & Events Center\, 195 W Main St\, Cedaredge\, CO \nhttps://www.gmaec.org/event-details/the-embodying-rhythm-collective-mama-lingua \n  \nThe Embodying Rhythm Collective & Mama Lingua present an eclectic acoustic concert event featuring – Arlyn Alderdice\, David Alderdice\, Sami Akert\, Daniel Be\, Jeannette Carey\, Tony Peters\, Chelsie Taylor\, & Chloe Watkins. \nJoin us for an intimate musical journey featuring traditional and modern music from around the world as well as original music from the North Fork Valley. All the musicians are well-versed multi-instrumentalists\, so you will hear many different tone colors and musical textures through the sounds of singing (including three part harmonies)\, strings (including fiddle\, cello\, guitar\, electric bass and mandolin)\, woodwinds (including clarinet\, melodica\, alto saxophone\, tenor saxophone and flute)\, brass (including trumpet\, trombone and sousaphone) and pitched as well as unpitched percussion (including drum set\, hand drums\, shakers and different sized wooden marimbas).
URL:https://embodyingrhythm.com/event/embodying-rhythm-collective-mama-lingua-in-cedaredge-co/
CATEGORIES:Arlyn Alderdice,David Performance,Mama Lingua,Performance
END:VEVENT
BEGIN:VEVENT
DTSTART;TZID=America/Denver:20231005T180000
DTEND;TZID=America/Denver:20231005T190000
DTSTAMP:20260424T014156
CREATED:20230927T032343Z
LAST-MODIFIED:20230927T032343Z
UID:10047-1696528800-1696532400@embodyingrhythm.com
SUMMARY:David Alderdice with CTB in Crested Butte\, CO
DESCRIPTION:A culmination of Celebrate the Beat kid’s dance in Crested Butte\, CO
URL:https://embodyingrhythm.com/event/david-alderdice-with-ctb-in-crested-butte-co-2/
LOCATION:Crested Butte Community School\, 818 Red Lady Ave\, Crested Butte\, United States
CATEGORIES:David Performance,Performance
ATTACH;FMTTYPE=image/jpeg:https://embodyingrhythm.com/wp-content/uploads/463_ctb-1.jpg
END:VEVENT
BEGIN:VEVENT
DTSTART;TZID=America/Denver:20230922T160000
DTEND;TZID=America/Denver:20230924T170000
DTSTAMP:20260424T014156
CREATED:20230817T174227Z
LAST-MODIFIED:20230918T201737Z
UID:9986-1695398400-1695574800@embodyingrhythm.com
SUMMARY:Mama Lingua and the NFV Community & Parade Band at Mountain Harvest Fest
DESCRIPTION:NFSIS school play 4pm on Friday \nMama Lingua 4pm on Saturday \nNFV Community Band 4:30pm on Sunday \nhttps://mountainharvestfestival.org/
URL:https://embodyingrhythm.com/event/mama-lingua-and-the-nfv-community-parade-band-at-mountain-harvest-fest/
LOCATION:Paonia Town Park\, United States
CATEGORIES:Arlyn Alderdice,David Performance,Mama Lingua,Performance
END:VEVENT
BEGIN:VEVENT
DTSTART;TZID=America/Denver:20230917T200000
DTEND;TZID=America/Denver:20230917T223000
DTSTAMP:20260424T014156
CREATED:20230817T174008Z
LAST-MODIFIED:20230906T181652Z
UID:9984-1694980800-1694989800@embodyingrhythm.com
SUMMARY:David Alderdice with Greg Schochet in Ridgeway\, CO
DESCRIPTION:SEP\n16\n\n\n\nGreg Schochet & Little America – Sherbino Theater\, Ridgway\, CO\n\nSaturday\, September 16\, 2023\n8:00 PM  11:00 PM\n\n\n\nHome
URL:https://embodyingrhythm.com/event/david-alderdice-with-greg-schochet-in-ridgeway-co/
CATEGORIES:David Performance,Performance
ATTACH;FMTTYPE=image/jpeg:https://embodyingrhythm.com/wp-content/uploads/VID_20220924_170620736_exported_14932.jpg
END:VEVENT
BEGIN:VEVENT
DTSTART;TZID=America/Denver:20230915T193000
DTEND;TZID=America/Denver:20230915T220000
DTSTAMP:20260424T014156
CREATED:20230817T173844Z
LAST-MODIFIED:20230906T184041Z
UID:9981-1694806200-1694815200@embodyingrhythm.com
SUMMARY:David Alderdice with Greg Schochet & Little America
DESCRIPTION:GREG SCHOCHET & LITTLE AMERICA – Free Live Music\nFriday\, September 15\, 2023\n7:30pm-10:00pm\nhttps://www.bigbs.com/
URL:https://embodyingrhythm.com/event/david-alderdice-with-greg-schochet-little-america/
LOCATION:Big B’s\, 39126 Highway 133\, Hotchkiss\, CO\, 81419\, United States
CATEGORIES:David Performance,Performance
ATTACH;FMTTYPE=image/jpeg:https://embodyingrhythm.com/wp-content/uploads/VID_20220924_170620736_exported_14932.jpg
END:VEVENT
BEGIN:VEVENT
DTSTART;TZID=America/Denver:20230519T193000
DTEND;TZID=America/Denver:20230519T213000
DTSTAMP:20260424T014156
CREATED:20230409T033153Z
LAST-MODIFIED:20230409T033153Z
UID:9898-1684524600-1684531800@embodyingrhythm.com
SUMMARY:Ruby Joyful with David Alderdice
DESCRIPTION:RJB is excited to announce two upcoming shows in May featuring two of the hottest names from the bluegrass world. We will be joined by Leftover Salmon’s Drew Emmitt on mandolin and Andy Thorn on the five string banjo. The show will also include RJB’s regular lineup which includes rising guitar picker Eli Emmitt and the talented percussionist David Alderdice. Come see us in Ridgway\, CO on Thursday night\, May 18th at 7:30 pm at the Sherbino Theater and in Paonia\, CO on Friday night\, May 19th at 7:30 pm at the Paradise Theater. These performances have been announced as a follow-up to the studio sessions we all collaborated on in February for the RJB upcoming album. \n  \ntickets
URL:https://embodyingrhythm.com/event/ruby-joyful-with-david-alderdice-2/
LOCATION:Paradise Theater\, United States
CATEGORIES:David Performance
ATTACH;FMTTYPE=image/webp:https://embodyingrhythm.com/wp-content/uploads/rjb-1-with-drew-and-andy-front.webp
END:VEVENT
BEGIN:VEVENT
DTSTART;TZID=America/Denver:20230518T193000
DTEND;TZID=America/Denver:20230518T213000
DTSTAMP:20260424T014156
CREATED:20230409T032850Z
LAST-MODIFIED:20230409T032850Z
UID:9895-1684438200-1684445400@embodyingrhythm.com
SUMMARY:Ruby Joyful with David Alderdice
DESCRIPTION:RJB is excited to announce two upcoming shows in May featuring two of the hottest names from the bluegrass world. We will be joined by Leftover Salmon’s Drew Emmitt on mandolin and Andy Thorn on the five string banjo. The show will also include RJB’s regular lineup which includes rising guitar picker Eli Emmitt and the talented percussionist David Alderdice. Come see us in Ridgway\, CO on Thursday night\, May 18th at 7:30 pm at the Sherbino Theater and in Paonia\, CO on Friday night\, May 19th at 7:30 pm at the Paradise Theater. These performances have been announced as a follow-up to the studio sessions we all collaborated on in February for the RJB upcoming album.
URL:https://embodyingrhythm.com/event/ruby-joyful-with-david-alderdice/
LOCATION:Sherbino Theater\, United States
CATEGORIES:David Performance
END:VEVENT
BEGIN:VEVENT
DTSTART;TZID=America/Denver:20230422T190000
DTEND;TZID=America/Denver:20230422T203000
DTSTAMP:20260424T014156
CREATED:20230301T043907Z
LAST-MODIFIED:20230301T043907Z
UID:9864-1682190000-1682195400@embodyingrhythm.com
SUMMARY:Silent Film: The Adventures of Prince Achmed with live music
DESCRIPTION:Silent Film: The Adventures of Prince Achmed\nwith Live Musical Accompaniment featuring David Alderdice\, Ben Bentele\, Daniel Be & Cait Pope\nSaturday\, April 22nd at the Paradise Theatre\, Paonia
URL:https://embodyingrhythm.com/event/silent-film-the-adventures-of-prince-achmed-with-live-music/
LOCATION:Paradise Theater\, United States
CATEGORIES:David Performance,Performance
END:VEVENT
BEGIN:VEVENT
DTSTART;TZID=America/Denver:20230304T183000
DTEND;TZID=America/Denver:20230304T210000
DTSTAMP:20260424T014156
CREATED:20230301T043226Z
LAST-MODIFIED:20230301T043226Z
UID:9859-1677954600-1677963600@embodyingrhythm.com
SUMMARY:Coop and Friends with David Alderdice
DESCRIPTION:Coop & Company originals and music for the Soul w/ Greg Cooperman\, Tony Peters\, Daniel Be\, David Alderdice\nSaturday\, March 4\n6:30pm at the Creamery in Hotchkiss
URL:https://embodyingrhythm.com/event/coop-and-friends-with-david-alderdice/
LOCATION:Creamery Arts Center\, United States
CATEGORIES:David Performance,Performance
END:VEVENT
BEGIN:VEVENT
DTSTART;TZID=America/Denver:20230202T193000
DTEND;TZID=America/Denver:20230202T213000
DTSTAMP:20260424T014156
CREATED:20230129T183450Z
LAST-MODIFIED:20230129T183450Z
UID:9817-1675366200-1675373400@embodyingrhythm.com
SUMMARY:RubyJoyful with David Alderdice & members of Leftover Salmon
DESCRIPTION:@ Steve’s Guitar’s in Carbondale \nDan Rubinoff\, Joice Moore\, David Alderdice\nWith Special Guests\nDrew Emmitt & Andy Thorn \nDoors @ 7:30\, Show @ 8Pm\nTix $25 Ga.\, $35 Front Row \nhttps://www.eventbrite.com/e/ruby-joyful-with-special-guest-drew-emmitt-and-andy-thorn-tickets-516408671237 \nmore info: rubyjoyfulband.com
URL:https://embodyingrhythm.com/event/rubyjoyful-with-david-alderdice-members-of-leftover-salmon/
LOCATION:Steve’s Guitars\, United States
CATEGORIES:David Performance,Performance
ATTACH;FMTTYPE=image/jpeg:https://embodyingrhythm.com/wp-content/uploads/David_photo-1.jpg
END:VEVENT
BEGIN:VEVENT
DTSTART;TZID=America/Denver:20221218T190000
DTEND;TZID=America/Denver:20221218T220000
DTSTAMP:20260424T014156
CREATED:20221122T023307Z
LAST-MODIFIED:20221122T034530Z
UID:9735-1671390000-1671400800@embodyingrhythm.com
SUMMARY:Dark Night with Craig Childs\, David Alderdice percussion
DESCRIPTION:in Norwood\, CO
URL:https://embodyingrhythm.com/event/dark-night-with-craig-childs-david-alderdice-percussion/
CATEGORIES:David Performance
ATTACH;FMTTYPE=image/jpeg:https://embodyingrhythm.com/wp-content/uploads/craig-childs-dark-night-w-d-1.jpg
END:VEVENT
BEGIN:VEVENT
DTSTART;TZID=America/Denver:20221217T190000
DTEND;TZID=America/Denver:20221217T220000
DTSTAMP:20260424T014156
CREATED:20221122T022538Z
LAST-MODIFIED:20221122T034556Z
UID:9732-1671303600-1671314400@embodyingrhythm.com
SUMMARY:Dark Night with Craig Childs\, with David Alderdice on Percussion
DESCRIPTION:Craig Childs’ much loved spoken word and audiovisual extravaganza\, Dark Night\, returns to Paonia’s Paradise Theater on December 16 and 17. More info coming.
URL:https://embodyingrhythm.com/event/dark-night-with-craig-childs-with-david-alderdice-on-percussion/
LOCATION:Paradise Theater\, United States
CATEGORIES:David Performance
END:VEVENT
BEGIN:VEVENT
DTSTART;TZID=America/Denver:20221216T190000
DTEND;TZID=America/Denver:20221216T230000
DTSTAMP:20260424T014156
CREATED:20221025T155458Z
LAST-MODIFIED:20221122T034620Z
UID:9712-1671217200-1671231600@embodyingrhythm.com
SUMMARY:Dark Night with Craig Childs\, David Alderdice on percussion
DESCRIPTION:Craig Childs’ much loved spoken word and audiovisual extravaganza\, Dark Night\, returns to Paonia’s Paradise Theater on December 16 and 17. More info coming.
URL:https://embodyingrhythm.com/event/dark-night-with-craig-childs-david-alderdice-on-percussion/
LOCATION:Paradise Theater\, United States
CATEGORIES:David Performance
ATTACH;FMTTYPE=image/jpeg:https://embodyingrhythm.com/wp-content/uploads/craig-childs.jpg
END:VEVENT
END:VCALENDAR