BEGIN:VCALENDAR
VERSION:2.0
PRODID:-//Embodying Rhythm - ECPv6.15.20//NONSGML v1.0//EN
CALSCALE:GREGORIAN
METHOD:PUBLISH
X-ORIGINAL-URL:https://embodyingrhythm.com
X-WR-CALDESC:Events for Embodying Rhythm
REFRESH-INTERVAL;VALUE=DURATION:PT1H
X-Robots-Tag:noindex
X-PUBLISHED-TTL:PT1H
BEGIN:VTIMEZONE
TZID:America/Denver
BEGIN:DAYLIGHT
TZOFFSETFROM:-0700
TZOFFSETTO:-0600
TZNAME:MDT
DTSTART:20210314T090000
END:DAYLIGHT
BEGIN:STANDARD
TZOFFSETFROM:-0600
TZOFFSETTO:-0700
TZNAME:MST
DTSTART:20211107T080000
END:STANDARD
BEGIN:DAYLIGHT
TZOFFSETFROM:-0700
TZOFFSETTO:-0600
TZNAME:MDT
DTSTART:20220313T090000
END:DAYLIGHT
BEGIN:STANDARD
TZOFFSETFROM:-0600
TZOFFSETTO:-0700
TZNAME:MST
DTSTART:20221106T080000
END:STANDARD
BEGIN:DAYLIGHT
TZOFFSETFROM:-0700
TZOFFSETTO:-0600
TZNAME:MDT
DTSTART:20230312T090000
END:DAYLIGHT
BEGIN:STANDARD
TZOFFSETFROM:-0600
TZOFFSETTO:-0700
TZNAME:MST
DTSTART:20231105T080000
END:STANDARD
BEGIN:DAYLIGHT
TZOFFSETFROM:-0700
TZOFFSETTO:-0600
TZNAME:MDT
DTSTART:20240310T090000
END:DAYLIGHT
BEGIN:STANDARD
TZOFFSETFROM:-0600
TZOFFSETTO:-0700
TZNAME:MST
DTSTART:20241103T080000
END:STANDARD
END:VTIMEZONE
BEGIN:VEVENT
DTSTART;TZID=America/Denver:20230202T193000
DTEND;TZID=America/Denver:20230202T213000
DTSTAMP:20260424T013435
CREATED:20230129T183450Z
LAST-MODIFIED:20230129T183450Z
UID:9817-1675366200-1675373400@embodyingrhythm.com
SUMMARY:RubyJoyful with David Alderdice & members of Leftover Salmon
DESCRIPTION:@ Steve’s Guitar’s in Carbondale \nDan Rubinoff\, Joice Moore\, David Alderdice\nWith Special Guests\nDrew Emmitt & Andy Thorn \nDoors @ 7:30\, Show @ 8Pm\nTix $25 Ga.\, $35 Front Row \nhttps://www.eventbrite.com/e/ruby-joyful-with-special-guest-drew-emmitt-and-andy-thorn-tickets-516408671237 \nmore info: rubyjoyfulband.com
URL:https://embodyingrhythm.com/event/rubyjoyful-with-david-alderdice-members-of-leftover-salmon/
LOCATION:Steve’s Guitars\, United States
CATEGORIES:David Performance,Performance
ATTACH;FMTTYPE=image/jpeg:https://embodyingrhythm.com/wp-content/uploads/David_photo-1.jpg
END:VEVENT
BEGIN:VEVENT
DTSTART;TZID=America/Denver:20221218T190000
DTEND;TZID=America/Denver:20221218T220000
DTSTAMP:20260424T013435
CREATED:20221122T023307Z
LAST-MODIFIED:20221122T034530Z
UID:9735-1671390000-1671400800@embodyingrhythm.com
SUMMARY:Dark Night with Craig Childs\, David Alderdice percussion
DESCRIPTION:in Norwood\, CO
URL:https://embodyingrhythm.com/event/dark-night-with-craig-childs-david-alderdice-percussion/
CATEGORIES:David Performance
ATTACH;FMTTYPE=image/jpeg:https://embodyingrhythm.com/wp-content/uploads/craig-childs-dark-night-w-d-1.jpg
END:VEVENT
BEGIN:VEVENT
DTSTART;TZID=America/Denver:20221217T190000
DTEND;TZID=America/Denver:20221217T220000
DTSTAMP:20260424T013435
CREATED:20221122T022538Z
LAST-MODIFIED:20221122T034556Z
UID:9732-1671303600-1671314400@embodyingrhythm.com
SUMMARY:Dark Night with Craig Childs\, with David Alderdice on Percussion
DESCRIPTION:Craig Childs’ much loved spoken word and audiovisual extravaganza\, Dark Night\, returns to Paonia’s Paradise Theater on December 16 and 17. More info coming.
URL:https://embodyingrhythm.com/event/dark-night-with-craig-childs-with-david-alderdice-on-percussion/
LOCATION:Paradise Theater\, United States
CATEGORIES:David Performance
END:VEVENT
BEGIN:VEVENT
DTSTART;TZID=America/Denver:20221216T190000
DTEND;TZID=America/Denver:20221216T230000
DTSTAMP:20260424T013435
CREATED:20221025T155458Z
LAST-MODIFIED:20221122T034620Z
UID:9712-1671217200-1671231600@embodyingrhythm.com
SUMMARY:Dark Night with Craig Childs\, David Alderdice on percussion
DESCRIPTION:Craig Childs’ much loved spoken word and audiovisual extravaganza\, Dark Night\, returns to Paonia’s Paradise Theater on December 16 and 17. More info coming.
URL:https://embodyingrhythm.com/event/dark-night-with-craig-childs-david-alderdice-on-percussion/
LOCATION:Paradise Theater\, United States
CATEGORIES:David Performance
ATTACH;FMTTYPE=image/jpeg:https://embodyingrhythm.com/wp-content/uploads/craig-childs.jpg
END:VEVENT
END:VCALENDAR