BEGIN:VCALENDAR
VERSION:2.0
PRODID:-//Embodying Rhythm - ECPv6.15.20//NONSGML v1.0//EN
CALSCALE:GREGORIAN
METHOD:PUBLISH
X-ORIGINAL-URL:https://embodyingrhythm.com
X-WR-CALDESC:Events for Embodying Rhythm
REFRESH-INTERVAL;VALUE=DURATION:PT1H
X-Robots-Tag:noindex
X-PUBLISHED-TTL:PT1H
BEGIN:VTIMEZONE
TZID:America/Denver
BEGIN:DAYLIGHT
TZOFFSETFROM:-0700
TZOFFSETTO:-0600
TZNAME:MDT
DTSTART:20220313T090000
END:DAYLIGHT
BEGIN:STANDARD
TZOFFSETFROM:-0600
TZOFFSETTO:-0700
TZNAME:MST
DTSTART:20221106T080000
END:STANDARD
BEGIN:DAYLIGHT
TZOFFSETFROM:-0700
TZOFFSETTO:-0600
TZNAME:MDT
DTSTART:20230312T090000
END:DAYLIGHT
BEGIN:STANDARD
TZOFFSETFROM:-0600
TZOFFSETTO:-0700
TZNAME:MST
DTSTART:20231105T080000
END:STANDARD
BEGIN:DAYLIGHT
TZOFFSETFROM:-0700
TZOFFSETTO:-0600
TZNAME:MDT
DTSTART:20240310T090000
END:DAYLIGHT
BEGIN:STANDARD
TZOFFSETFROM:-0600
TZOFFSETTO:-0700
TZNAME:MST
DTSTART:20241103T080000
END:STANDARD
END:VTIMEZONE
BEGIN:VEVENT
DTSTART;TZID=America/Denver:20230528T140000
DTEND;TZID=America/Denver:20230528T160000
DTSTAMP:20260425T084242
CREATED:20230409T032327Z
LAST-MODIFIED:20230415T024655Z
UID:9891-1685282400-1685289600@embodyingrhythm.com
SUMMARY:Mama Lingua at Big B's
DESCRIPTION:“With their honeyed harmonies\, Mama Lingua warms the crowd like a good draught of elderflower mead under a full moon. Original folk and world tunes with guitar\, violin\, cello and percussion.” \n  \nA nice early afternoon show for your Folk and Roots Rendezvous Sunday.
URL:https://embodyingrhythm.com/event/mama-lingua-at-big-bs-2/
LOCATION:Big B’s\, 39126 Highway 133\, Hotchkiss\, CO\, 81419\, United States
CATEGORIES:Arlyn Alderdice,Mama Lingua,Performance
ATTACH;FMTTYPE=image/jpeg:https://embodyingrhythm.com/wp-content/uploads/mama-lingua-with-Arlyn.jpg
END:VEVENT
END:VCALENDAR