BEGIN:VCALENDAR
VERSION:2.0
PRODID:-//Embodying Rhythm - ECPv6.15.20//NONSGML v1.0//EN
CALSCALE:GREGORIAN
METHOD:PUBLISH
X-ORIGINAL-URL:https://embodyingrhythm.com
X-WR-CALDESC:Events for Embodying Rhythm
REFRESH-INTERVAL;VALUE=DURATION:PT1H
X-Robots-Tag:noindex
X-PUBLISHED-TTL:PT1H
BEGIN:VTIMEZONE
TZID:America/Denver
BEGIN:DAYLIGHT
TZOFFSETFROM:-0700
TZOFFSETTO:-0600
TZNAME:MDT
DTSTART:20220313T090000
END:DAYLIGHT
BEGIN:STANDARD
TZOFFSETFROM:-0600
TZOFFSETTO:-0700
TZNAME:MST
DTSTART:20221106T080000
END:STANDARD
BEGIN:DAYLIGHT
TZOFFSETFROM:-0700
TZOFFSETTO:-0600
TZNAME:MDT
DTSTART:20230312T090000
END:DAYLIGHT
BEGIN:STANDARD
TZOFFSETFROM:-0600
TZOFFSETTO:-0700
TZNAME:MST
DTSTART:20231105T080000
END:STANDARD
BEGIN:DAYLIGHT
TZOFFSETFROM:-0700
TZOFFSETTO:-0600
TZNAME:MDT
DTSTART:20240310T090000
END:DAYLIGHT
BEGIN:STANDARD
TZOFFSETFROM:-0600
TZOFFSETTO:-0700
TZNAME:MST
DTSTART:20241103T080000
END:STANDARD
END:VTIMEZONE
BEGIN:VEVENT
DTSTART;TZID=America/Denver:20230709T180000
DTEND;TZID=America/Denver:20230709T200000
DTSTAMP:20260424T220341
CREATED:20230530T124241Z
LAST-MODIFIED:20230530T124241Z
UID:9932-1688925600-1688932800@embodyingrhythm.com
SUMMARY:Mama Lingua at the Stanton Lavender Farm
DESCRIPTION:The “Lavender Sessions” July 9th!\nCome enjoy the music in a listening environment while wafts of Stanton lavender soothe your weary soul \n\nLimited tickets available so grab ‘em now!
URL:https://embodyingrhythm.com/event/mama-lingua-at-the-stanton-lavender-farm/
LOCATION:CO
CATEGORIES:Arlyn Alderdice,Mama Lingua,Performance
END:VEVENT
BEGIN:VEVENT
DTSTART;TZID=America/Denver:20230712T180000
DTEND;TZID=America/Denver:20230712T190000
DTSTAMP:20260424T220341
CREATED:20230711T180301Z
LAST-MODIFIED:20230711T180405Z
UID:9945-1689184800-1689188400@embodyingrhythm.com
SUMMARY:Mama Lingua trio in Basalt
DESCRIPTION:Opening for Dragondeer at the Summer Concert Series at the Basalt River Park – downtown. info
URL:https://embodyingrhythm.com/event/mama-lingua-trio-in-basalt/
LOCATION:CO
CATEGORIES:Mama Lingua,Performance
END:VEVENT
END:VCALENDAR