BEGIN:VCALENDAR
VERSION:2.0
PRODID:-//Embodying Rhythm - ECPv6.15.20//NONSGML v1.0//EN
CALSCALE:GREGORIAN
METHOD:PUBLISH
X-ORIGINAL-URL:https://embodyingrhythm.com
X-WR-CALDESC:Events for Embodying Rhythm
REFRESH-INTERVAL;VALUE=DURATION:PT1H
X-Robots-Tag:noindex
X-PUBLISHED-TTL:PT1H
BEGIN:VTIMEZONE
TZID:America/Denver
BEGIN:DAYLIGHT
TZOFFSETFROM:-0700
TZOFFSETTO:-0600
TZNAME:MDT
DTSTART:20220313T090000
END:DAYLIGHT
BEGIN:STANDARD
TZOFFSETFROM:-0600
TZOFFSETTO:-0700
TZNAME:MST
DTSTART:20221106T080000
END:STANDARD
BEGIN:DAYLIGHT
TZOFFSETFROM:-0700
TZOFFSETTO:-0600
TZNAME:MDT
DTSTART:20230312T090000
END:DAYLIGHT
BEGIN:STANDARD
TZOFFSETFROM:-0600
TZOFFSETTO:-0700
TZNAME:MST
DTSTART:20231105T080000
END:STANDARD
BEGIN:DAYLIGHT
TZOFFSETFROM:-0700
TZOFFSETTO:-0600
TZNAME:MDT
DTSTART:20240310T090000
END:DAYLIGHT
BEGIN:STANDARD
TZOFFSETFROM:-0600
TZOFFSETTO:-0700
TZNAME:MST
DTSTART:20241103T080000
END:STANDARD
END:VTIMEZONE
BEGIN:VEVENT
DTSTART;TZID=America/Denver:20231117T190000
DTEND;TZID=America/Denver:20231117T210000
DTSTAMP:20260424T113218
CREATED:20230821T191232Z
LAST-MODIFIED:20230821T191232Z
UID:9988-1700247600-1700254800@embodyingrhythm.com
SUMMARY:Embodying Rhythm Collective & Mama Lingua in Cedaredge\, CO
DESCRIPTION:Nov 17\, 7:00 PM – 9:00 PM \nGrand Mesa Arts & Events Center\, 195 W Main St\, Cedaredge\, CO \nhttps://www.gmaec.org/event-details/the-embodying-rhythm-collective-mama-lingua \n  \nThe Embodying Rhythm Collective & Mama Lingua present an eclectic acoustic concert event featuring – Arlyn Alderdice\, David Alderdice\, Sami Akert\, Daniel Be\, Jeannette Carey\, Tony Peters\, Chelsie Taylor\, & Chloe Watkins. \nJoin us for an intimate musical journey featuring traditional and modern music from around the world as well as original music from the North Fork Valley. All the musicians are well-versed multi-instrumentalists\, so you will hear many different tone colors and musical textures through the sounds of singing (including three part harmonies)\, strings (including fiddle\, cello\, guitar\, electric bass and mandolin)\, woodwinds (including clarinet\, melodica\, alto saxophone\, tenor saxophone and flute)\, brass (including trumpet\, trombone and sousaphone) and pitched as well as unpitched percussion (including drum set\, hand drums\, shakers and different sized wooden marimbas).
URL:https://embodyingrhythm.com/event/embodying-rhythm-collective-mama-lingua-in-cedaredge-co/
LOCATION:CO
CATEGORIES:Arlyn Alderdice,David Performance,Mama Lingua,Performance
END:VEVENT
END:VCALENDAR