BEGIN:VCALENDAR
VERSION:2.0
PRODID:-//Embodying Rhythm - ECPv6.15.20//NONSGML v1.0//EN
CALSCALE:GREGORIAN
METHOD:PUBLISH
X-WR-CALNAME:Embodying Rhythm
X-ORIGINAL-URL:https://embodyingrhythm.com
X-WR-CALDESC:Events for Embodying Rhythm
REFRESH-INTERVAL;VALUE=DURATION:PT1H
X-Robots-Tag:noindex
X-PUBLISHED-TTL:PT1H
BEGIN:VTIMEZONE
TZID:America/Denver
BEGIN:DAYLIGHT
TZOFFSETFROM:-0700
TZOFFSETTO:-0600
TZNAME:MDT
DTSTART:20220313T090000
END:DAYLIGHT
BEGIN:STANDARD
TZOFFSETFROM:-0600
TZOFFSETTO:-0700
TZNAME:MST
DTSTART:20221106T080000
END:STANDARD
BEGIN:DAYLIGHT
TZOFFSETFROM:-0700
TZOFFSETTO:-0600
TZNAME:MDT
DTSTART:20230312T090000
END:DAYLIGHT
BEGIN:STANDARD
TZOFFSETFROM:-0600
TZOFFSETTO:-0700
TZNAME:MST
DTSTART:20231105T080000
END:STANDARD
BEGIN:DAYLIGHT
TZOFFSETFROM:-0700
TZOFFSETTO:-0600
TZNAME:MDT
DTSTART:20240310T090000
END:DAYLIGHT
BEGIN:STANDARD
TZOFFSETFROM:-0600
TZOFFSETTO:-0700
TZNAME:MST
DTSTART:20241103T080000
END:STANDARD
END:VTIMEZONE
BEGIN:VEVENT
DTSTART;TZID=America/Denver:20231217T153000
DTEND;TZID=America/Denver:20231217T170000
DTSTAMP:20260424T093915
CREATED:20230828T182754Z
LAST-MODIFIED:20231128T020635Z
UID:10002-1702827000-1702832400@embodyingrhythm.com
SUMMARY:Women's Drumming with Arlyn Alderdice in Hotchkiss\, CO
DESCRIPTION:Women’s Rhythm & Hand Drumming \n~ A Call to Connect ~ \nPlease RSVP \nSunday Dec. 17.\n3:30 – 5pm with Arlyn Alderdice At the Embodying Rhythm School of Percussive Arts\, Hotchkiss\, CO \nRegistration & directions: 970- 872-4238 or ladyarlyn(at) gmail (dot) com \nSliding Scale $10-$20 \nWe will review our basic drum sounds\, traditional grooves from around the world as well as experiment with improvisation techniques. We will practice deep listening\, and we will play. No prior experience needed. Bring your drum or use one of ours.
URL:https://embodyingrhythm.com/event/womens-drumming-with-arlyn-alderdice-in-hotchkiss-co/
LOCATION:CO
CATEGORIES:Arlyn Alderdice,Mama Lingua,Workshops and classes
END:VEVENT
BEGIN:VEVENT
DTSTART;TZID=America/Denver:20231222T180000
DTEND;TZID=America/Denver:20231222T210000
DTSTAMP:20260424T093915
CREATED:20231028T052527Z
LAST-MODIFIED:20231127T172622Z
UID:10076-1703268000-1703278800@embodyingrhythm.com
SUMMARY:Mama Lingua in Hotchkiss\, CO
DESCRIPTION:A candle-lit celebration on the shortest day of the year. \nWith opening set by Alien Bears \n$15 at the door.
URL:https://embodyingrhythm.com/event/mama-lingua-in-hotchkiss-co/
LOCATION:Creamery Arts Center\, United States
CATEGORIES:Arlyn Alderdice,Mama Lingua,Performance
END:VEVENT
END:VCALENDAR