BEGIN:VCALENDAR
VERSION:2.0
PRODID:-//Embodying Rhythm - ECPv6.15.20//NONSGML v1.0//EN
CALSCALE:GREGORIAN
METHOD:PUBLISH
X-WR-CALNAME:Embodying Rhythm
X-ORIGINAL-URL:https://embodyingrhythm.com
X-WR-CALDESC:Events for Embodying Rhythm
REFRESH-INTERVAL;VALUE=DURATION:PT1H
X-Robots-Tag:noindex
X-PUBLISHED-TTL:PT1H
BEGIN:VTIMEZONE
TZID:America/Denver
BEGIN:DAYLIGHT
TZOFFSETFROM:-0700
TZOFFSETTO:-0600
TZNAME:MDT
DTSTART:20240310T090000
END:DAYLIGHT
BEGIN:STANDARD
TZOFFSETFROM:-0600
TZOFFSETTO:-0700
TZNAME:MST
DTSTART:20241103T080000
END:STANDARD
BEGIN:DAYLIGHT
TZOFFSETFROM:-0700
TZOFFSETTO:-0600
TZNAME:MDT
DTSTART:20250309T090000
END:DAYLIGHT
BEGIN:STANDARD
TZOFFSETFROM:-0600
TZOFFSETTO:-0700
TZNAME:MST
DTSTART:20251102T080000
END:STANDARD
BEGIN:DAYLIGHT
TZOFFSETFROM:-0700
TZOFFSETTO:-0600
TZNAME:MDT
DTSTART:20260308T090000
END:DAYLIGHT
BEGIN:STANDARD
TZOFFSETFROM:-0600
TZOFFSETTO:-0700
TZNAME:MST
DTSTART:20261101T080000
END:STANDARD
END:VTIMEZONE
BEGIN:VEVENT
DTSTART;TZID=America/Denver:20250301T150000
DTEND;TZID=America/Denver:20250301T170000
DTSTAMP:20260424T113916
CREATED:20250224T150516Z
LAST-MODIFIED:20250224T150516Z
UID:10572-1740841200-1740848400@embodyingrhythm.com
SUMMARY:NF Polka All Stars at Bock Fest in Paonia\, CO
DESCRIPTION:3-5pm at Chrysalis Brewery \n  \nDavid Alderdice\, Jeannette Carey\, Jon Hickam\, and John Whoolly
URL:https://embodyingrhythm.com/event/nf-polka-all-stars-at-bock-fest-in-paonia-co/
CATEGORIES:David Performance,Performance
ATTACH;FMTTYPE=image/jpeg:https://embodyingrhythm.com/wp-content/uploads/David_photo-1.jpg
END:VEVENT
BEGIN:VEVENT
DTSTART;TZID=America/Denver:20250308T183000
DTEND;TZID=America/Denver:20250308T203000
DTSTAMP:20260424T113916
CREATED:20241222T172443Z
LAST-MODIFIED:20250211T203606Z
UID:10497-1741458600-1741465800@embodyingrhythm.com
SUMMARY:NFV Community Band Swing Night in Paonia\, CO
DESCRIPTION:6:30 beginner dance lesson \n7pm live music \nA fun night of music & dancing!
URL:https://embodyingrhythm.com/event/nfv-community-band-swing-night-in-paonia-co/
CATEGORIES:David Performance,Performance
END:VEVENT
END:VCALENDAR