BEGIN:VCALENDAR
VERSION:2.0
PRODID:-//Embodying Rhythm - ECPv6.15.20//NONSGML v1.0//EN
CALSCALE:GREGORIAN
METHOD:PUBLISH
X-WR-CALNAME:Embodying Rhythm
X-ORIGINAL-URL:https://embodyingrhythm.com
X-WR-CALDESC:Events for Embodying Rhythm
REFRESH-INTERVAL;VALUE=DURATION:PT1H
X-Robots-Tag:noindex
X-PUBLISHED-TTL:PT1H
BEGIN:VTIMEZONE
TZID:America/Denver
BEGIN:DAYLIGHT
TZOFFSETFROM:-0700
TZOFFSETTO:-0600
TZNAME:MDT
DTSTART:20240310T090000
END:DAYLIGHT
BEGIN:STANDARD
TZOFFSETFROM:-0600
TZOFFSETTO:-0700
TZNAME:MST
DTSTART:20241103T080000
END:STANDARD
BEGIN:DAYLIGHT
TZOFFSETFROM:-0700
TZOFFSETTO:-0600
TZNAME:MDT
DTSTART:20250309T090000
END:DAYLIGHT
BEGIN:STANDARD
TZOFFSETFROM:-0600
TZOFFSETTO:-0700
TZNAME:MST
DTSTART:20251102T080000
END:STANDARD
BEGIN:DAYLIGHT
TZOFFSETFROM:-0700
TZOFFSETTO:-0600
TZNAME:MDT
DTSTART:20260308T090000
END:DAYLIGHT
BEGIN:STANDARD
TZOFFSETFROM:-0600
TZOFFSETTO:-0700
TZNAME:MST
DTSTART:20261101T080000
END:STANDARD
END:VTIMEZONE
BEGIN:VEVENT
DTSTART;TZID=America/Denver:20250503T160000
DTEND;TZID=America/Denver:20250503T170000
DTSTAMP:20260424T011017
CREATED:20250402T210511Z
LAST-MODIFIED:20250402T210617Z
UID:10612-1746288000-1746291600@embodyingrhythm.com
SUMMARY:David Alderdice with the NFV Community Choir in Delta\, CO
DESCRIPTION:Delta United Methodist Church on May 3rd – 477 Meeker Street. Delta\, CO \n  \nhttps://www.northforkcommunitychoir.com/
URL:https://embodyingrhythm.com/event/david-alderdice-with-the-nfv-community-choir-in-delta-co/
CATEGORIES:Performance
ATTACH;FMTTYPE=image/jpeg:https://embodyingrhythm.com/wp-content/uploads/D-no-drum.jpg
END:VEVENT
BEGIN:VEVENT
DTSTART;TZID=America/Denver:20250504T090000
DTEND;TZID=America/Denver:20250504T103000
DTSTAMP:20260424T011017
CREATED:20250318T143801Z
LAST-MODIFIED:20250414T012730Z
UID:10589-1746349200-1746354600@embodyingrhythm.com
SUMMARY:Mama Lingua at Hestival in Paonia\, CO
DESCRIPTION:Our season kick-off show. 9:15am\, breakfast served. Free show. \nMore info and tickets \n  \nMama Lingua Music
URL:https://embodyingrhythm.com/event/mama-lingua-at-hestival-in-paonia-co/
LOCATION:Big B’s\, 39126 Highway 133\, Hotchkiss\, CO\, 81419\, United States
CATEGORIES:Arlyn Alderdice,Performance
END:VEVENT
BEGIN:VEVENT
DTSTART;TZID=America/Denver:20250504T160000
DTEND;TZID=America/Denver:20250504T170000
DTSTAMP:20260424T011017
CREATED:20250402T210905Z
LAST-MODIFIED:20250402T211430Z
UID:10615-1746374400-1746378000@embodyingrhythm.com
SUMMARY:David Alderdice with the NFV Community Choir in Paonia\, CO
DESCRIPTION:West Elk Family on May 4th \n639 Samuel Wade Road\, Paonia CO \n  \nhttps://www.northforkcommunitychoir.com/
URL:https://embodyingrhythm.com/event/david-alderdice-with-the-nfv-community-choir-in-paonia-co/
CATEGORIES:Performance
ATTACH;FMTTYPE=image/jpeg:https://embodyingrhythm.com/wp-content/uploads/david-1.jpg
END:VEVENT
BEGIN:VEVENT
DTSTART;TZID=America/Denver:20250513T170000
DTEND;TZID=America/Denver:20250513T183000
DTSTAMP:20260424T011017
CREATED:20250506T164810Z
LAST-MODIFIED:20250506T164810Z
UID:10658-1747155600-1747161000@embodyingrhythm.com
SUMMARY:NFV Community Band at Arbol Farmer's Market Paonia
DESCRIPTION:Join the multi-generational multi-award winning NFV Community and Parade Band at the first Arbol Farmer’s Market of the season. \nTuesday May 13th at Paonia Town Park. 5pm
URL:https://embodyingrhythm.com/event/nfv-community-band-at-arbol-farmers-market-paonia/
LOCATION:Paonia Town Park\, United States
CATEGORIES:David Performance,Performance
ATTACH;FMTTYPE=image/jpeg:https://embodyingrhythm.com/wp-content/uploads/parade-band-sustainable-settings.jpg
END:VEVENT
BEGIN:VEVENT
DTSTART;TZID=America/Denver:20250525T140000
DTEND;TZID=America/Denver:20250525T153000
DTSTAMP:20260424T011017
CREATED:20250319T203642Z
LAST-MODIFIED:20250319T204959Z
UID:10597-1748181600-1748187000@embodyingrhythm.com
SUMMARY:Mama Lingua at Folk N Roots Rendezvous
DESCRIPTION:at Big B’s \nmore info
URL:https://embodyingrhythm.com/event/mama-lingua-at-folk-n-roots-rendevous/
LOCATION:Big B’s\, 39126 Highway 133\, Hotchkiss\, CO\, 81419\, United States
CATEGORIES:Arlyn Alderdice,Performance
END:VEVENT
END:VCALENDAR