BEGIN:VCALENDAR
VERSION:2.0
PRODID:-//Embodying Rhythm - ECPv6.15.20//NONSGML v1.0//EN
CALSCALE:GREGORIAN
METHOD:PUBLISH
X-WR-CALNAME:Embodying Rhythm
X-ORIGINAL-URL:https://embodyingrhythm.com
X-WR-CALDESC:Events for Embodying Rhythm
REFRESH-INTERVAL;VALUE=DURATION:PT1H
X-Robots-Tag:noindex
X-PUBLISHED-TTL:PT1H
BEGIN:VTIMEZONE
TZID:America/Denver
BEGIN:DAYLIGHT
TZOFFSETFROM:-0700
TZOFFSETTO:-0600
TZNAME:MDT
DTSTART:20240310T090000
END:DAYLIGHT
BEGIN:STANDARD
TZOFFSETFROM:-0600
TZOFFSETTO:-0700
TZNAME:MST
DTSTART:20241103T080000
END:STANDARD
BEGIN:DAYLIGHT
TZOFFSETFROM:-0700
TZOFFSETTO:-0600
TZNAME:MDT
DTSTART:20250309T090000
END:DAYLIGHT
BEGIN:STANDARD
TZOFFSETFROM:-0600
TZOFFSETTO:-0700
TZNAME:MST
DTSTART:20251102T080000
END:STANDARD
BEGIN:DAYLIGHT
TZOFFSETFROM:-0700
TZOFFSETTO:-0600
TZNAME:MDT
DTSTART:20260308T090000
END:DAYLIGHT
BEGIN:STANDARD
TZOFFSETFROM:-0600
TZOFFSETTO:-0700
TZNAME:MST
DTSTART:20261101T080000
END:STANDARD
END:VTIMEZONE
BEGIN:VEVENT
DTSTART;TZID=America/Denver:20250926T180000
DTEND;TZID=America/Denver:20250926T190000
DTSTAMP:20260423T144633
CREATED:20250828T182456Z
LAST-MODIFIED:20250828T182456Z
UID:10754-1758909600-1758913200@embodyingrhythm.com
SUMMARY:David Alderdice with the NFV Community & Parade Band at MHF
DESCRIPTION:We’re looking forward to seeing what Jeannette Carey and David Alderdice have brought together with 30+ members of the community!
URL:https://embodyingrhythm.com/event/david-alderdice-with-the-nfv-community-parade-band-at-mhf/
LOCATION:Poulos Park\, 217 Grand Ave\, Paonia\, CO\, 81428\, United States
CATEGORIES:David Performance,Performance
ATTACH;FMTTYPE=image/jpeg:https://embodyingrhythm.com/wp-content/uploads/parade-band-sustainable-settings.jpg
END:VEVENT
BEGIN:VEVENT
DTSTART;TZID=America/Denver:20250926T203000
DTEND;TZID=America/Denver:20250926T220000
DTSTAMP:20260423T144633
CREATED:20250828T183356Z
LAST-MODIFIED:20250829T194933Z
UID:10759-1758918600-1758924000@embodyingrhythm.com
SUMMARY:David Alderdice with Gertie and The Groundhogs in Paonia CO
DESCRIPTION:Late night Friday at the Blue Sage good for Blues Dancing! \n  \nWith David Alderdice\, Jon Hickam\, Jeannette Carey\, Gertie and bass.
URL:https://embodyingrhythm.com/event/david-alderdice-with-gertie-and-the-groundhogs-in-paonia-co/
LOCATION:Blue Sage Center for the Arts\, United States
CATEGORIES:David Performance,Performance
ATTACH;FMTTYPE=image/jpeg:https://embodyingrhythm.com/wp-content/uploads/Orange-Green-And-Beige-Illustrative-Groundhog-Day-Instagram-Post.jpg
END:VEVENT
BEGIN:VEVENT
DTSTART;TZID=America/Denver:20250928T123000
DTEND;TZID=America/Denver:20250928T133000
DTSTAMP:20260423T144633
CREATED:20250828T182824Z
LAST-MODIFIED:20250828T182824Z
UID:10756-1759062600-1759066200@embodyingrhythm.com
SUMMARY:David Alderdice with The Big Whoo at MHF
DESCRIPTION:The Big Whoo\nJohn Whooly\, David Alderdice\, Tony Peters\, Nicholas\, & Michael. Including funk\, rock\, jazz and world music.
URL:https://embodyingrhythm.com/event/david-alderdice-with-the-big-whoo-at-mhf/
LOCATION:Paonia Town Park\, United States
CATEGORIES:David Performance,Performance
ATTACH;FMTTYPE=image/jpeg:https://embodyingrhythm.com/wp-content/uploads/whoo.jpeg
END:VEVENT
BEGIN:VEVENT
DTSTART;TZID=America/Denver:20250928T153000
DTEND;TZID=America/Denver:20250928T170000
DTSTAMP:20260423T144633
CREATED:20250818T011222Z
LAST-MODIFIED:20250818T011222Z
UID:10737-1759073400-1759078800@embodyingrhythm.com
SUMMARY:Mama Lingua at Mountain Harvest Festival in Paonia\, CO
DESCRIPTION:We’re looking forward to some Sunday afternoon music! \nhttps://mountainharvestfestival.org/
URL:https://embodyingrhythm.com/event/mama-lingua-at-mountain-harvest-festival-in-paonia-co/
LOCATION:Paonia Town Park\, United States
CATEGORIES:Arlyn Alderdice,Performance
ATTACH;FMTTYPE=image/jpeg:https://embodyingrhythm.com/wp-content/uploads/Web-Mama-Lingua-2025-MHF.jpg
END:VEVENT
END:VCALENDAR