BEGIN:VCALENDAR
VERSION:2.0
PRODID:-//Embodying Rhythm - ECPv6.15.20//NONSGML v1.0//EN
CALSCALE:GREGORIAN
METHOD:PUBLISH
X-WR-CALNAME:Embodying Rhythm
X-ORIGINAL-URL:https://embodyingrhythm.com
X-WR-CALDESC:Events for Embodying Rhythm
REFRESH-INTERVAL;VALUE=DURATION:PT1H
X-Robots-Tag:noindex
X-PUBLISHED-TTL:PT1H
BEGIN:VTIMEZONE
TZID:America/Denver
BEGIN:DAYLIGHT
TZOFFSETFROM:-0700
TZOFFSETTO:-0600
TZNAME:MDT
DTSTART:20150308T090000
END:DAYLIGHT
BEGIN:STANDARD
TZOFFSETFROM:-0600
TZOFFSETTO:-0700
TZNAME:MST
DTSTART:20151101T080000
END:STANDARD
BEGIN:DAYLIGHT
TZOFFSETFROM:-0700
TZOFFSETTO:-0600
TZNAME:MDT
DTSTART:20160313T090000
END:DAYLIGHT
BEGIN:STANDARD
TZOFFSETFROM:-0600
TZOFFSETTO:-0700
TZNAME:MST
DTSTART:20161106T080000
END:STANDARD
BEGIN:DAYLIGHT
TZOFFSETFROM:-0700
TZOFFSETTO:-0600
TZNAME:MDT
DTSTART:20170312T090000
END:DAYLIGHT
BEGIN:STANDARD
TZOFFSETFROM:-0600
TZOFFSETTO:-0700
TZNAME:MST
DTSTART:20171105T080000
END:STANDARD
BEGIN:DAYLIGHT
TZOFFSETFROM:-0700
TZOFFSETTO:-0600
TZNAME:MDT
DTSTART:20180311T090000
END:DAYLIGHT
BEGIN:STANDARD
TZOFFSETFROM:-0600
TZOFFSETTO:-0700
TZNAME:MST
DTSTART:20181104T080000
END:STANDARD
END:VTIMEZONE
BEGIN:VEVENT
DTSTART;TZID=America/Denver:20170304T190000
DTEND;TZID=America/Denver:20170304T220000
DTSTAMP:20260419T203626
CREATED:20170726T031228Z
LAST-MODIFIED:20170726T051947Z
UID:7140-1488654000-1488664800@embodyingrhythm.com
SUMMARY:David Alderdice with Grizzly Pears in Paonia\, CO
DESCRIPTION:2nd Annual Spring Dance Party$10 advance\, $12 door – kids free. \ndoors open at 7:00pm \nBandmade libations and hearty snacks available.\nMore info at grizzlypears.com \ntickets
URL:https://embodyingrhythm.com/event/david-alderdice-with-grizzly-pears-in-paonia-co/
LOCATION:Blue Sage Center for the Arts\, United States
CATEGORIES:Performance
ATTACH;FMTTYPE=image/jpeg:https://embodyingrhythm.com/wp-content/uploads/grizzly_pears_medium_res.jpg
END:VEVENT
BEGIN:VEVENT
DTSTART;TZID=America/Denver:20170303T190000
DTEND;TZID=America/Denver:20170303T210000
DTSTAMP:20260419T203626
CREATED:20170726T031231Z
LAST-MODIFIED:20170726T051947Z
UID:7144-1488567600-1488574800@embodyingrhythm.com
SUMMARY:David Alderdice with 3 Tinkers in Delta\, CO
DESCRIPTION:The “3 Tinkers” is an all original band that creates songs definitely out of the box from sleazy jazz New Orleans flavor to country shuffle blues\, bossanova with an eastern twist\, to island dance………and so on.3 Tinkers features the magic touch of Danial B on fretless bass\, David Alderdice on drums/percussion\, Tony Peters on guitar and horns\, Randall Utterback on telecaster dobro fiddle mandolin\, and Cooper on keys vocals accordion and harmonica. \nIt’s sure to be a funtastic night of music!!! We will pass a basket to collect a love offering for the band.
URL:https://embodyingrhythm.com/event/david-alderdice-with-3-tinkers-in-delta-co/
LOCATION:Center For Spiritual Living\, United States
CATEGORIES:Performance
END:VEVENT
BEGIN:VEVENT
DTSTART;TZID=America/Denver:20170121T193000
DTEND;TZID=America/Denver:20170121T213000
DTSTAMP:20260419T203626
CREATED:20170726T031135Z
LAST-MODIFIED:20170726T051947Z
UID:7115-1485027000-1485034200@embodyingrhythm.com
SUMMARY:A Musical Caravan with David Alderdice & Friends in Paonia\, CO
DESCRIPTION:A troupe of musicians has assembled; included in the ensemble are strings\, woodwinds\, brass and percussion. Grab your pack and jump aboard as they traverse borders and time\, uncovering the sounds of foreign lands and forgotten days.\nDavid Alderdice\, Percussion\nJavier de los Santos\, Guitar\nStephanie Mientka\, Viola\nJeannette Carey\, Sousaphone\nDave Noe\, Trombone\nArlyn Alderdice\, Marimba \nIn Person: Blue Sage Gallery\, 226 Grand Ave.\, Paonia\nOver the Phone: (970) 527-7243\nTickets\nSection A: $23 adult\, $18 youth (18 & under)\nSection B: $18 adult\, $13 youth (18 & under) \nRECOMMENDED READING: \nThinking Musically: Experiencing Music\, Expressing Culture by Bonnie C. Wade
URL:https://embodyingrhythm.com/event/a-musical-caravan-with-david-alderdice-friends-in-paonia-co/
LOCATION:Blue Sage Center for the Arts\, United States
CATEGORIES:Performance
ATTACH;FMTTYPE=image/jpeg:https://embodyingrhythm.com/wp-content/uploads/D-no-drum.jpg
END:VEVENT
BEGIN:VEVENT
DTSTART;TZID=America/Denver:20170120T190000
DTEND;TZID=America/Denver:20170120T213000
DTSTAMP:20260419T203626
CREATED:20170726T031214Z
LAST-MODIFIED:20170726T051947Z
UID:7130-1484938800-1484947800@embodyingrhythm.com
SUMMARY:A Musical Caravan with David Alderdice & Friends in Fruita\, CO
DESCRIPTION:A troupe of musicians has assembled; included in the ensemble are strings\, woodwinds\, brass and percussion. Grab your pack and jump aboard as they traverse borders and time\, uncovering the sounds of foreign lands and forgotten days.\nDavid Alderdice\, Percussion\nJavier de los Santos\, Guitar\nStephanie Mientka\, Viola\nJeannette Carey\, Sousaphone\nDave Noe\, Trombone\nArlyn Alderdice\, Marimba \nTickets\n$10 advance\, $15 at the door \nRECOMMENDED READING: \nThinking Musically: Experiencing Music\, Expressing Culture by Bonnie C. Wade
URL:https://embodyingrhythm.com/event/a-musical-caravan-with-david-alderdice-friends-in-fruita-co/
LOCATION:Cavalcade\, United States
CATEGORIES:Performance
ATTACH;FMTTYPE=image/jpeg:https://embodyingrhythm.com/wp-content/uploads/david-alderdice-and-friends-copy-1.jpg
END:VEVENT
BEGIN:VEVENT
DTSTART;TZID=America/Denver:20161212T180000
DTEND;TZID=America/Denver:20161212T193000
DTSTAMP:20260419T203626
CREATED:20170726T031215Z
LAST-MODIFIED:20170726T051948Z
UID:7131-1481565600-1481571000@embodyingrhythm.com
SUMMARY:NFV Community Band live in Delta\, CO
DESCRIPTION:A holiday show with the NFV Community Stage and Parade Band and the Hotchkiss 6-12th choir and band.\nFree. \nDirected by Jeannette Carey
URL:https://embodyingrhythm.com/event/nfv-community-band-live-in-delta-co/
LOCATION:Delta Performing Arts Center\, United States
CATEGORIES:Performance
END:VEVENT
BEGIN:VEVENT
DTSTART;TZID=America/Denver:20161211T193000
DTEND;TZID=America/Denver:20161211T213000
DTSTAMP:20260419T203626
CREATED:20170726T031208Z
LAST-MODIFIED:20170726T051949Z
UID:7124-1481484600-1481491800@embodyingrhythm.com
SUMMARY:David Alderdice & Susan Ellinger La Dolce Vida in Paonia\, CO
DESCRIPTION:This is La Dolce Vita: dessert wine\, luscious treats and sweet music. Savor the ultimate pairing as Artistic Directors David Alderdice and Susan Ellinger collaborate in a special concert to benefit the 2016-17 Blue Sage Concert Series.\nTHE PROGRAM\nRavel Valses Nobles et Sentimentales\nBartok Rumanian Folk Dances \nmore info: http://www.bluesage.org/events/la-dolce-vita-blue-sage-concert-series-fundraiser/ \nBox Office\nOnline: \n \n\nIn Person: Blue Sage Gallery\, 226 Grand Ave.\, Paonia\nOver the Phone: (970) 527-7243 \nTicket Prices\n$25
URL:https://embodyingrhythm.com/event/david-alderdice-susan-ellinger-la-dolce-vida-in-paonia-co/
LOCATION:Blue Sage Center for the Arts\, United States
CATEGORIES:Performance
END:VEVENT
BEGIN:VEVENT
DTSTART;TZID=America/Denver:20161210T190000
DTEND;TZID=America/Denver:20161210T230000
DTSTAMP:20260419T203626
CREATED:20170726T031206Z
LAST-MODIFIED:20170726T051949Z
UID:7122-1481396400-1481410800@embodyingrhythm.com
SUMMARY:David Alderdice with 3 Tinkers and Moors & McCumber in Paonia\, CO
DESCRIPTION:Doors open at 6:30 pm. Show starts at 7:00 pm.\nMore info: www.bluesage.org/events/moors-mccumber-3tinkers/ \nTickets are available online and in the Blue Sage gallery. \nPrice:\n$15 presale\n$20 at the door\nFree for kids 12 and under \nred.vendini.com/ticket-software.html?t=tix&e=0d7df7e9ffa3bea40d426c7c7e8c74c2
URL:https://embodyingrhythm.com/event/david-alderdice-with-3-tinkers-and-moors-mccumber-in-paonia-co/
LOCATION:Blue Sage Center for the Arts\, United States
CATEGORIES:Performance
ATTACH;FMTTYPE=image/jpeg:https://embodyingrhythm.com/wp-content/uploads/3tinkers-band-photo.jpg
END:VEVENT
BEGIN:VEVENT
DTSTART;TZID=America/Denver:20161113T150000
DTEND;TZID=America/Denver:20161113T173000
DTSTAMP:20260419T203626
CREATED:20170726T031150Z
LAST-MODIFIED:20170726T051949Z
UID:7119-1479049200-1479058200@embodyingrhythm.com
SUMMARY:David Alderdice with FEAST in Montrose\, CO
DESCRIPTION:FEAST plays chamber music\nAn exciting journey into World Music with Marcin Arendt\, violin\, Kathryn Mientka\, piano\, David Alderdice\, percussion\, Kimberly Patterson\, cello\, and Benjamin DeKock\, bass. \ntickets
URL:https://embodyingrhythm.com/event/david-alderdice-with-feast-in-montrose-co-3/
LOCATION:Montrose Pavilion\, United States
CATEGORIES:Performance
ATTACH;FMTTYPE=image/jpeg:https://embodyingrhythm.com/wp-content/uploads/eight-bit-2.jpg
END:VEVENT
BEGIN:VEVENT
DTSTART;TZID=America/Denver:20161112T150000
DTEND;TZID=America/Denver:20161112T173000
DTSTAMP:20260419T203626
CREATED:20170726T031158Z
LAST-MODIFIED:20170726T051950Z
UID:7120-1478962800-1478971800@embodyingrhythm.com
SUMMARY:David Alderdice with FEAST in Grand Junction\, CO
DESCRIPTION:FEAST plays chamber music\nAn exciting journey into World Music with Marcin Arendt\, violin\, Kathryn Mientka\, piano\, David Alderdice\, percussion\, Kimberly Patterson\, cello\, and Benjamin DeKock\, bass. \ntickets
URL:https://embodyingrhythm.com/event/david-alderdice-with-feast-in-grand-junction-co-2/
LOCATION:Unitarian Universalists Church\, United States
CATEGORIES:Performance
ATTACH;FMTTYPE=image/jpeg:https://embodyingrhythm.com/wp-content/uploads/eight-bit-2.jpg
END:VEVENT
BEGIN:VEVENT
DTSTART;TZID=America/Denver:20160924T194500
DTEND;TZID=America/Denver:20160924T234500
DTSTAMP:20260419T203626
CREATED:20170726T031123Z
LAST-MODIFIED:20170726T051950Z
UID:7105-1474746300-1474760700@embodyingrhythm.com
SUMMARY:Embodying Rhythm Marimba Project Live at Mtn Harvest Festival
DESCRIPTION:7:45PM – 10:45PM\n\n\n\n\n\n\n\n\n\n\nEMBODYING RHYTHM MARIMBA ENSEMBLE @ PAONIA TOWN HALL\n\nAs part of Mountain Harvest Festival’s Saturday night event. \ntickets \nmore info
URL:https://embodyingrhythm.com/event/embodying-rhythm-marimba-project-live-at-mtn-harvest-festival/
CATEGORIES:Performance
ATTACH;FMTTYPE=image/jpeg:https://embodyingrhythm.com/wp-content/uploads/marimba-project.jpg
END:VEVENT
BEGIN:VEVENT
DTSTART;TZID=America/Denver:20160923T163000
DTEND;TZID=America/Denver:20160923T180000
DTSTAMP:20260419T203626
CREATED:20170726T031130Z
LAST-MODIFIED:20170726T051951Z
UID:7112-1474648200-1474653600@embodyingrhythm.com
SUMMARY:David with Jon Hickam Trio at Mountain Harvest Festival
DESCRIPTION:A free show in the Paonia Town Park with Jon Hickam\, David Snider and David Alderdice.\nFun for the whole family!
URL:https://embodyingrhythm.com/event/david-with-jon-hickam-trio-at-mountain-harvest-festival/
LOCATION:Paonia Town Park\, United States
CATEGORIES:Performance
END:VEVENT
BEGIN:VEVENT
DTSTART;TZID=America/Denver:20160917T193000
DTEND;TZID=America/Denver:20160917T213000
DTSTAMP:20260419T203626
CREATED:20170726T031127Z
LAST-MODIFIED:20170726T051951Z
UID:7108-1474140600-1474147800@embodyingrhythm.com
SUMMARY:World Music Concert: Musekiwa Chingodza in Paonia\, CO
DESCRIPTION:Music of the Spirit: Musekiwa Chingodza & Friends:  Mbira\, Voice\, Hosho\, Ngoma \nDelight in the pure\, joyful and magical music of Zimbabwe. Internationally renowned Musekiwa Chingodza brings the enchanting instruments and ancient melodies of the Shona people to life. \nRECOMMENDED READING:\nThe Soul of Mbira: Music and Traditions of the Shona People of Zimbabwe by Paul Berliner \nBox Office\nOnline: \n \nIn Person: Blue Sage Gallery\, 226 Grand Ave.\, Paonia\nOver the Phone: (970) 527-7243 \nTicket Prices\nIndividual Tickets\nSection A: $23 adult\, $18 youth (18 & under)\nSection B: $18 adult\, $13 youth (18 & under)
URL:https://embodyingrhythm.com/event/world-music-concert-musekiwa-chingodza-in-paonia-co/
LOCATION:Blue Sage Center for the Arts\, United States
CATEGORIES:Performance
END:VEVENT
BEGIN:VEVENT
DTSTART;TZID=America/Denver:20160903T190000
DTEND;TZID=America/Denver:20160903T193000
DTSTAMP:20260419T203626
CREATED:20170726T031133Z
LAST-MODIFIED:20170726T051952Z
UID:7113-1472929200-1472931000@embodyingrhythm.com
SUMMARY:David Alderdice with Michael Lightbringer in Paonia\, CO
DESCRIPTION:As part of the Visionary Summit Paonia weekend:  www.visionarysummitpaonia.com\nMichael Lightbringer is a growing ensemble sharing original music reflecting life\, spirit\, and love. more
URL:https://embodyingrhythm.com/event/david-alderdice-with-michael-lightbringer-in-paonia-co/
LOCATION:Paradise Theater\, United States
CATEGORIES:Performance
END:VEVENT
BEGIN:VEVENT
DTSTART;TZID=America/Denver:20160730T193000
DTEND;TZID=America/Denver:20160730T233000
DTSTAMP:20260419T203626
CREATED:20170726T031122Z
LAST-MODIFIED:20170726T051952Z
UID:7104-1469907000-1469921400@embodyingrhythm.com
SUMMARY:David with the Grizzly Pears in Paonia\, CO
DESCRIPTION:Grizzly Pears.com\ntickets: \nwww.brownpapertickets.com/event/2569713 \n  \n\n\n\n\n\nEvent\n\nGrizzly Pears Big Band at Zephyros farms\nFor the 6th Annual Zephyros Farms and Gardens funk fest we are keeping it loco-local with The Grizzly Pears! \nThis will be the second and final Pears show for 2016\, the first one in February left the whirling masses of North Fork dancers with sore legs and happy grins. \nLibations will be available by donation and we are working on lining up a food truck or two. \nZephyros Farm and Garden is a small diversified family farm centrally located in the North Fork Valley\, known for hosting legendary parties and growing an assortment of fantastic certified organic flowers and produce.  For more information visit  http://www.zephyrosfarmandgarden.com/ \nThe Grizzly Pears is a North-Fork born musical collective doing a dance-friendly mix of New Orleans street jazz and farmstead cabaret. This show will feature David Alderdice on percussion\, Jeanette Carey on sousaphone\, Dylan Fixmer on trumpet\, ‘Lazer Kid’ Kotowich on trombone\, Jon Hickam on accordion and guitar\, and Lizzy Plotkin on violin.  To listen to their new EP visit grizzlypears.bandcamp.com\, for more information or to see some videos from last spring’s show checkout grizzlypears.com \nKids welcome\, but please leave your dogs cats llamas and exotic reptiles at home.
URL:https://embodyingrhythm.com/event/david-with-the-grizzly-pears-in-paonia-co/
CATEGORIES:Performance
ATTACH;FMTTYPE=image/jpeg:https://embodyingrhythm.com/wp-content/uploads/grizzly_pears_medium_res.jpg
END:VEVENT
BEGIN:VEVENT
DTSTART;TZID=America/Denver:20160730T110000
DTEND;TZID=America/Denver:20160730T120000
DTSTAMP:20260419T203626
CREATED:20170726T031121Z
LAST-MODIFIED:20170726T051952Z
UID:7101-1469876400-1469880000@embodyingrhythm.com
SUMMARY:Zononoka Marimba Band at Carbondale Mountain Fair
DESCRIPTION:Zononoka Marimba Band is Eric Baumheier and Aja McAdams with Shanti Baumangelis of the Carbondale Rhythm Collective\njoining them will be David Alderdice\, Arlyn Alderdice\, Jeannette Carey and Jen Sanborn of the North Fork Valley Embodying Rhythm Marimba Project. \nThe Flying Mallets Youth Marimba Ensemble will also be featured. \nhttp://www.carbondalearts.com/mountain-fair/music-lineup/
URL:https://embodyingrhythm.com/event/zononoka-marimba-band-at-carbondale-mountain-fair/
CATEGORIES:Performance
ATTACH;FMTTYPE=image/jpeg:https://embodyingrhythm.com/wp-content/uploads/DSC01996.jpg
END:VEVENT
BEGIN:VEVENT
DTSTART;TZID=America/Denver:20160714T173000
DTEND;TZID=America/Denver:20160714T190000
DTSTAMP:20260419T203626
CREATED:20170726T031122Z
LAST-MODIFIED:20170726T051952Z
UID:7103-1468517400-1468522800@embodyingrhythm.com
SUMMARY:David with Celebrate the Beat in Vail\, CO
DESCRIPTION:Star Dancing Gala\nwww.ctbeat\,org \nVAIL VALLEY JET CENTER\n5:30pm \nwww.vvf.org/content/events/get-involved-events/fundraising-events/star-dancing-gala
URL:https://embodyingrhythm.com/event/david-with-celebrate-the-beat-in-vail-co/
CATEGORIES:Performance
ATTACH;FMTTYPE=image/jpeg:https://embodyingrhythm.com/wp-content/uploads/463_ctb-1.jpg
END:VEVENT
BEGIN:VEVENT
DTSTART;TZID=America/Denver:20160712T183000
DTEND;TZID=America/Denver:20160712T200000
DTSTAMP:20260419T203626
CREATED:20170726T031105Z
LAST-MODIFIED:20170726T051952Z
UID:7084-1468348200-1468353600@embodyingrhythm.com
SUMMARY:Marimba Project live in Paonia\, CO
DESCRIPTION:The concert will feature the Embodying Rhythm Faculty & Youth Performance Marimba Ensembles and will feature traditional music from Zimbabwe\, South African jazz\, along with contemporary pieces from  Europe and the Americas on marimba\, percussion\, and flute.
URL:https://embodyingrhythm.com/event/marimba-project-live-in-paonia-co/
LOCATION:Paonia Public Library\, United States
CATEGORIES:Performance
ATTACH;FMTTYPE=image/jpeg:https://embodyingrhythm.com/wp-content/uploads/marimba_collage.jpg
END:VEVENT
BEGIN:VEVENT
DTSTART;TZID=America/Denver:20160710T160000
DTEND;TZID=America/Denver:20160710T170000
DTSTAMP:20260419T203626
CREATED:20170726T031103Z
LAST-MODIFIED:20170726T051952Z
UID:7083-1468166400-1468170000@embodyingrhythm.com
SUMMARY:Marimba Project Live in Cedaredge\, CO
DESCRIPTION:The concert will feature the Embodying Rhythm Faculty & Youth Performance Marimba Ensembles and will feature traditional music from Zimbabwe\, South African jazz\, along with contemporary pieces from  Europe and the Americas on marimba\, percussion\, and flute.
URL:https://embodyingrhythm.com/event/marimba-project-live-in-cedaredge-co/
LOCATION:Chapel Of the Cross\, United States
CATEGORIES:Performance
ATTACH;FMTTYPE=image/jpeg:https://embodyingrhythm.com/wp-content/uploads/marimba_collage.jpg
END:VEVENT
BEGIN:VEVENT
DTSTART;TZID=America/Denver:20160611T100000
DTEND;TZID=America/Denver:20160611T113000
DTSTAMP:20260419T203626
CREATED:20170726T031111Z
LAST-MODIFIED:20170726T051955Z
UID:7088-1465639200-1465644600@embodyingrhythm.com
SUMMARY:NFV Community Parade & Stage Band live in Crawford\, CO
DESCRIPTION:Downtown Crawford\, CO for the Crawford Pioneer’s Day Parade\nThe North Fork Valley Community Parade & Stage Band led by David Alderdice and Jeannette Carey. \nThis ensemble will include drums\, sousaphone\, flute\, clarinet\, saxophones\, trombones\, and trumpets. \n 
URL:https://embodyingrhythm.com/event/nfv-community-parade-stage-band-live-in-crawford-co/
CATEGORIES:Performance
ATTACH;FMTTYPE=image/jpeg:https://embodyingrhythm.com/wp-content/uploads/Community-Band-June-7.jpg
END:VEVENT
BEGIN:VEVENT
DTSTART;TZID=America/Denver:20160609T190000
DTEND;TZID=America/Denver:20160616T200000
DTSTAMP:20260419T203626
CREATED:20170726T031109Z
LAST-MODIFIED:20170726T051955Z
UID:7087-1465498800-1466107200@embodyingrhythm.com
SUMMARY:NFV Community Parade & Stage Band live in Cedaredge\, CO
DESCRIPTION:The North Fork Valley Community Parade & Stage Band led by David Alderdice and Jeannette Carey.\nThis ensemble will include drums\, melodica\, tuba\, french horns\, flutes\, bass clarinet\, mandolin\, trombone\, and trumpet.
URL:https://embodyingrhythm.com/event/nfv-community-parade-stage-band-live-in-cedaredge-co/
LOCATION:Chapel Of the Cross\, United States
CATEGORIES:Performance
ATTACH;FMTTYPE=image/jpeg:https://embodyingrhythm.com/wp-content/uploads/DSC00113.jpg
END:VEVENT
BEGIN:VEVENT
DTSTART;TZID=America/Denver:20160607T183000
DTEND;TZID=America/Denver:20160607T200000
DTSTAMP:20260419T203626
CREATED:20170726T031107Z
LAST-MODIFIED:20170726T051955Z
UID:7086-1465324200-1465329600@embodyingrhythm.com
SUMMARY:NFV Community Parade & Stage Band live in Paonia\, CO
DESCRIPTION:The North Fork Valley Community Parade & Stage Band led by David Alderdice and Jeannette Carey.\nThis ensemble will include drums\, melodica\, tuba\, french horns\, flutes\, bass clarinet\, mandolin\, trombone\, and trumpet.
URL:https://embodyingrhythm.com/event/nfv-community-parade-stage-band-live-in-paonia-co/
LOCATION:Paonia Public Library\, United States
CATEGORIES:Performance
ATTACH;FMTTYPE=image/jpeg:https://embodyingrhythm.com/wp-content/uploads/DSC00113.jpg
END:VEVENT
BEGIN:VEVENT
DTSTART;VALUE=DATE:20160513
DTEND;VALUE=DATE:20160514
DTSTAMP:20260419T203626
CREATED:20170726T031101Z
LAST-MODIFIED:20170726T051957Z
UID:7081-1463097600-1463183999@embodyingrhythm.com
SUMMARY:URSA\, URSA!
DESCRIPTION:URSA\, URSA! (featuring members of the Grizzly Pears and Free the Honey):\nFriday\, May 13 2016 SEI Solar Fair\n\nMore details coming soon.
URL:https://embodyingrhythm.com/event/ursa-ursa/
CATEGORIES:Performance
ATTACH;FMTTYPE=image/jpeg:https://embodyingrhythm.com/wp-content/uploads/grizzly_pears_medium_res.jpg
END:VEVENT
BEGIN:VEVENT
DTSTART;TZID=America/Denver:20160424T133000
DTEND;TZID=America/Denver:20160424T160000
DTSTAMP:20260419T203626
CREATED:20170726T031058Z
LAST-MODIFIED:20170726T051957Z
UID:7077-1461504600-1461513600@embodyingrhythm.com
SUMMARY:Marimba Project in Concert in Paonia\, CO
DESCRIPTION:The concert will feature the Embodying Rhythm Faculty & Youth Performance Marimba Ensembles and will feature traditional music from Zimbabwe\, South African jazz\, along with contemporary pieces from  Europe and the Americas on marimba\, percussion\, flute\, alto sax\, and voice.\nThe Marimba Project Matinee: Sunday\, April 24 at the Blue Sage doors 1:30pm concert 2:00pm $12 adults\, $6 students. \nTickets at the Blue Sage and Backcountry Bistro in Paonia \n970-872-4238 for more information
URL:https://embodyingrhythm.com/event/marimba-project-in-concert-in-paonia-co/
LOCATION:Blue Sage Center for the Arts\, United States
CATEGORIES:Performance
ATTACH;FMTTYPE=image/jpeg:https://embodyingrhythm.com/wp-content/uploads/DSC00154.jpg
END:VEVENT
BEGIN:VEVENT
DTSTART;TZID=America/Denver:20160423T180000
DTEND;TZID=America/Denver:20160423T203000
DTSTAMP:20260419T203626
CREATED:20170726T031058Z
LAST-MODIFIED:20170726T051958Z
UID:7076-1461434400-1461443400@embodyingrhythm.com
SUMMARY:Marimba Project in Concert in Delta\, CO
DESCRIPTION:The concert will feature the Embodying Rhythm Faculty & Youth Performance Marimba Ensembles and will feature traditional music from Zimbabwe\, South African jazz\, along with contemporary pieces from  Europe and the Americas on marimba\, percussion\, flute\, alto sax\, and voice.\nSaturday\, April 23 at the Center for Spiritual Living Delta 658 Howard St. doors 6:00pm\, concert 6:30pm $12 adults\, $6 students\, kids free (tickets at CSL and Doghouse Espresso 449 Main\, 874-0177)
URL:https://embodyingrhythm.com/event/marimba-project-in-concert-in-delta-co/
LOCATION:Center For Spiritual Living\, United States
CATEGORIES:Performance
ATTACH;FMTTYPE=image/jpeg:https://embodyingrhythm.com/wp-content/uploads/DSC00154.jpg
END:VEVENT
BEGIN:VEVENT
DTSTART;TZID=America/Denver:20160319T193000
DTEND;TZID=America/Denver:20160319T213000
DTSTAMP:20260419T203626
CREATED:20170726T031008Z
LAST-MODIFIED:20170726T051958Z
UID:7027-1458415800-1458423000@embodyingrhythm.com
SUMMARY:David Alderdice with Near Eastern Sounds in Paonia\, CO
DESCRIPTION:NEAR EASTERN SOUNDS: OLD & NEW  Many of the musical selections are drawn from Turkish classical and devotional repertoire\, music from the golden age of Egyptian cinema (1940s-50s)\, as well as Mr. Seligman’s own compositions. \nMore information.  Tickets. \nPERFORMERS: \n \nJon Seligman – Percussion\nTBA – Cello\nTBA – Woodwinds\nDavid Alderdice  – Percussion \nDATE: Saturday\, March 19\, 2016 7:30 PM \n  \n 
URL:https://embodyingrhythm.com/event/david-alderdice-with-near-eastern-sounds-in-paonia-co/
LOCATION:Blue Sage Center for the Arts\, United States
CATEGORIES:Performance
ATTACH;FMTTYPE=image/jpeg:https://embodyingrhythm.com/wp-content/uploads/seligman-3.jpg
END:VEVENT
BEGIN:VEVENT
DTSTART;TZID=America/Denver:20160227T190000
DTEND;TZID=America/Denver:20160227T220000
DTSTAMP:20260419T203626
CREATED:20170726T031054Z
LAST-MODIFIED:20170726T051958Z
UID:7074-1456599600-1456610400@embodyingrhythm.com
SUMMARY:David Alderdice with The Grizzly Pears and The Community Band in Paonia\, CO
DESCRIPTION:The Grizzly Pears Jazz Band with Jon Hickam bring you the finest in ragtime\, grinder blues and viper jazz\, featuring the rich musical tradition of early 19th century New Orleans flavored by a dash of irreverent humor and North Fork food and arts culture.  Lazer Kid-Kotowich on trombone and vocals\, Jon Hickam on multiple instruments and vocals\, David Alderdice on percussion and Jeannette Carey on Tuba.
URL:https://embodyingrhythm.com/event/david-alderdice-with-the-grizzly-pears-and-the-community-band-in-paonia-co/
LOCATION:Blue Sage Center for the Arts\, United States
CATEGORIES:Performance
ATTACH;FMTTYPE=image/jpeg:https://embodyingrhythm.com/wp-content/uploads/grizzly_pears2.jpg
END:VEVENT
BEGIN:VEVENT
DTSTART;TZID=America/Denver:20160206T193000
DTEND;TZID=America/Denver:20160206T213000
DTSTAMP:20260419T203626
CREATED:20170726T031008Z
LAST-MODIFIED:20170726T051959Z
UID:7025-1454787000-1454794200@embodyingrhythm.com
SUMMARY:David & Arlyn Alderdice & Friends in a World Music Salon in Paonia\, CO
DESCRIPTION:WORLD MUSIC SALON A select group of professional western slope musicians will share their individual world music studies\, repertoire\, & love of music during this unforgettable evening.\nPERFORMERS:\nAndy Skellenger – Tabla & Tabla Tarang\nJavier de los Santos – Spanish & Mexican Guitar\nBeth Quist – Hammered Dulcimer and Voice\nCarbondale Rhythm Collective – M’bira & Percussion\nDavid & Arlyn Alderdice – Frame Drums & Shakers \nDATE: Saturday\, February 6\, 2016 7:30 PM \nMore information.  Tickets.
URL:https://embodyingrhythm.com/event/david-arlyn-alderdice-friends-in-a-world-music-salon-in-paonia-co/
LOCATION:Blue Sage Center for the Arts\, United States
CATEGORIES:Performance
ATTACH;FMTTYPE=image/jpeg:https://embodyingrhythm.com/wp-content/uploads/beth.jpg
END:VEVENT
BEGIN:VEVENT
DTSTART;TZID=America/Denver:20160206T090000
DTEND;TZID=America/Denver:20160206T170000
DTSTAMP:20260419T203626
CREATED:20170726T031044Z
LAST-MODIFIED:20170726T052558Z
UID:7069-1454749200-1454778000@embodyingrhythm.com
SUMMARY:David Alderdice at TEDx Paonia
DESCRIPTION:tedxpaonia.fopt.org\n \nPushing Through The Pavement!\nFEBRUARY 6\, 2016 – PAONIA\, CO – PARADISE THEATRE
URL:https://embodyingrhythm.com/event/david-alderdice-at-tedx-paonia/
LOCATION:Paradise Theater\, United States
CATEGORIES:Performance,Workshops and classes
ATTACH;FMTTYPE=image/jpeg:https://embodyingrhythm.com/wp-content/uploads/11845058_10153659404994131_1845105270077424836_o-1.jpg
END:VEVENT
BEGIN:VEVENT
DTSTART;TZID=America/Denver:20160131T135000
DTEND;TZID=America/Denver:20160131T145000
DTSTAMP:20260419T203626
CREATED:20170726T031029Z
LAST-MODIFIED:20170726T052000Z
UID:7052-1454248200-1454251800@embodyingrhythm.com
SUMMARY:David Alderdice with FEAST in Montrose\, CO
DESCRIPTION:http://www.junctionconcerts.com/feast.html\nCeltic band FEAST returns with an explosive all-new program with champion Celtic dancers – and \nIrish music and dance show featuring Celtic band FEAST and Irish step dancers\nFEAST: Celtic Explosion \nDate: Sunday\, January 31\, 2016\nTime: 3:00 PM\nMontrose Pavilion-Main Auditorium\n1800 Pavilion Dr\nMontrose \, CO 81402\nMap & DirectionsPhone: (970) 241-4579\nEmail: wscs@chedsey.com\nWebsite: http://www.junctionconcerts.com \n\n\nFEAST  Tickets:\nGreen: $36  in adv.  $39 at the door\nBlue:    $31 in Adv.  $29 at the door\nRed:     $26 in adv.  $29 at the door\nChildren:  (12 and under)\nGreen: $26\, Blue:  $21\,  Red: $16
URL:https://embodyingrhythm.com/event/david-alderdice-with-feast-in-montrose-co-2/
LOCATION:Montrose Pavilion\, United States
CATEGORIES:Performance
ATTACH;FMTTYPE=image/jpeg:https://embodyingrhythm.com/wp-content/uploads/feast-extrodinary-celtic-ensemble-1.jpg
END:VEVENT
BEGIN:VEVENT
DTSTART;TZID=America/Denver:20160130T193000
DTEND;TZID=America/Denver:20160130T213000
DTSTAMP:20260419T203626
CREATED:20170726T031029Z
LAST-MODIFIED:20170726T052000Z
UID:7051-1454182200-1454189400@embodyingrhythm.com
SUMMARY:David Alderdice with FEAST in Grand Junction\, CO
DESCRIPTION:http://www.junctionconcerts.com/feast.html\nCeltic band FEAST returns with an explosive all-new program with champion Celtic dancers – and \nIrish music and dance show featuring Celtic band FEAST and Irish step dancers \nFEAST: Celtic Explosion \nDate: Saturday\, January 30\, 2016\nTime: 7:30 PM\nAvalon Theatre\n645 Main St\nGrand Junction \, CO 81501\nMap & Directions \nPhone: (970) 241-4579\nEmail: wscs@chedsey.com\nWebsite: http://www.junctionconcerts.com\n\nFEAST  Tickets:\nGreen: $36  in adv.  $39 at the door\nBlue:    $31 in Adv.  $29 at the door\nRed:     $26 in adv.  $29 at the door\nChildren:  (12 and under)\nGreen: $26\, Blue:  $21\,  Red: $16
URL:https://embodyingrhythm.com/event/david-alderdice-with-feast-in-grand-junction-co/
LOCATION:Avalon\, United States
CATEGORIES:Performance
ATTACH;FMTTYPE=image/jpeg:https://embodyingrhythm.com/wp-content/uploads/feast-extrodinary-celtic-ensemble-1.jpg
END:VEVENT
END:VCALENDAR