BEGIN:VCALENDAR
VERSION:2.0
PRODID:-//Embodying Rhythm - ECPv6.15.20//NONSGML v1.0//EN
CALSCALE:GREGORIAN
METHOD:PUBLISH
X-WR-CALNAME:Embodying Rhythm
X-ORIGINAL-URL:https://embodyingrhythm.com
X-WR-CALDESC:Events for Embodying Rhythm
REFRESH-INTERVAL;VALUE=DURATION:PT1H
X-Robots-Tag:noindex
X-PUBLISHED-TTL:PT1H
BEGIN:VTIMEZONE
TZID:America/Denver
BEGIN:DAYLIGHT
TZOFFSETFROM:-0700
TZOFFSETTO:-0600
TZNAME:MDT
DTSTART:20120311T090000
END:DAYLIGHT
BEGIN:STANDARD
TZOFFSETFROM:-0600
TZOFFSETTO:-0700
TZNAME:MST
DTSTART:20121104T080000
END:STANDARD
BEGIN:DAYLIGHT
TZOFFSETFROM:-0700
TZOFFSETTO:-0600
TZNAME:MDT
DTSTART:20130310T090000
END:DAYLIGHT
BEGIN:STANDARD
TZOFFSETFROM:-0600
TZOFFSETTO:-0700
TZNAME:MST
DTSTART:20131103T080000
END:STANDARD
BEGIN:DAYLIGHT
TZOFFSETFROM:-0700
TZOFFSETTO:-0600
TZNAME:MDT
DTSTART:20140309T090000
END:DAYLIGHT
BEGIN:STANDARD
TZOFFSETFROM:-0600
TZOFFSETTO:-0700
TZNAME:MST
DTSTART:20141102T080000
END:STANDARD
BEGIN:DAYLIGHT
TZOFFSETFROM:-0700
TZOFFSETTO:-0600
TZNAME:MDT
DTSTART:20150308T090000
END:DAYLIGHT
BEGIN:STANDARD
TZOFFSETFROM:-0600
TZOFFSETTO:-0700
TZNAME:MST
DTSTART:20151101T080000
END:STANDARD
END:VTIMEZONE
BEGIN:VEVENT
DTSTART;TZID=America/Denver:20140424T190000
DTEND;TZID=America/Denver:20140424T210000
DTSTAMP:20260420T002519
CREATED:20170726T030825Z
LAST-MODIFIED:20170726T052049Z
UID:6921-1398366000-1398373200@embodyingrhythm.com
SUMMARY:David with Pretty Gritty in Paonia\, CO
DESCRIPTION:Pretty Gritty will return to Colorado for a special treat in Paonia\, CO\nmore info at: www.prettygrittymusic.com \nSoulful Americana and fun grooves.
URL:https://embodyingrhythm.com/event/david-with-pretty-gritty-in-paonia-co-2/
CATEGORIES:Performance
ATTACH;FMTTYPE=image/jpeg:https://embodyingrhythm.com/wp-content/uploads/DSCN1121.jpg
END:VEVENT
BEGIN:VEVENT
DTSTART;TZID=America/Denver:20140406T150000
DTEND;TZID=America/Denver:20140406T163000
DTSTAMP:20260420T002519
CREATED:20170726T030821Z
LAST-MODIFIED:20170726T052050Z
UID:6915-1396796400-1396801800@embodyingrhythm.com
SUMMARY:David Alderdice and Marcin Arendt in Montrose\, CO
DESCRIPTION:Marcin and David will explore classical music and ethnic folk music with a rhythmic world perspective. Expect to experience some familiar classical pieces as well as some exciting pieces that will surely be new to you. \nApril 2014 \nGrand Junction: First United Methodist Church\, April 4\, 7:30 PM \nMontrose Pavilion: April 6\, 3:00 PM \nmore information and tickets
URL:https://embodyingrhythm.com/event/david-alderdice-and-marcin-arendt-in-montrose-co/
LOCATION:Montrose Pavilion\, United States
CATEGORIES:Performance
ATTACH;FMTTYPE=image/png:https://embodyingrhythm.com/wp-content/uploads/david-marcin.png
END:VEVENT
BEGIN:VEVENT
DTSTART;TZID=America/Denver:20140404T193000
DTEND;TZID=America/Denver:20140404T211500
DTSTAMP:20260420T002519
CREATED:20170726T030820Z
LAST-MODIFIED:20170726T052050Z
UID:6914-1396639800-1396646100@embodyingrhythm.com
SUMMARY:David Alderdice and Marcin Arendt in Grand Junction\, CO
DESCRIPTION:Marcin and David will explore classical music and ethnic folk music with a rhythmic world perspective. Expect to experience some familiar classical pieces as well as some exciting pieces that will surely be new to you. \nApril 2014 \nGrand Junction: First United Methodist Church\, April 4\, 7:30 PM \nMontrose Pavilion: April 6\, 3:00 PM \nmore information and tickets
URL:https://embodyingrhythm.com/event/david-alderdice-and-marcin-arendt-in-grand-junction-co/
CATEGORIES:Performance
ATTACH;FMTTYPE=image/png:https://embodyingrhythm.com/wp-content/uploads/david-marcin.png
END:VEVENT
BEGIN:VEVENT
DTSTART;TZID=America/Denver:20140214T193000
DTEND;TZID=America/Denver:20140214T214500
DTSTAMP:20260420T002519
CREATED:20170726T030822Z
LAST-MODIFIED:20170726T052051Z
UID:6918-1392406200-1392414300@embodyingrhythm.com
SUMMARY:David with Benjamin Dekock in Grand Junction\, CO
DESCRIPTION:Everything you ever wanted to know about the bass fiddle! Ben will take us on a fascinating exploration of the bass repertoire that will journey through classical and popular music.\nA great date-night for music lovers! \nwith David Alderdice on percussion and other great performers \nFirst United Methodist Church\n522 White Avenue\nGrand Junction\, CO 81501\nMap & Directions \nPhone: (970) 241-4579\nEmail: cellopiano@juno.com\nWebsite: http://www.junctionconcerts.com \ntickets
URL:https://embodyingrhythm.com/event/david-with-benjamin-dekock-in-grand-junction-co/
LOCATION:First United Methodist Church\, United States
CATEGORIES:Performance
ATTACH;FMTTYPE=image/png:https://embodyingrhythm.com/wp-content/uploads/ben.png
END:VEVENT
BEGIN:VEVENT
DTSTART;TZID=America/Denver:20140116T190000
DTEND;TZID=America/Denver:20140116T213000
DTSTAMP:20260420T002519
CREATED:20170726T030821Z
LAST-MODIFIED:20170726T052051Z
UID:6916-1389898800-1389907800@embodyingrhythm.com
SUMMARY:David with Mario Cantone in Aspen\, CO
DESCRIPTION:Live at the Belly-Up in Aspen\, CO Thursday\, January 16th\, 2014 \n\nDoors Open:7:00 PM\nEvent Starts:8:00 PM\nAge Policy:Ages 18 and up\nStatus:On Sale\nPrice:$50-$75 Adv / $90 Day of / $850 Reserved Table- LIMITED\n\nMario Cantone\, the celebrated New York stage actor and stand-up comedian whose Tony-nominated one-man show LAUGH WHORE took him from Broadway stage to his own Showtime special this year\, is bringing his unique brand of humor and song to Aspen Gay Ski Week. \nWith David Alderdice on drums\, Benjamin Decock on bass and David Snider on guitar. \nMore information
URL:https://embodyingrhythm.com/event/david-with-mario-cantone-in-aspen-co/
CATEGORIES:Performance
END:VEVENT
BEGIN:VEVENT
DTSTART;TZID=America/Denver:20131220T190000
DTEND;TZID=America/Denver:20131220T220000
DTSTAMP:20260420T002519
CREATED:20170726T030817Z
LAST-MODIFIED:20170726T052051Z
UID:6912-1387566000-1387576800@embodyingrhythm.com
SUMMARY:The Dark Night with Craig Childs with David on percussion in Paonia\, CO
DESCRIPTION:Craig Childs’ much loved spoken word and audiovisual extravaganza\, Dark Night\, returns to Paonia’s Paradise Theater for the fourth consecutive year on December 20th and 21st\, the darkest nights of 2013. This year’s edition focuses on The Unseen World\, and features new work by Childs based on his travels in the Arctic\, New Mexico\, California sewers\, Central Park\, and the New Jersey Pine Barrens. The two-act show also featuresThe Devil’s Case\, written and performed by Angus Stocking – Confessions of a Heavy Thinker\, and includes supporting choreography\, acting\, and music from Sarah Gilman\, Alyssa Pinkerton\, David Alderdice\, Marty Durlin\, with other accomplished performers from the North Fork Valley and beyond.\nAs always\, Dark Night 2013 will explore mature themes related to the season\, and is intended primarily for adult audiences. Attendees are invited to wear costumes. Doors open at 7:00. Admission is $20 pre-sale\, $25 at the door. \nmore \nCraig Childs’ website
URL:https://embodyingrhythm.com/event/the-dark-night-with-craig-childs-with-david-on-percussion-in-paonia-co/
CATEGORIES:Performance
END:VEVENT
BEGIN:VEVENT
DTSTART;TZID=America/Denver:20131219T190000
DTEND;TZID=America/Denver:20131219T210000
DTSTAMP:20260420T002519
CREATED:20170726T030816Z
LAST-MODIFIED:20170726T052051Z
UID:6910-1387479600-1387486800@embodyingrhythm.com
SUMMARY:Kirtan with Vamadeva & Shangri Devi with David on percussion in Paonia\, CO
DESCRIPTION:Kirtan with Vamadeva and Shangri Devi with David Alderdice on percussion at BIJA yoga studio in Paonia\, CO. 7pm\nwww.vamadevakirtan.com  for more information and here for music samples. \nstudio-bija.com
URL:https://embodyingrhythm.com/event/kirtan-with-vamadeva-shangri-devi-with-david-on-percussion-in-paonia-co/
CATEGORIES:Performance
END:VEVENT
BEGIN:VEVENT
DTSTART;TZID=America/Denver:20131012T210000
DTEND;TZID=America/Denver:20131012T230000
DTSTAMP:20260420T002519
CREATED:20170726T030813Z
LAST-MODIFIED:20170726T052051Z
UID:6906-1381611600-1381618800@embodyingrhythm.com
SUMMARY:David with Sea Stars CD Release @ Shine in Boulder\, CO
DESCRIPTION:www.seastarsmusic.com\n\nSEA STARS CD RELEASE SHOW!! – 8pm\n@ Shine\n2027 13th St Boulder CO 80302 (303) 449-0120\nPrice: $10\n\nSea Stars DEBUT ALBUM\, THE UNKNOWN\, IS BEING RELEASED TO THE WORLD!! COME JOIN US AND CELEBRATE! \nMUSIC STARTS AT 8PM WITH UK ARTIST\, SEREPHINE.  THEN AT 9\, SEA STARS FEATURING A FULL BAND\, TAKE THE STAGE! THEN EXOTIC DJ BUDDHA BOMB TAKES THE STAGE!! THIS WILL BE ONE YOU DON’T WANT TO MISS!!! SEE YOU THERE!!
URL:https://embodyingrhythm.com/event/david-with-sea-stars-cd-release-shine-in-boulder-co/
CATEGORIES:Performance
ATTACH;FMTTYPE=image/jpeg:https://embodyingrhythm.com/wp-content/uploads/david-alderdice-with-the-sea-stars.jpg
END:VEVENT
BEGIN:VEVENT
DTSTART;TZID=America/Denver:20131011T190000
DTEND;TZID=America/Denver:20131011T210000
DTSTAMP:20260420T002519
CREATED:20170726T030815Z
LAST-MODIFIED:20170726T052052Z
UID:6909-1381518000-1381525200@embodyingrhythm.com
SUMMARY:David with the Sea Stars in Parker\, CO
DESCRIPTION:David with Sea Stars at the Main Street Center in Parker\, CO\nFriday\, October 11\, 2013 7:00pm \nAddress: 19650 E Mainstreet\, Parker\, CO 80138 \nPhone:(303) 805-7728 \nseastarsmusic.com
URL:https://embodyingrhythm.com/event/david-with-the-sea-stars-in-parker-co/
CATEGORIES:Performance
END:VEVENT
BEGIN:VEVENT
DTSTART;TZID=America/Denver:20131005T200000
DTEND;TZID=America/Denver:20131005T220000
DTSTAMP:20260420T002519
CREATED:20170726T030815Z
LAST-MODIFIED:20170726T052052Z
UID:6908-1381003200-1381010400@embodyingrhythm.com
SUMMARY:David with Isa and JoeAlan in Paonia\, CO
DESCRIPTION:David with Isa and JoeAlan at KVNF benefit at the Blue Sage in Paonia\, COSaturday\, October 5\, 2013 8:00pm \nisaandjoealan.com
URL:https://embodyingrhythm.com/event/david-with-isa-and-joealan-in-paonia-co/
CATEGORIES:Performance
END:VEVENT
BEGIN:VEVENT
DTSTART;TZID=America/Denver:20131004T190000
DTEND;TZID=America/Denver:20131004T210000
DTSTAMP:20260420T002519
CREATED:20170726T030814Z
LAST-MODIFIED:20170726T052052Z
UID:6907-1380913200-1380920400@embodyingrhythm.com
SUMMARY:David and Sticky Mulligan Duo in Fruita\, CO
DESCRIPTION:David and Sticky Mulligan offer a rare duo experience at the Hot Tomato in Fruita\, CO.\nEat pizza (including gluten-free and vegan) and listen to fun music. Free show. \nhottomatocafe.com
URL:https://embodyingrhythm.com/event/david-and-sticky-mulligan-duo-in-fruita-co/
CATEGORIES:Performance
ATTACH;FMTTYPE=image/jpeg:https://embodyingrhythm.com/wp-content/uploads/dscn9639-1.jpg
END:VEVENT
BEGIN:VEVENT
DTSTART;TZID=America/Denver:20130929T151500
DTEND;TZID=America/Denver:20130929T163000
DTSTAMP:20260420T002519
CREATED:20170726T030812Z
LAST-MODIFIED:20170726T052222Z
UID:6905-1380467700-1380472200@embodyingrhythm.com
SUMMARY:David with Sticky Mulligan at Mountain Harvest Festival
DESCRIPTION:Sunday\, September 29th in Paonia Town Park.\nFree. \nwww.stickymulligan.com \nwww.mountainharvestfestival.org \n 
URL:https://embodyingrhythm.com/event/david-with-sticky-mulligan-at-mountain-harvest-festival/
CATEGORIES:Performance
END:VEVENT
BEGIN:VEVENT
DTSTART;TZID=America/Denver:20130928T204500
DTEND;TZID=America/Denver:20130928T214500
DTSTAMP:20260420T002519
CREATED:20170726T030809Z
LAST-MODIFIED:20170726T052223Z
UID:6903-1380401100-1380404700@embodyingrhythm.com
SUMMARY:David Alderdice and Friends at Mountain Harvest Festival\, Paonia\, CO
DESCRIPTION:David Alderdice (drummer\, percussionist\, educator\, arranger\, and practitioner of the healing rhythmic arts) has put together a fun\, eclectic world music ensemble featuring violin\, reeds\, double bass\, and drums.  This project combines improvisation with original arrangements; the sound is energetic\, groovy and diverse in its range. David will be joined by his fellow Feast alumni’s Dr. Marcin Ardent (solo violinist\, chamber musician\, teacher\, and arranger)\, and Benjamin de Kock (double bassist\, freelance musician\, and symphonist)\, as well as April Johannesen (multi-reeds instrumentalist\, teacher\, and performer).   They will be joined by a few special guests adding sounds of the trombone\, tenor banjo\, and more.\nFind out more about David here. \nFind out more about Marcin here. \nFind out more about Ben here. \nFind out more about April here. \nSee full Mountain Harvest Festival Lineup.
URL:https://embodyingrhythm.com/event/david-alderdice-and-friends-at-mountain-harvest-festival-paonia-co/
CATEGORIES:Performance
ATTACH;FMTTYPE=image/jpeg:https://embodyingrhythm.com/wp-content/uploads/eight-bit-2.jpg
END:VEVENT
BEGIN:VEVENT
DTSTART;VALUE=DATE:20130921
DTEND;VALUE=DATE:20130922
DTSTAMP:20260420T002519
CREATED:20170726T030810Z
LAST-MODIFIED:20170726T052223Z
UID:6904-1379721600-1379807999@embodyingrhythm.com
SUMMARY:David with Sticky Mulligan at Palisade Mountain WineFest
DESCRIPTION:more info about the band: www.stickymulligan.com\nand more info about the event: www.winecolorado.org/events/mountain-winefest
URL:https://embodyingrhythm.com/event/david-with-sticky-mulligan-at-palisade-mountain-winefest/
CATEGORIES:Performance
END:VEVENT
BEGIN:VEVENT
DTSTART;TZID=America/Denver:20130831T190000
DTEND;TZID=America/Denver:20130831T210000
DTSTAMP:20260420T002519
CREATED:20170726T030802Z
LAST-MODIFIED:20170726T052223Z
UID:6895-1377975600-1377982800@embodyingrhythm.com
SUMMARY:David with FEAST in Leadville\, CO
DESCRIPTION:www.musicbyfeast.com\nLive at the Tabor Opera House in Leadville\, CO. 7pm $15. (kids under 14 years of age are free)\nView Poster
URL:https://embodyingrhythm.com/event/david-with-feast-in-leadville-co/
CATEGORIES:Performance
ATTACH;FMTTYPE=image/jpeg:https://embodyingrhythm.com/wp-content/uploads/band-edit.jpg
END:VEVENT
BEGIN:VEVENT
DTSTART;VALUE=DATE:20130824
DTEND;VALUE=DATE:20130825
DTSTAMP:20260420T002519
CREATED:20170726T030647Z
LAST-MODIFIED:20170726T052224Z
UID:6810-1377302400-1377388799@embodyingrhythm.com
SUMMARY:David with Sticky Mulligan in Redstone\, CO
DESCRIPTION:other
URL:https://embodyingrhythm.com/event/david-with-sticky-mulligan-in-redstone-co/
CATEGORIES:Performance
END:VEVENT
BEGIN:VEVENT
DTSTART;TZID=America/Denver:20130817T230000
DTEND;TZID=America/Denver:20130817T235900
DTSTAMP:20260420T002519
CREATED:20170726T030717Z
LAST-MODIFIED:20170726T052224Z
UID:6846-1376780400-1376783940@embodyingrhythm.com
SUMMARY:David at Arise Festival - Sunrise Ranch\, CO
DESCRIPTION:David performs with the Sea Stars right after Michael Franti and Spearhead at Arise on Saturday night.\nhttp://arisefestival.com \nfull schedule
URL:https://embodyingrhythm.com/event/david-at-arise-festival-sunrise-ranch-co/
CATEGORIES:Performance
ATTACH;FMTTYPE=image/jpeg:https://embodyingrhythm.com/wp-content/uploads/david-alderdice-with-the-sea-stars.jpg
END:VEVENT
BEGIN:VEVENT
DTSTART;TZID=America/Denver:20130810T190000
DTEND;TZID=America/Denver:20130810T210000
DTSTAMP:20260420T002519
CREATED:20170726T030807Z
LAST-MODIFIED:20170726T052224Z
UID:6902-1376161200-1376168400@embodyingrhythm.com
SUMMARY:David with Pretty Gritty in Fruita\, CO
DESCRIPTION:7pm $10 at Cavalcade\, Fruita\nwww.prettygrittymusic.com \n  \nhttp://www.cavalcadefruita.com/
URL:https://embodyingrhythm.com/event/david-with-pretty-gritty-in-fruita-co/
CATEGORIES:Performance
ATTACH;FMTTYPE=image/jpeg:https://embodyingrhythm.com/wp-content/uploads/DSCN1121.jpg
END:VEVENT
BEGIN:VEVENT
DTSTART;TZID=America/Denver:20130809T193000
DTEND;TZID=America/Denver:20130809T225500
DTSTAMP:20260420T002519
CREATED:20170726T030806Z
LAST-MODIFIED:20170726T052224Z
UID:6901-1376076600-1376088900@embodyingrhythm.com
SUMMARY:David with Sticky Mulligan and Pretty Gritty in Paonia\, CO
DESCRIPTION:Blue Sage in Downtown Paonia\, CO\nDoors open at 7:30pm. \nShow starts 8pm \nmore info about Sticky Mulligan: stickymulligan.com \nmore info about Pretty Gritty: prettygrittymusic.com \n  \nwear your party clothes!
URL:https://embodyingrhythm.com/event/david-with-sticky-mulligan-and-pretty-gritty-in-paonia-co/
CATEGORIES:Performance
END:VEVENT
BEGIN:VEVENT
DTSTART;TZID=America/Denver:20130717T173000
DTEND;TZID=America/Denver:20130717T195500
DTSTAMP:20260420T002519
CREATED:20170726T030651Z
LAST-MODIFIED:20170726T052225Z
UID:6814-1374082200-1374090900@embodyingrhythm.com
SUMMARY:David with Sticky Mulligan in Casper\, WY
DESCRIPTION:Wed. July 17th in Casper Wyoming at the N.I.C concert series Wednesday Night Live. Full Band.\nhttp://www.thenic.org/index.php?/events/more/wnl_sticky_mulligan \n 
URL:https://embodyingrhythm.com/event/david-with-sticky-mulligan-in-casper-wy/
CATEGORIES:Performance
END:VEVENT
BEGIN:VEVENT
DTSTART;TZID=America/Denver:20130710T173000
DTEND;TZID=America/Denver:20130710T200000
DTSTAMP:20260420T002519
CREATED:20170726T030735Z
LAST-MODIFIED:20170726T052226Z
UID:6858-1373477400-1373486400@embodyingrhythm.com
SUMMARY:David with Pretty Gritty in Paonia\, CO
DESCRIPTION:Soulful Americana and outdoor groovin’!
URL:https://embodyingrhythm.com/event/david-with-pretty-gritty-in-paonia-co/
LOCATION:Revolution Brewing\, United States
CATEGORIES:Performance
END:VEVENT
BEGIN:VEVENT
DTSTART;TZID=America/Denver:20130706T200000
DTEND;TZID=America/Denver:20130706T223000
DTSTAMP:20260420T002519
CREATED:20170726T030733Z
LAST-MODIFIED:20170726T052226Z
UID:6857-1373140800-1373149800@embodyingrhythm.com
SUMMARY:David with Pretty Gritty in Carbondale\, CO
DESCRIPTION:prettygrittymusic.com\nAn evening of Soulful Americana at funky guitar store listening room.
URL:https://embodyingrhythm.com/event/david-with-pretty-gritty-in-carbondale-co/
LOCATION:Steve’s Guitars\, United States
CATEGORIES:Performance
ATTACH;FMTTYPE=image/jpeg:https://embodyingrhythm.com/wp-content/uploads/DSCN1121.jpg
END:VEVENT
BEGIN:VEVENT
DTSTART;TZID=America/Denver:20130704T180000
DTEND;TZID=America/Denver:20130704T185000
DTSTAMP:20260420T002519
CREATED:20170726T030728Z
LAST-MODIFIED:20170726T052226Z
UID:6855-1372960800-1372963800@embodyingrhythm.com
SUMMARY:David with JoeAlan and Isa in Ridgeway\, CO
DESCRIPTION:Opening for the Rideway Concert in the Park for Yo Mama’s Big Fat Booty Band\nhttp://isaandjoealan.com/\nwww.pickinproductions.com
URL:https://embodyingrhythm.com/event/david-with-joealan-and-isa-in-ridgeway-co/
CATEGORIES:Performance
END:VEVENT
BEGIN:VEVENT
DTSTART;TZID=America/Denver:20130626T173000
DTEND;TZID=America/Denver:20130626T200000
DTSTAMP:20260420T002519
CREATED:20170726T030727Z
LAST-MODIFIED:20170726T052227Z
UID:6854-1372267800-1372276800@embodyingrhythm.com
SUMMARY:David with Sticky Mulligan in Paonia\, CO
DESCRIPTION:Bringing grooves to the local Brewery. Come try the home brewed root beer!
URL:https://embodyingrhythm.com/event/david-with-sticky-mulligan-in-paonia-co/
LOCATION:Revolution Brewing\, United States
CATEGORIES:Performance
ATTACH;FMTTYPE=image/jpeg:https://embodyingrhythm.com/wp-content/uploads/dscn9639-1.jpg
END:VEVENT
BEGIN:VEVENT
DTSTART;TZID=America/Denver:20130621T220000
DTEND;TZID=America/Denver:20130621T220000
DTSTAMP:20260420T002519
CREATED:20170726T030757Z
LAST-MODIFIED:20170726T052228Z
UID:6890-1371852000-1371852000@embodyingrhythm.com
SUMMARY:David with the Tierro band in Boulder\, CO
DESCRIPTION:Shine Restaurant and Gathering Place – June 21st\nin Boulder\, CO http://www.shineboulder.com/ 2027 13th Street\, Boulder CO 80302\n303.449.0120 | Reservations \n Arise Music Festival Pre-Party9:00 PM – 2:00 AM  Jun 21\, 2013\n(General) \n\n  \n\n\n \n\n\n\nARISE Music Festival **** PRE PARTY BOULDER ****She Said String Band 9:00 p.m. – 9:45 p.m.\nTIERRO 10:00 p.m. – 11:00 p.m.\nAstronomix – 11:15 p.m. – 12:15 a.m.\nMIRAJA 12:30 a.m. – 2:00 a.m. \n* $10 General admission * 21+ *while supplies last. ADV TICKETS CLICK HERE: http://tinyurl.com/ARISEPreParty \n* Festival passes will be available for purchase (No service fee!).\n\n\n\n\n 
URL:https://embodyingrhythm.com/event/david-with-the-tierro-band-in-boulder-co/
CATEGORIES:Performance
END:VEVENT
BEGIN:VEVENT
DTSTART;TZID=America/Denver:20130619T190000
DTEND;TZID=America/Denver:20130619T210000
DTSTAMP:20260420T002519
CREATED:20170726T030648Z
LAST-MODIFIED:20170726T052228Z
UID:6811-1371668400-1371675600@embodyingrhythm.com
SUMMARY:David with Sticky Mulligan in Evergreen\, CO
DESCRIPTION:David and Sticky will throw down an amazing show in Evergreen. 7-9pm\nEvergreen Lake Concert Series in Evergreen\, CO
URL:https://embodyingrhythm.com/event/david-with-sticky-mulligan-in-evergreen-co/
LOCATION:Evergreen Lake Concert Series\, United States
CATEGORIES:Performance
ATTACH;FMTTYPE=image/jpeg:https://embodyingrhythm.com/wp-content/uploads/david-sticky-water-bottle-jam.jpg
END:VEVENT
BEGIN:VEVENT
DTSTART;TZID=America/Denver:20130616T180000
DTEND;TZID=America/Denver:20130616T203000
DTSTAMP:20260420T002519
CREATED:20170726T030724Z
LAST-MODIFIED:20170726T052229Z
UID:6851-1371405600-1371414600@embodyingrhythm.com
SUMMARY:David with Sticky Mulligan in Gunnison\, CO
DESCRIPTION:“Sundays at 6” – GunnisonThe Gunnison Arts Center is proud to continue their FREE live music concert series in Legion Park on Sunday evening at 6:00 pm! \nwww.stickymulligan.com
URL:https://embodyingrhythm.com/event/david-with-sticky-mulligan-in-gunnison-co/
LOCATION:Legion Park\, United States
CATEGORIES:Performance
END:VEVENT
BEGIN:VEVENT
DTSTART;TZID=America/Denver:20130615T200000
DTEND;TZID=America/Denver:20130615T223000
DTSTAMP:20260420T002519
CREATED:20170726T030655Z
LAST-MODIFIED:20170726T052229Z
UID:6821-1371326400-1371335400@embodyingrhythm.com
SUMMARY:David with Sticky Mulligan in Ridgeway\, CO
DESCRIPTION:David and Sticky with Daniel B and Fransqua will throw down an amazing show in Ridgeway at the Sherbino Theater.
URL:https://embodyingrhythm.com/event/david-with-sticky-mulligan-in-ridgeway-co/
LOCATION:Sherbino Theater\, United States
CATEGORIES:Performance
END:VEVENT
BEGIN:VEVENT
DTSTART;TZID=America/Denver:20130614T200600
DTEND;TZID=America/Denver:20130614T200600
DTSTAMP:20260420T002519
CREATED:20170726T030725Z
LAST-MODIFIED:20170726T052229Z
UID:6852-1371240360-1371240360@embodyingrhythm.com
SUMMARY:David with Sticky Mulligan in Dolores\, CO
DESCRIPTION:www.doloresriverbrewery.com\nDavid and Sticky Mulligan offer a duo experience for your listening pleasure.
URL:https://embodyingrhythm.com/event/david-with-sticky-mulligan-in-dolores-co/
LOCATION:Dolores River Brewery\, United States
CATEGORIES:Performance
ATTACH;FMTTYPE=image/jpeg:https://embodyingrhythm.com/wp-content/uploads/david-sticky-water-bottle-jam.jpg
END:VEVENT
BEGIN:VEVENT
DTSTART;VALUE=DATE:20130505
DTEND;VALUE=DATE:20130506
DTSTAMP:20260420T002519
CREATED:20170726T030658Z
LAST-MODIFIED:20170726T052229Z
UID:6825-1367712000-1367798399@embodyingrhythm.com
SUMMARY:David with Sea Stars
DESCRIPTION:Cavalcade
URL:https://embodyingrhythm.com/event/david-with-sea-stars/
CATEGORIES:Performance
END:VEVENT
END:VCALENDAR