BEGIN:VCALENDAR
VERSION:2.0
PRODID:-//Embodying Rhythm - ECPv6.15.20//NONSGML v1.0//EN
CALSCALE:GREGORIAN
METHOD:PUBLISH
X-WR-CALNAME:Embodying Rhythm
X-ORIGINAL-URL:https://embodyingrhythm.com
X-WR-CALDESC:Events for Embodying Rhythm
REFRESH-INTERVAL;VALUE=DURATION:PT1H
X-Robots-Tag:noindex
X-PUBLISHED-TTL:PT1H
BEGIN:VTIMEZONE
TZID:America/Denver
BEGIN:DAYLIGHT
TZOFFSETFROM:-0700
TZOFFSETTO:-0600
TZNAME:MDT
DTSTART:20110313T090000
END:DAYLIGHT
BEGIN:STANDARD
TZOFFSETFROM:-0600
TZOFFSETTO:-0700
TZNAME:MST
DTSTART:20111106T080000
END:STANDARD
BEGIN:DAYLIGHT
TZOFFSETFROM:-0700
TZOFFSETTO:-0600
TZNAME:MDT
DTSTART:20120311T090000
END:DAYLIGHT
BEGIN:STANDARD
TZOFFSETFROM:-0600
TZOFFSETTO:-0700
TZNAME:MST
DTSTART:20121104T080000
END:STANDARD
BEGIN:DAYLIGHT
TZOFFSETFROM:-0700
TZOFFSETTO:-0600
TZNAME:MDT
DTSTART:20130310T090000
END:DAYLIGHT
BEGIN:STANDARD
TZOFFSETFROM:-0600
TZOFFSETTO:-0700
TZNAME:MST
DTSTART:20131103T080000
END:STANDARD
BEGIN:DAYLIGHT
TZOFFSETFROM:-0700
TZOFFSETTO:-0600
TZNAME:MDT
DTSTART:20140309T090000
END:DAYLIGHT
BEGIN:STANDARD
TZOFFSETFROM:-0600
TZOFFSETTO:-0700
TZNAME:MST
DTSTART:20141102T080000
END:STANDARD
END:VTIMEZONE
BEGIN:VEVENT
DTSTART;VALUE=DATE:20130403
DTEND;VALUE=DATE:20130404
DTSTAMP:20260422T052601
CREATED:20170726T030648Z
LAST-MODIFIED:20170726T052231Z
UID:6812-1364947200-1365033599@embodyingrhythm.com
SUMMARY:David with Sticky Mulligan in Damascus\, MD
DESCRIPTION:other
URL:https://embodyingrhythm.com/event/david-with-sticky-mulligan-in-damascus-md/
CATEGORIES:Performance
END:VEVENT
BEGIN:VEVENT
DTSTART;VALUE=DATE:20130309
DTEND;VALUE=DATE:20130310
DTSTAMP:20260422T052601
CREATED:20170726T030639Z
LAST-MODIFIED:20170726T052231Z
UID:6798-1362787200-1362873599@embodyingrhythm.com
SUMMARY:FEAST special show
DESCRIPTION:Other
URL:https://embodyingrhythm.com/event/feast-special-show/
CATEGORIES:Performance
END:VEVENT
BEGIN:VEVENT
DTSTART;VALUE=DATE:20130216
DTEND;VALUE=DATE:20130228
DTSTAMP:20260422T052601
CREATED:20170726T030640Z
LAST-MODIFIED:20170726T052231Z
UID:6799-1360972800-1362009599@embodyingrhythm.com
SUMMARY:FEAST on Tour S. Dakota\, Wisconsin\, N. Dakaota\, Montana
DESCRIPTION:other
URL:https://embodyingrhythm.com/event/feast-on-tour-s-dakota-wisconsin-n-dakaota-montana/
CATEGORIES:Performance
END:VEVENT
BEGIN:VEVENT
DTSTART;VALUE=DATE:20130202
DTEND;VALUE=DATE:20130203
DTSTAMP:20260422T052601
CREATED:20170726T030654Z
LAST-MODIFIED:20170726T052231Z
UID:6819-1359763200-1359849599@embodyingrhythm.com
SUMMARY:David with Sticky Mulligan
DESCRIPTION:Mesa Theater
URL:https://embodyingrhythm.com/event/david-with-sticky-mulligan-7/
CATEGORIES:Performance
END:VEVENT
BEGIN:VEVENT
DTSTART;VALUE=DATE:20130118
DTEND;VALUE=DATE:20130119
DTSTAMP:20260422T052601
CREATED:20170726T030631Z
LAST-MODIFIED:20170726T052231Z
UID:6785-1358467200-1358553599@embodyingrhythm.com
SUMMARY:Sticky Mulligan with full band
DESCRIPTION:Cavalcade
URL:https://embodyingrhythm.com/event/sticky-mulligan-with-full-band/
CATEGORIES:Performance
END:VEVENT
BEGIN:VEVENT
DTSTART;VALUE=DATE:20130113
DTEND;VALUE=DATE:20130114
DTSTAMP:20260422T052601
CREATED:20170726T030642Z
LAST-MODIFIED:20170726T052232Z
UID:6802-1358035200-1358121599@embodyingrhythm.com
SUMMARY:FEAST - Celtic Rhapsody
DESCRIPTION:Glenwood High School
URL:https://embodyingrhythm.com/event/feast-celtic-rhapsody-2/
CATEGORIES:Performance
END:VEVENT
BEGIN:VEVENT
DTSTART;VALUE=DATE:20130112
DTEND;VALUE=DATE:20130113
DTSTAMP:20260422T052601
CREATED:20170726T030643Z
LAST-MODIFIED:20170726T052233Z
UID:6803-1357948800-1358035199@embodyingrhythm.com
SUMMARY:FEAST - Celtic Rhapsody
DESCRIPTION:Avalon Theater
URL:https://embodyingrhythm.com/event/feast-celtic-rhapsody-3/
CATEGORIES:Performance
END:VEVENT
BEGIN:VEVENT
DTSTART;VALUE=DATE:20130111
DTEND;VALUE=DATE:20130112
DTSTAMP:20260422T052601
CREATED:20170726T030641Z
LAST-MODIFIED:20170726T052233Z
UID:6801-1357862400-1357948799@embodyingrhythm.com
SUMMARY:FEAST - Celtic Rhapsody
DESCRIPTION:Avalon Theater
URL:https://embodyingrhythm.com/event/feast-celtic-rhapsody/
CATEGORIES:Performance
END:VEVENT
BEGIN:VEVENT
DTSTART;VALUE=DATE:20130110
DTEND;VALUE=DATE:20130111
DTSTAMP:20260422T052601
CREATED:20170726T030643Z
LAST-MODIFIED:20170726T052233Z
UID:6804-1357776000-1357862399@embodyingrhythm.com
SUMMARY:FEAST - Celtic Rhapsody
DESCRIPTION:Montrose Pavilion
URL:https://embodyingrhythm.com/event/feast-celtic-rhapsody-4/
CATEGORIES:Performance
END:VEVENT
BEGIN:VEVENT
DTSTART;VALUE=DATE:20121222
DTEND;VALUE=DATE:20121223
DTSTAMP:20260422T052601
CREATED:20170726T030718Z
LAST-MODIFIED:20170726T052234Z
UID:6847-1356134400-1356220799@embodyingrhythm.com
SUMMARY:Christmas Concert - with Arlyn and David on percussion
DESCRIPTION:Sacred Heart Church
URL:https://embodyingrhythm.com/event/christmas-concert-with-arlyn-and-david-on-percussion/
CATEGORIES:Performance
END:VEVENT
BEGIN:VEVENT
DTSTART;VALUE=DATE:20121221
DTEND;VALUE=DATE:20121222
DTSTAMP:20260422T052601
CREATED:20170726T030630Z
LAST-MODIFIED:20170726T052234Z
UID:6784-1356048000-1356134399@embodyingrhythm.com
SUMMARY:The Dark Night - David on Percussion
DESCRIPTION:Paradise Theater
URL:https://embodyingrhythm.com/event/the-dark-night-david-on-percussion-2/
CATEGORIES:Performance
END:VEVENT
BEGIN:VEVENT
DTSTART;VALUE=DATE:20121220
DTEND;VALUE=DATE:20121221
DTSTAMP:20260422T052601
CREATED:20170726T030629Z
LAST-MODIFIED:20170726T052235Z
UID:6783-1355961600-1356047999@embodyingrhythm.com
SUMMARY:The Dark Night - David on Percussion
DESCRIPTION:Paradise Theater
URL:https://embodyingrhythm.com/event/the-dark-night-david-on-percussion/
CATEGORIES:Performance
END:VEVENT
BEGIN:VEVENT
DTSTART;VALUE=DATE:20121109
DTEND;VALUE=DATE:20121120
DTSTAMP:20260422T052601
CREATED:20170726T030638Z
LAST-MODIFIED:20170726T052235Z
UID:6797-1352419200-1353369599@embodyingrhythm.com
SUMMARY:FEAST tour
DESCRIPTION:other
URL:https://embodyingrhythm.com/event/feast-tour/
CATEGORIES:Performance
END:VEVENT
BEGIN:VEVENT
DTSTART;VALUE=DATE:20120929
DTEND;VALUE=DATE:20120930
DTSTAMP:20260422T052601
CREATED:20170726T030637Z
LAST-MODIFIED:20170726T052235Z
UID:6795-1348876800-1348963199@embodyingrhythm.com
SUMMARY:Harvest Festival - David performs with 3 bands
DESCRIPTION:Blue Sage Center
URL:https://embodyingrhythm.com/event/harvest-festival-david-performs-with-3-bands/
CATEGORIES:Performance
END:VEVENT
BEGIN:VEVENT
DTSTART;VALUE=DATE:20120927
DTEND;VALUE=DATE:20120928
DTSTAMP:20260422T052601
CREATED:20170726T030637Z
LAST-MODIFIED:20170726T052235Z
UID:6794-1348704000-1348790399@embodyingrhythm.com
SUMMARY:Harvest of Voices
DESCRIPTION:Blue Sage Center
URL:https://embodyingrhythm.com/event/harvest-of-voices-2/
CATEGORIES:Performance
END:VEVENT
BEGIN:VEVENT
DTSTART;VALUE=DATE:20120924
DTEND;VALUE=DATE:20120925
DTSTAMP:20260422T052601
CREATED:20170726T030635Z
LAST-MODIFIED:20170726T052235Z
UID:6792-1348444800-1348531199@embodyingrhythm.com
SUMMARY:looking for a new way to enjoy words?
DESCRIPTION:Paonia Public Library
URL:https://embodyingrhythm.com/event/looking-for-a-new-way-to-enjoy-words/
CATEGORIES:Performance
END:VEVENT
BEGIN:VEVENT
DTSTART;VALUE=DATE:20120915
DTEND;VALUE=DATE:20120916
DTSTAMP:20260422T052601
CREATED:20170726T030641Z
LAST-MODIFIED:20170726T052235Z
UID:6800-1347667200-1347753599@embodyingrhythm.com
SUMMARY:FEAST in Paonia
DESCRIPTION:Paradise Theater
URL:https://embodyingrhythm.com/event/feast-in-paonia/
CATEGORIES:Performance
END:VEVENT
BEGIN:VEVENT
DTSTART;VALUE=DATE:20120908
DTEND;VALUE=DATE:20120909
DTSTAMP:20260422T052601
CREATED:20170726T030652Z
LAST-MODIFIED:20170726T052236Z
UID:6816-1347062400-1347148799@embodyingrhythm.com
SUMMARY:David with Sticky Mulligan and Crew
DESCRIPTION:Ridgeway
URL:https://embodyingrhythm.com/event/david-with-sticky-mulligan-and-crew/
CATEGORIES:Performance
END:VEVENT
BEGIN:VEVENT
DTSTART;VALUE=DATE:20120817
DTEND;VALUE=DATE:20120818
DTSTAMP:20260422T052601
CREATED:20170726T030713Z
LAST-MODIFIED:20170726T052237Z
UID:6842-1345161600-1345247999@embodyingrhythm.com
SUMMARY:David Plays with Sticky Mulligan
DESCRIPTION:Cavalcade
URL:https://embodyingrhythm.com/event/david-plays-with-sticky-mulligan-3/
CATEGORIES:Performance
END:VEVENT
BEGIN:VEVENT
DTSTART;VALUE=DATE:20120811
DTEND;VALUE=DATE:20120812
DTSTAMP:20260422T052601
CREATED:20170726T030714Z
LAST-MODIFIED:20170726T052237Z
UID:6844-1344643200-1344729599@embodyingrhythm.com
SUMMARY:David Plays with Sticky Mulligan
DESCRIPTION:other
URL:https://embodyingrhythm.com/event/david-plays-with-sticky-mulligan-5/
CATEGORIES:Performance
END:VEVENT
BEGIN:VEVENT
DTSTART;VALUE=DATE:20120803
DTEND;VALUE=DATE:20120804
DTSTAMP:20260422T052601
CREATED:20170726T030635Z
LAST-MODIFIED:20170726T052237Z
UID:6791-1343952000-1344038399@embodyingrhythm.com
SUMMARY:members of FEAST at Louie's
DESCRIPTION:Louies Pizza
URL:https://embodyingrhythm.com/event/members-of-feast-at-louies/
CATEGORIES:Performance
END:VEVENT
BEGIN:VEVENT
DTSTART;VALUE=DATE:20120720
DTEND;VALUE=DATE:20120721
DTSTAMP:20260422T052601
CREATED:20170726T030720Z
LAST-MODIFIED:20170726T052238Z
UID:6848-1342742400-1342828799@embodyingrhythm.com
SUMMARY:Celebrate the Beat Summer Camp Performance
DESCRIPTION:Paonia Town Park
URL:https://embodyingrhythm.com/event/celebrate-the-beat-summer-camp-performance/
CATEGORIES:Performance
END:VEVENT
BEGIN:VEVENT
DTSTART;VALUE=DATE:20120720
DTEND;VALUE=DATE:20120721
DTSTAMP:20260422T052601
CREATED:20170726T030712Z
LAST-MODIFIED:20170726T052238Z
UID:6840-1342742400-1342828799@embodyingrhythm.com
SUMMARY:David Plays with Sticky Mulligan
DESCRIPTION:Ridgeway
URL:https://embodyingrhythm.com/event/david-plays-with-sticky-mulligan/
CATEGORIES:Performance
END:VEVENT
BEGIN:VEVENT
DTSTART;VALUE=DATE:20120719
DTEND;VALUE=DATE:20120720
DTSTAMP:20260422T052601
CREATED:20170726T030714Z
LAST-MODIFIED:20170726T052238Z
UID:6843-1342656000-1342742399@embodyingrhythm.com
SUMMARY:David Plays with Sticky Mulligan
DESCRIPTION:Montrose
URL:https://embodyingrhythm.com/event/david-plays-with-sticky-mulligan-4/
CATEGORIES:Performance
END:VEVENT
BEGIN:VEVENT
DTSTART;VALUE=DATE:20120718
DTEND;VALUE=DATE:20120719
DTSTAMP:20260422T052601
CREATED:20170726T030712Z
LAST-MODIFIED:20170726T052239Z
UID:6841-1342569600-1342655999@embodyingrhythm.com
SUMMARY:David Plays with Sticky Mulligan
DESCRIPTION:other
URL:https://embodyingrhythm.com/event/david-plays-with-sticky-mulligan-2/
CATEGORIES:Performance
END:VEVENT
BEGIN:VEVENT
DTSTART;VALUE=DATE:20120714
DTEND;VALUE=DATE:20120715
DTSTAMP:20260422T052601
CREATED:20170726T030703Z
LAST-MODIFIED:20170726T052239Z
UID:6832-1342224000-1342310399@embodyingrhythm.com
SUMMARY:David with Pretty Gritty
DESCRIPTION:other
URL:https://embodyingrhythm.com/event/david-with-pretty-gritty-6/
CATEGORIES:Performance
END:VEVENT
BEGIN:VEVENT
DTSTART;VALUE=DATE:20120713
DTEND;VALUE=DATE:20120714
DTSTAMP:20260422T052601
CREATED:20170726T030705Z
LAST-MODIFIED:20170726T052239Z
UID:6834-1342137600-1342223999@embodyingrhythm.com
SUMMARY:David with Pretty Gritty
DESCRIPTION:other
URL:https://embodyingrhythm.com/event/david-with-pretty-gritty-8/
CATEGORIES:Performance
END:VEVENT
BEGIN:VEVENT
DTSTART;VALUE=DATE:20120712
DTEND;VALUE=DATE:20120713
DTSTAMP:20260422T052601
CREATED:20170726T030700Z
LAST-MODIFIED:20170726T052239Z
UID:6829-1342051200-1342137599@embodyingrhythm.com
SUMMARY:David with Pretty Gritty
DESCRIPTION:Ridgeway
URL:https://embodyingrhythm.com/event/david-with-pretty-gritty-3/
CATEGORIES:Performance
END:VEVENT
BEGIN:VEVENT
DTSTART;VALUE=DATE:20120711
DTEND;VALUE=DATE:20120712
DTSTAMP:20260422T052601
CREATED:20170726T030702Z
LAST-MODIFIED:20170726T052239Z
UID:6830-1341964800-1342051199@embodyingrhythm.com
SUMMARY:David with Pretty Gritty
DESCRIPTION:Revolution Brewing
URL:https://embodyingrhythm.com/event/david-with-pretty-gritty-4/
CATEGORIES:Performance
END:VEVENT
BEGIN:VEVENT
DTSTART;VALUE=DATE:20120710
DTEND;VALUE=DATE:20120711
DTSTAMP:20260422T052601
CREATED:20170726T030658Z
LAST-MODIFIED:20170726T052239Z
UID:6826-1341878400-1341964799@embodyingrhythm.com
SUMMARY:David with Pretty Gritty in Moab UT
DESCRIPTION:other
URL:https://embodyingrhythm.com/event/david-with-pretty-gritty-in-moab-ut/
CATEGORIES:Performance
END:VEVENT
END:VCALENDAR