BEGIN:VCALENDAR
VERSION:2.0
PRODID:-//Embodying Rhythm - ECPv6.15.20//NONSGML v1.0//EN
CALSCALE:GREGORIAN
METHOD:PUBLISH
X-WR-CALNAME:Embodying Rhythm
X-ORIGINAL-URL:https://embodyingrhythm.com
X-WR-CALDESC:Events for Embodying Rhythm
REFRESH-INTERVAL;VALUE=DURATION:PT1H
X-Robots-Tag:noindex
X-PUBLISHED-TTL:PT1H
BEGIN:VTIMEZONE
TZID:America/Denver
BEGIN:DAYLIGHT
TZOFFSETFROM:-0700
TZOFFSETTO:-0600
TZNAME:MDT
DTSTART:20100314T090000
END:DAYLIGHT
BEGIN:STANDARD
TZOFFSETFROM:-0600
TZOFFSETTO:-0700
TZNAME:MST
DTSTART:20101107T080000
END:STANDARD
BEGIN:DAYLIGHT
TZOFFSETFROM:-0700
TZOFFSETTO:-0600
TZNAME:MDT
DTSTART:20110313T090000
END:DAYLIGHT
BEGIN:STANDARD
TZOFFSETFROM:-0600
TZOFFSETTO:-0700
TZNAME:MST
DTSTART:20111106T080000
END:STANDARD
BEGIN:DAYLIGHT
TZOFFSETFROM:-0700
TZOFFSETTO:-0600
TZNAME:MDT
DTSTART:20120311T090000
END:DAYLIGHT
BEGIN:STANDARD
TZOFFSETFROM:-0600
TZOFFSETTO:-0700
TZNAME:MST
DTSTART:20121104T080000
END:STANDARD
BEGIN:DAYLIGHT
TZOFFSETFROM:-0700
TZOFFSETTO:-0600
TZNAME:MDT
DTSTART:20130310T090000
END:DAYLIGHT
BEGIN:STANDARD
TZOFFSETFROM:-0600
TZOFFSETTO:-0700
TZNAME:MST
DTSTART:20131103T080000
END:STANDARD
END:VTIMEZONE
BEGIN:VEVENT
DTSTART;VALUE=DATE:20120629
DTEND;VALUE=DATE:20120630
DTSTAMP:20260422T070627
CREATED:20170726T030644Z
LAST-MODIFIED:20170726T052241Z
UID:6806-1340928000-1341014399@embodyingrhythm.com
SUMMARY:David with the Sea Stars
DESCRIPTION:Steves Guitars
URL:https://embodyingrhythm.com/event/david-with-the-sea-stars/
CATEGORIES:Performance
END:VEVENT
BEGIN:VEVENT
DTSTART;VALUE=DATE:20120623
DTEND;VALUE=DATE:20120624
DTSTAMP:20260422T070627
CREATED:20170726T030709Z
LAST-MODIFIED:20170726T052241Z
UID:6838-1340409600-1340495999@embodyingrhythm.com
SUMMARY:David plays with the Sea Stars
DESCRIPTION:Cavalcade
URL:https://embodyingrhythm.com/event/david-plays-with-the-sea-stars/
CATEGORIES:Performance
END:VEVENT
BEGIN:VEVENT
DTSTART;VALUE=DATE:20120623
DTEND;VALUE=DATE:20120624
DTSTAMP:20260422T070627
CREATED:20170726T030644Z
LAST-MODIFIED:20170726T052242Z
UID:6805-1340409600-1340495999@embodyingrhythm.com
SUMMARY:David with the Sea Stars at Illumifest
DESCRIPTION:other
URL:https://embodyingrhythm.com/event/david-with-the-sea-stars-at-illumifest/
CATEGORIES:Performance
END:VEVENT
BEGIN:VEVENT
DTSTART;VALUE=DATE:20120620
DTEND;VALUE=DATE:20120621
DTSTAMP:20260422T070627
CREATED:20170726T030711Z
LAST-MODIFIED:20170726T052242Z
UID:6839-1340150400-1340236799@embodyingrhythm.com
SUMMARY:David plays with the Sea Stars
DESCRIPTION:Basalt
URL:https://embodyingrhythm.com/event/david-plays-with-the-sea-stars-2/
CATEGORIES:Performance
END:VEVENT
BEGIN:VEVENT
DTSTART;VALUE=DATE:20120616
DTEND;VALUE=DATE:20120617
DTSTAMP:20260422T070627
CREATED:20170726T030646Z
LAST-MODIFIED:20170726T052242Z
UID:6808-1339804800-1339891199@embodyingrhythm.com
SUMMARY:David with Susan Walton
DESCRIPTION:Montrose
URL:https://embodyingrhythm.com/event/david-with-susan-walton/
CATEGORIES:Performance
END:VEVENT
BEGIN:VEVENT
DTSTART;VALUE=DATE:20120610
DTEND;VALUE=DATE:20120611
DTSTAMP:20260422T070627
CREATED:20170726T030634Z
LAST-MODIFIED:20170726T052242Z
UID:6789-1339286400-1339372799@embodyingrhythm.com
SUMMARY:Sea Stars at Desert Rocks
DESCRIPTION:other
URL:https://embodyingrhythm.com/event/sea-stars-at-desert-rocks/
CATEGORIES:Performance
END:VEVENT
BEGIN:VEVENT
DTSTART;VALUE=DATE:20120608
DTEND;VALUE=DATE:20120609
DTSTAMP:20260422T070627
CREATED:20170726T030706Z
LAST-MODIFIED:20170726T052243Z
UID:6835-1339113600-1339199999@embodyingrhythm.com
SUMMARY:David with Joe Alan
DESCRIPTION:Paradise Theater
URL:https://embodyingrhythm.com/event/david-with-joe-alan/
CATEGORIES:Performance
END:VEVENT
BEGIN:VEVENT
DTSTART;VALUE=DATE:20120602
DTEND;VALUE=DATE:20120603
DTSTAMP:20260422T070627
CREATED:20170726T030652Z
LAST-MODIFIED:20170726T052243Z
UID:6817-1338595200-1338681599@embodyingrhythm.com
SUMMARY:David with Sticky Mulligan
DESCRIPTION:Steves Guitars
URL:https://embodyingrhythm.com/event/david-with-sticky-mulligan-5/
CATEGORIES:Performance
END:VEVENT
BEGIN:VEVENT
DTSTART;VALUE=DATE:20120530
DTEND;VALUE=DATE:20120531
DTSTAMP:20260422T070627
CREATED:20170726T030653Z
LAST-MODIFIED:20170726T052243Z
UID:6818-1338336000-1338422399@embodyingrhythm.com
SUMMARY:David with Sticky Mulligan
DESCRIPTION:Revolution Brewing
URL:https://embodyingrhythm.com/event/david-with-sticky-mulligan-6/
CATEGORIES:Performance
END:VEVENT
BEGIN:VEVENT
DTSTART;VALUE=DATE:20120522
DTEND;VALUE=DATE:20120523
DTSTAMP:20260422T070627
CREATED:20170726T030721Z
LAST-MODIFIED:20170726T052244Z
UID:6849-1337644800-1337731199@embodyingrhythm.com
SUMMARY:Celebrate the Beat - kid's show
DESCRIPTION:other
URL:https://embodyingrhythm.com/event/celebrate-the-beat-kids-show-2/
CATEGORIES:Performance
END:VEVENT
BEGIN:VEVENT
DTSTART;VALUE=DATE:20120420
DTEND;VALUE=DATE:20120421
DTSTAMP:20260422T070627
CREATED:20170726T030637Z
LAST-MODIFIED:20170726T052245Z
UID:6793-1334880000-1334966399@embodyingrhythm.com
SUMMARY:HOW TO SUCCEED IN BUSINESS WITHOUT REALLY TRYING - play
DESCRIPTION:F. Scott Fitzgerald Theatre
URL:https://embodyingrhythm.com/event/how-to-succeed-in-business-without-really-trying-play/
CATEGORIES:Performance
END:VEVENT
BEGIN:VEVENT
DTSTART;VALUE=DATE:20120317
DTEND;VALUE=DATE:20120318
DTSTAMP:20260422T070627
CREATED:20170726T030631Z
LAST-MODIFIED:20170726T052246Z
UID:6787-1331942400-1332028799@embodyingrhythm.com
SUMMARY:Sea Stars in Grand Junction
DESCRIPTION:Yoga West
URL:https://embodyingrhythm.com/event/sea-stars-in-grand-junction/
CATEGORIES:Performance
END:VEVENT
BEGIN:VEVENT
DTSTART;VALUE=DATE:20120316
DTEND;VALUE=DATE:20120317
DTSTAMP:20260422T070627
CREATED:20170726T030631Z
LAST-MODIFIED:20170726T052246Z
UID:6786-1331856000-1331942399@embodyingrhythm.com
SUMMARY:Sea Stars play Fruita Cavalcade
DESCRIPTION:other
URL:https://embodyingrhythm.com/event/sea-stars-play-fruita-cavalcade/
CATEGORIES:Performance
END:VEVENT
BEGIN:VEVENT
DTSTART;VALUE=DATE:20120309
DTEND;VALUE=DATE:20120310
DTSTAMP:20260422T070627
CREATED:20170726T030635Z
LAST-MODIFIED:20170726T052246Z
UID:6790-1331251200-1331337599@embodyingrhythm.com
SUMMARY:Sea Stars
DESCRIPTION:Blue Sage Center
URL:https://embodyingrhythm.com/event/sea-stars/
CATEGORIES:Performance
END:VEVENT
BEGIN:VEVENT
DTSTART;VALUE=DATE:20120303
DTEND;VALUE=DATE:20120304
DTSTAMP:20260422T070627
CREATED:20170726T030638Z
LAST-MODIFIED:20170726T052247Z
UID:6796-1330732800-1330819199@embodyingrhythm.com
SUMMARY:Fevershake
DESCRIPTION:Paradise Theater
URL:https://embodyingrhythm.com/event/fevershake/
CATEGORIES:Performance
END:VEVENT
BEGIN:VEVENT
DTSTART;VALUE=DATE:20120303
DTEND;VALUE=DATE:20120304
DTSTAMP:20260422T070627
CREATED:20170726T030633Z
LAST-MODIFIED:20170726T052247Z
UID:6788-1330732800-1330819199@embodyingrhythm.com
SUMMARY:Sea Stars at the Biodynamics Conference
DESCRIPTION:Memorial Hall
URL:https://embodyingrhythm.com/event/sea-stars-at-the-biodynamics-conference/
CATEGORIES:Performance
END:VEVENT
BEGIN:VEVENT
DTSTART;VALUE=DATE:20120302
DTEND;VALUE=DATE:20120303
DTSTAMP:20260422T070627
CREATED:20170726T030544Z
LAST-MODIFIED:20170726T052247Z
UID:6726-1330646400-1330732799@embodyingrhythm.com
SUMMARY:Sea Stars play Steve's Guitars in Carbondale
DESCRIPTION:Steves Guitars
URL:https://embodyingrhythm.com/event/sea-stars-play-steves-guitars-in-carbondale/
CATEGORIES:Performance
END:VEVENT
BEGIN:VEVENT
DTSTART;VALUE=DATE:20120228
DTEND;VALUE=DATE:20120229
DTSTAMP:20260422T070627
CREATED:20170726T030544Z
LAST-MODIFIED:20170726T052248Z
UID:6727-1330387200-1330473599@embodyingrhythm.com
SUMMARY:Sea Stars at Mystic Hot Springs\, UT
DESCRIPTION:other
URL:https://embodyingrhythm.com/event/sea-stars-at-mystic-hot-springs-ut/
CATEGORIES:Performance
END:VEVENT
BEGIN:VEVENT
DTSTART;VALUE=DATE:20120114
DTEND;VALUE=DATE:20120115
DTSTAMP:20260422T070627
CREATED:20170726T030557Z
LAST-MODIFIED:20170726T052248Z
UID:6746-1326499200-1326585599@embodyingrhythm.com
SUMMARY:FEAST
DESCRIPTION:Glenwood High School
URL:https://embodyingrhythm.com/event/feast-3/
CATEGORIES:Performance
END:VEVENT
BEGIN:VEVENT
DTSTART;VALUE=DATE:20120113
DTEND;VALUE=DATE:20120114
DTSTAMP:20260422T070627
CREATED:20170726T030557Z
LAST-MODIFIED:20170726T052248Z
UID:6747-1326412800-1326499199@embodyingrhythm.com
SUMMARY:FEAST
DESCRIPTION:Avalon Theater
URL:https://embodyingrhythm.com/event/feast-4/
CATEGORIES:Performance
END:VEVENT
BEGIN:VEVENT
DTSTART;VALUE=DATE:20120112
DTEND;VALUE=DATE:20120113
DTSTAMP:20260422T070627
CREATED:20170726T030557Z
LAST-MODIFIED:20170726T052249Z
UID:6745-1326326400-1326412799@embodyingrhythm.com
SUMMARY:FEAST
DESCRIPTION:Montrose Pavilion
URL:https://embodyingrhythm.com/event/feast-2/
CATEGORIES:Performance
END:VEVENT
BEGIN:VEVENT
DTSTART;VALUE=DATE:20110924
DTEND;VALUE=DATE:20110925
DTSTAMP:20260422T070627
CREATED:20170726T030610Z
LAST-MODIFIED:20170726T052249Z
UID:6756-1316822400-1316908799@embodyingrhythm.com
SUMMARY:David with Sticky Mulligan
DESCRIPTION:Blue Sage Center
URL:https://embodyingrhythm.com/event/david-with-sticky-mulligan-2/
CATEGORIES:Performance
END:VEVENT
BEGIN:VEVENT
DTSTART;VALUE=DATE:20110824
DTEND;VALUE=DATE:20110825
DTSTAMP:20260422T070627
CREATED:20170726T030613Z
LAST-MODIFIED:20170726T052249Z
UID:6761-1314144000-1314230399@embodyingrhythm.com
SUMMARY:David with Sticky and Crew
DESCRIPTION:Revolution Brewing
URL:https://embodyingrhythm.com/event/david-with-sticky-and-crew/
CATEGORIES:Performance
END:VEVENT
BEGIN:VEVENT
DTSTART;VALUE=DATE:20110807
DTEND;VALUE=DATE:20110808
DTSTAMP:20260422T070627
CREATED:20170726T030605Z
LAST-MODIFIED:20170726T052250Z
UID:6752-1312675200-1312761599@embodyingrhythm.com
SUMMARY:David with Sticky Mulligan - Marble\, CO
DESCRIPTION:other
URL:https://embodyingrhythm.com/event/david-with-sticky-mulligan-marble-co/
CATEGORIES:Performance
END:VEVENT
BEGIN:VEVENT
DTSTART;VALUE=DATE:20110805
DTEND;VALUE=DATE:20110806
DTSTAMP:20260422T070627
CREATED:20170726T030614Z
LAST-MODIFIED:20170726T052250Z
UID:6763-1312502400-1312588799@embodyingrhythm.com
SUMMARY:David with Celebrate the Beat children's dance - Vail
DESCRIPTION:other
URL:https://embodyingrhythm.com/event/david-with-celebrate-the-beat-childrens-dance-vail/
CATEGORIES:Performance
END:VEVENT
BEGIN:VEVENT
DTSTART;VALUE=DATE:20110728
DTEND;VALUE=DATE:20110729
DTSTAMP:20260422T070627
CREATED:20170726T030613Z
LAST-MODIFIED:20170726T052314Z
UID:6762-1311811200-1311897599@embodyingrhythm.com
SUMMARY:David with Sticky and Crew
DESCRIPTION:Ridgeway
URL:https://embodyingrhythm.com/event/david-with-sticky-and-crew-2/
CATEGORIES:Performance
END:VEVENT
BEGIN:VEVENT
DTSTART;VALUE=DATE:20110728
DTEND;VALUE=DATE:20110729
DTSTAMP:20260422T070627
CREATED:20170726T030612Z
LAST-MODIFIED:20170726T052315Z
UID:6759-1311811200-1311897599@embodyingrhythm.com
SUMMARY:David with Sticky and Crew - Pickin in the Park - Ridgeway
DESCRIPTION:Ridgeway
URL:https://embodyingrhythm.com/event/david-with-sticky-and-crew-pickin-in-the-park-ridgeway/
CATEGORIES:Performance
END:VEVENT
BEGIN:VEVENT
DTSTART;VALUE=DATE:20110723
DTEND;VALUE=DATE:20110724
DTSTAMP:20260422T070627
CREATED:20170726T030617Z
LAST-MODIFIED:20170726T052315Z
UID:6768-1311379200-1311465599@embodyingrhythm.com
SUMMARY:David with Ariana Saraha and Seva on oud - Boulder\, CO
DESCRIPTION:other
URL:https://embodyingrhythm.com/event/david-with-ariana-saraha-and-seva-on-oud-boulder-co/
CATEGORIES:Performance
END:VEVENT
BEGIN:VEVENT
DTSTART;VALUE=DATE:20110723
DTEND;VALUE=DATE:20110724
DTSTAMP:20260422T070627
CREATED:20170726T030615Z
LAST-MODIFIED:20170726T052316Z
UID:6764-1311379200-1311465599@embodyingrhythm.com
SUMMARY:David with Celebrate the Beat children's dance - Paonia
DESCRIPTION:Paonia Town Park
URL:https://embodyingrhythm.com/event/david-with-celebrate-the-beat-childrens-dance-paonia/
CATEGORIES:Performance
END:VEVENT
BEGIN:VEVENT
DTSTART;VALUE=DATE:20110608
DTEND;VALUE=DATE:20110609
DTSTAMP:20260422T070627
CREATED:20170726T030549Z
LAST-MODIFIED:20170726T052316Z
UID:6735-1307491200-1307577599@embodyingrhythm.com
SUMMARY:Library summer reading program - world music and games
DESCRIPTION:Paonia Town Park
URL:https://embodyingrhythm.com/event/library-summer-reading-program-world-music-and-games/
CATEGORIES:Performance
END:VEVENT
END:VCALENDAR