BEGIN:VCALENDAR
VERSION:2.0
PRODID:-//Embodying Rhythm - ECPv6.15.20//NONSGML v1.0//EN
CALSCALE:GREGORIAN
METHOD:PUBLISH
X-ORIGINAL-URL:https://embodyingrhythm.com
X-WR-CALDESC:Events for Embodying Rhythm
REFRESH-INTERVAL;VALUE=DURATION:PT1H
X-Robots-Tag:noindex
X-PUBLISHED-TTL:PT1H
BEGIN:VTIMEZONE
TZID:America/Denver
BEGIN:DAYLIGHT
TZOFFSETFROM:-0700
TZOFFSETTO:-0600
TZNAME:MDT
DTSTART:20090308T090000
END:DAYLIGHT
BEGIN:STANDARD
TZOFFSETFROM:-0600
TZOFFSETTO:-0700
TZNAME:MST
DTSTART:20091101T080000
END:STANDARD
BEGIN:DAYLIGHT
TZOFFSETFROM:-0700
TZOFFSETTO:-0600
TZNAME:MDT
DTSTART:20100314T090000
END:DAYLIGHT
BEGIN:STANDARD
TZOFFSETFROM:-0600
TZOFFSETTO:-0700
TZNAME:MST
DTSTART:20101107T080000
END:STANDARD
BEGIN:DAYLIGHT
TZOFFSETFROM:-0700
TZOFFSETTO:-0600
TZNAME:MDT
DTSTART:20110313T090000
END:DAYLIGHT
BEGIN:STANDARD
TZOFFSETFROM:-0600
TZOFFSETTO:-0700
TZNAME:MST
DTSTART:20111106T080000
END:STANDARD
BEGIN:DAYLIGHT
TZOFFSETFROM:-0700
TZOFFSETTO:-0600
TZNAME:MDT
DTSTART:20120311T090000
END:DAYLIGHT
BEGIN:STANDARD
TZOFFSETFROM:-0600
TZOFFSETTO:-0700
TZNAME:MST
DTSTART:20121104T080000
END:STANDARD
END:VTIMEZONE
BEGIN:VEVENT
DTSTART;VALUE=DATE:20110520
DTEND;VALUE=DATE:20110521
DTSTAMP:20260422T124350
CREATED:20170726T030626Z
LAST-MODIFIED:20170726T052319Z
UID:6781-1305849600-1305935999@embodyingrhythm.com
SUMMARY:Beth Quist with David
DESCRIPTION:Steves Guitars
URL:https://embodyingrhythm.com/event/beth-quist-with-david-3/
CATEGORIES:Performance
END:VEVENT
BEGIN:VEVENT
DTSTART;VALUE=DATE:20110513
DTEND;VALUE=DATE:20110514
DTSTAMP:20260422T124350
CREATED:20170726T030539Z
LAST-MODIFIED:20170726T052319Z
UID:6719-1305244800-1305331199@embodyingrhythm.com
SUMMARY:The Path of Rhythm - Andy and David - Tabla
DESCRIPTION:Blue Sage Center
URL:https://embodyingrhythm.com/event/the-path-of-rhythm-andy-and-david-tabla/
CATEGORIES:Performance
END:VEVENT
BEGIN:VEVENT
DTSTART;VALUE=DATE:20110511
DTEND;VALUE=DATE:20110512
DTSTAMP:20260422T124350
CREATED:20170726T030612Z
LAST-MODIFIED:20170726T052320Z
UID:6758-1305072000-1305158399@embodyingrhythm.com
SUMMARY:David with Sticky Mulligan
DESCRIPTION:Revolution Brewing
URL:https://embodyingrhythm.com/event/david-with-sticky-mulligan-4/
CATEGORIES:Performance
END:VEVENT
BEGIN:VEVENT
DTSTART;VALUE=DATE:20110507
DTEND;VALUE=DATE:20110508
DTSTAMP:20260422T124350
CREATED:20170726T030606Z
LAST-MODIFIED:20170726T052320Z
UID:6753-1304726400-1304812799@embodyingrhythm.com
SUMMARY:David with Sticky Mulligan - Ft. Collins
DESCRIPTION:other
URL:https://embodyingrhythm.com/event/david-with-sticky-mulligan-ft-collins/
CATEGORIES:Performance
END:VEVENT
BEGIN:VEVENT
DTSTART;VALUE=DATE:20110506
DTEND;VALUE=DATE:20110507
DTSTAMP:20260422T124350
CREATED:20170726T030604Z
LAST-MODIFIED:20170726T052320Z
UID:6751-1304640000-1304726399@embodyingrhythm.com
SUMMARY:David with Sticky Mulligan in Boulder
DESCRIPTION:Laughing Goat
URL:https://embodyingrhythm.com/event/david-with-sticky-mulligan-in-boulder/
CATEGORIES:Performance
END:VEVENT
BEGIN:VEVENT
DTSTART;VALUE=DATE:20110501
DTEND;VALUE=DATE:20110502
DTSTAMP:20260422T124350
CREATED:20170726T030623Z
LAST-MODIFIED:20170726T052320Z
UID:6775-1304208000-1304294399@embodyingrhythm.com
SUMMARY:Celebration of Creation
DESCRIPTION:Glen Mar United Methodist Church
URL:https://embodyingrhythm.com/event/celebration-of-creation-3/
CATEGORIES:Performance
END:VEVENT
BEGIN:VEVENT
DTSTART;VALUE=DATE:20110412
DTEND;VALUE=DATE:20110501
DTSTAMP:20260422T124350
CREATED:20170726T030608Z
LAST-MODIFIED:20170726T052321Z
UID:6754-1302566400-1304207999@embodyingrhythm.com
SUMMARY:David with Sticky Mulligan - East Coast
DESCRIPTION:other
URL:https://embodyingrhythm.com/event/david-with-sticky-mulligan-east-coast/
CATEGORIES:Performance
END:VEVENT
BEGIN:VEVENT
DTSTART;VALUE=DATE:20110320
DTEND;VALUE=DATE:20110321
DTSTAMP:20260422T124350
CREATED:20170726T030553Z
LAST-MODIFIED:20170726T052321Z
UID:6740-1300579200-1300665599@embodyingrhythm.com
SUMMARY:FEAST - Celtic Fire
DESCRIPTION:Ed Stafford Theatre\, Humanities Center\, Otero Juni
URL:https://embodyingrhythm.com/event/feast-celtic-fire-2/
CATEGORIES:Performance
END:VEVENT
BEGIN:VEVENT
DTSTART;VALUE=DATE:20110319
DTEND;VALUE=DATE:20110320
DTSTAMP:20260422T124350
CREATED:20170726T030552Z
LAST-MODIFIED:20170726T052321Z
UID:6739-1300492800-1300579199@embodyingrhythm.com
SUMMARY:FEAST - Celtic Fire
DESCRIPTION:Richardson Auditorium\, Adams State College
URL:https://embodyingrhythm.com/event/feast-celtic-fire/
CATEGORIES:Performance
END:VEVENT
BEGIN:VEVENT
DTSTART;VALUE=DATE:20110318
DTEND;VALUE=DATE:20110319
DTSTAMP:20260422T124350
CREATED:20170726T030553Z
LAST-MODIFIED:20170726T052321Z
UID:6741-1300406400-1300492799@embodyingrhythm.com
SUMMARY:FEAST - Celtic Fire
DESCRIPTION:Brooks/Isham Performing Arts Center
URL:https://embodyingrhythm.com/event/feast-celtic-fire-3/
CATEGORIES:Performance
END:VEVENT
BEGIN:VEVENT
DTSTART;VALUE=DATE:20110317
DTEND;VALUE=DATE:20110318
DTSTAMP:20260422T124350
CREATED:20170726T030554Z
LAST-MODIFIED:20170726T052322Z
UID:6742-1300320000-1300406399@embodyingrhythm.com
SUMMARY:FEAST - Celtic Fire
DESCRIPTION:Duane Smith Auditorium
URL:https://embodyingrhythm.com/event/feast-celtic-fire-4/
CATEGORIES:Performance
END:VEVENT
BEGIN:VEVENT
DTSTART;VALUE=DATE:20110316
DTEND;VALUE=DATE:20110317
DTSTAMP:20260422T124350
CREATED:20170726T030555Z
LAST-MODIFIED:20170726T052322Z
UID:6743-1300233600-1300319999@embodyingrhythm.com
SUMMARY:FEAST - Celtic Fire
DESCRIPTION:Shuler Theater
URL:https://embodyingrhythm.com/event/feast-celtic-fire-5/
CATEGORIES:Performance
END:VEVENT
BEGIN:VEVENT
DTSTART;VALUE=DATE:20110205
DTEND;VALUE=DATE:20110206
DTSTAMP:20260422T124350
CREATED:20170726T030601Z
LAST-MODIFIED:20170726T052322Z
UID:6749-1296864000-1296950399@embodyingrhythm.com
SUMMARY:David with the Strolling Scones
DESCRIPTION:other
URL:https://embodyingrhythm.com/event/david-with-the-strolling-scones-2/
CATEGORIES:Performance
END:VEVENT
BEGIN:VEVENT
DTSTART;VALUE=DATE:20110204
DTEND;VALUE=DATE:20110205
DTSTAMP:20260422T124350
CREATED:20170726T030549Z
LAST-MODIFIED:20170726T052322Z
UID:6733-1296777600-1296863999@embodyingrhythm.com
SUMMARY:Living Rhythm with Sticky Mulligan - acoustic
DESCRIPTION:other
URL:https://embodyingrhythm.com/event/living-rhythm-with-sticky-mulligan-acoustic/
CATEGORIES:Performance
END:VEVENT
BEGIN:VEVENT
DTSTART;VALUE=DATE:20110203
DTEND;VALUE=DATE:20110204
DTSTAMP:20260422T124350
CREATED:20170726T030549Z
LAST-MODIFIED:20170726T052323Z
UID:6734-1296691200-1296777599@embodyingrhythm.com
SUMMARY:Living Rhythm with Sticky Mulligan
DESCRIPTION:other
URL:https://embodyingrhythm.com/event/living-rhythm-with-sticky-mulligan/
CATEGORIES:Performance
END:VEVENT
BEGIN:VEVENT
DTSTART;VALUE=DATE:20110202
DTEND;VALUE=DATE:20110203
DTSTAMP:20260422T124350
CREATED:20170726T030620Z
LAST-MODIFIED:20170726T052323Z
UID:6771-1296604800-1296691199@embodyingrhythm.com
SUMMARY:David and Sticky Mulligan - live on air
DESCRIPTION:other
URL:https://embodyingrhythm.com/event/david-and-sticky-mulligan-live-on-air/
CATEGORIES:Performance
END:VEVENT
BEGIN:VEVENT
DTSTART;VALUE=DATE:20110129
DTEND;VALUE=DATE:20110130
DTSTAMP:20260422T124350
CREATED:20170726T030546Z
LAST-MODIFIED:20170726T052323Z
UID:6728-1296259200-1296345599@embodyingrhythm.com
SUMMARY:paradise house party
DESCRIPTION:Paradise Theater
URL:https://embodyingrhythm.com/event/paradise-house-party/
CATEGORIES:Performance
END:VEVENT
BEGIN:VEVENT
DTSTART;VALUE=DATE:20110113
DTEND;VALUE=DATE:20110116
DTSTAMP:20260422T124350
CREATED:20170726T030556Z
LAST-MODIFIED:20170726T052323Z
UID:6744-1294876800-1295135999@embodyingrhythm.com
SUMMARY:FEAST - Celitc Fire
DESCRIPTION:other
URL:https://embodyingrhythm.com/event/feast-celitc-fire/
CATEGORIES:Performance
END:VEVENT
BEGIN:VEVENT
DTSTART;VALUE=DATE:20101220
DTEND;VALUE=DATE:20101221
DTSTAMP:20260422T124350
CREATED:20170726T030540Z
LAST-MODIFIED:20170726T052323Z
UID:6720-1292803200-1292889599@embodyingrhythm.com
SUMMARY:The Dark Night
DESCRIPTION:Paradise Theater
URL:https://embodyingrhythm.com/event/the-dark-night/
CATEGORIES:Performance
END:VEVENT
BEGIN:VEVENT
DTSTART;VALUE=DATE:20101218
DTEND;VALUE=DATE:20101219
DTSTAMP:20260422T124350
CREATED:20170726T030550Z
LAST-MODIFIED:20170726T052323Z
UID:6737-1292630400-1292716799@embodyingrhythm.com
SUMMARY:Holiday show
DESCRIPTION:other
URL:https://embodyingrhythm.com/event/holiday-show/
CATEGORIES:Performance
END:VEVENT
BEGIN:VEVENT
DTSTART;VALUE=DATE:20101209
DTEND;VALUE=DATE:20101210
DTSTAMP:20260422T124350
CREATED:20170726T030611Z
LAST-MODIFIED:20170726T052324Z
UID:6757-1291852800-1291939199@embodyingrhythm.com
SUMMARY:David with Sticky Mulligan
DESCRIPTION:other
URL:https://embodyingrhythm.com/event/david-with-sticky-mulligan-3/
CATEGORIES:Performance
END:VEVENT
BEGIN:VEVENT
DTSTART;VALUE=DATE:20101203
DTEND;VALUE=DATE:20101205
DTSTAMP:20260422T124350
CREATED:20170726T030547Z
LAST-MODIFIED:20170726T052324Z
UID:6732-1291334400-1291507199@embodyingrhythm.com
SUMMARY:members of FEAST - Holiday show
DESCRIPTION:other
URL:https://embodyingrhythm.com/event/members-of-feast-holiday-show-2/
CATEGORIES:Performance
END:VEVENT
BEGIN:VEVENT
DTSTART;VALUE=DATE:20101127
DTEND;VALUE=DATE:20101128
DTSTAMP:20260422T124350
CREATED:20170726T030547Z
LAST-MODIFIED:20170726T052324Z
UID:6731-1290816000-1290902399@embodyingrhythm.com
SUMMARY:members of FEAST - Holiday show
DESCRIPTION:other
URL:https://embodyingrhythm.com/event/members-of-feast-holiday-show/
CATEGORIES:Performance
END:VEVENT
BEGIN:VEVENT
DTSTART;VALUE=DATE:20101113
DTEND;VALUE=DATE:20101114
DTSTAMP:20260422T124350
CREATED:20170726T030541Z
LAST-MODIFIED:20170726T052324Z
UID:6721-1289606400-1289692799@embodyingrhythm.com
SUMMARY:Strolling Scones
DESCRIPTION:Blue Sage Center
URL:https://embodyingrhythm.com/event/strolling-scones/
CATEGORIES:Performance
END:VEVENT
BEGIN:VEVENT
DTSTART;VALUE=DATE:20101106
DTEND;VALUE=DATE:20101107
DTSTAMP:20260422T124350
CREATED:20170726T030541Z
LAST-MODIFIED:20170726T052325Z
UID:6722-1289001600-1289087999@embodyingrhythm.com
SUMMARY:Sticky Mulligan\, David & Mike Antonovich
DESCRIPTION:Carbondale
URL:https://embodyingrhythm.com/event/sticky-mulligan-david-mike-antonovich/
CATEGORIES:Performance
END:VEVENT
BEGIN:VEVENT
DTSTART;VALUE=DATE:20101029
DTEND;VALUE=DATE:20101030
DTSTAMP:20260422T124350
CREATED:20170726T030543Z
LAST-MODIFIED:20170726T052325Z
UID:6724-1288310400-1288396799@embodyingrhythm.com
SUMMARY:Sticky Mulligan and David - Halloween show
DESCRIPTION:Paradise Theater
URL:https://embodyingrhythm.com/event/sticky-mulligan-and-david-halloween-show/
CATEGORIES:Performance
END:VEVENT
BEGIN:VEVENT
DTSTART;VALUE=DATE:20101027
DTEND;VALUE=DATE:20101028
DTSTAMP:20260422T124350
CREATED:20170726T030610Z
LAST-MODIFIED:20170726T052325Z
UID:6755-1288137600-1288223999@embodyingrhythm.com
SUMMARY:David with Sticky Mulligan
DESCRIPTION:Revolution Brewing
URL:https://embodyingrhythm.com/event/david-with-sticky-mulligan/
CATEGORIES:Performance
END:VEVENT
BEGIN:VEVENT
DTSTART;VALUE=DATE:20101023
DTEND;VALUE=DATE:20101024
DTSTAMP:20260422T124350
CREATED:20170726T030622Z
LAST-MODIFIED:20170726T052326Z
UID:6774-1287792000-1287878399@embodyingrhythm.com
SUMMARY:Craig Childs and live music
DESCRIPTION:Moab Arts and Recreation
URL:https://embodyingrhythm.com/event/craig-childs-and-live-music/
CATEGORIES:Performance
END:VEVENT
BEGIN:VEVENT
DTSTART;VALUE=DATE:20101009
DTEND;VALUE=DATE:20101010
DTSTAMP:20260422T124350
CREATED:20170726T030550Z
LAST-MODIFIED:20170726T052326Z
UID:6736-1286582400-1286668799@embodyingrhythm.com
SUMMARY:Joe Allen and friends
DESCRIPTION:Paradise Theater
URL:https://embodyingrhythm.com/event/joe-allen-and-friends/
CATEGORIES:Performance
END:VEVENT
BEGIN:VEVENT
DTSTART;VALUE=DATE:20101008
DTEND;VALUE=DATE:20101009
DTSTAMP:20260422T124350
CREATED:20170726T030543Z
LAST-MODIFIED:20170726T052326Z
UID:6723-1286496000-1286582399@embodyingrhythm.com
SUMMARY:Sticky Mulligan and David Alderdice
DESCRIPTION:KVNF Public Radio
URL:https://embodyingrhythm.com/event/sticky-mulligan-and-david-alderdice/
CATEGORIES:Performance
END:VEVENT
END:VCALENDAR