BEGIN:VCALENDAR
VERSION:2.0
PRODID:-//Embodying Rhythm - ECPv6.15.20//NONSGML v1.0//EN
CALSCALE:GREGORIAN
METHOD:PUBLISH
X-ORIGINAL-URL:https://embodyingrhythm.com
X-WR-CALDESC:Events for Embodying Rhythm
REFRESH-INTERVAL;VALUE=DURATION:PT1H
X-Robots-Tag:noindex
X-PUBLISHED-TTL:PT1H
BEGIN:VTIMEZONE
TZID:America/Denver
BEGIN:DAYLIGHT
TZOFFSETFROM:-0700
TZOFFSETTO:-0600
TZNAME:MDT
DTSTART:20090308T090000
END:DAYLIGHT
BEGIN:STANDARD
TZOFFSETFROM:-0600
TZOFFSETTO:-0700
TZNAME:MST
DTSTART:20091101T080000
END:STANDARD
BEGIN:DAYLIGHT
TZOFFSETFROM:-0700
TZOFFSETTO:-0600
TZNAME:MDT
DTSTART:20100314T090000
END:DAYLIGHT
BEGIN:STANDARD
TZOFFSETFROM:-0600
TZOFFSETTO:-0700
TZNAME:MST
DTSTART:20101107T080000
END:STANDARD
BEGIN:DAYLIGHT
TZOFFSETFROM:-0700
TZOFFSETTO:-0600
TZNAME:MDT
DTSTART:20110313T090000
END:DAYLIGHT
BEGIN:STANDARD
TZOFFSETFROM:-0600
TZOFFSETTO:-0700
TZNAME:MST
DTSTART:20111106T080000
END:STANDARD
END:VTIMEZONE
BEGIN:VEVENT
DTSTART;VALUE=DATE:20101106
DTEND;VALUE=DATE:20101107
DTSTAMP:20260423T235303
CREATED:20170726T030541Z
LAST-MODIFIED:20170726T052325Z
UID:6722-1289001600-1289087999@embodyingrhythm.com
SUMMARY:Sticky Mulligan\, David & Mike Antonovich
DESCRIPTION:Carbondale
URL:https://embodyingrhythm.com/event/sticky-mulligan-david-mike-antonovich/
CATEGORIES:Performance
END:VEVENT
BEGIN:VEVENT
DTSTART;VALUE=DATE:20101029
DTEND;VALUE=DATE:20101030
DTSTAMP:20260423T235303
CREATED:20170726T030543Z
LAST-MODIFIED:20170726T052325Z
UID:6724-1288310400-1288396799@embodyingrhythm.com
SUMMARY:Sticky Mulligan and David - Halloween show
DESCRIPTION:Paradise Theater
URL:https://embodyingrhythm.com/event/sticky-mulligan-and-david-halloween-show/
CATEGORIES:Performance
END:VEVENT
BEGIN:VEVENT
DTSTART;VALUE=DATE:20101027
DTEND;VALUE=DATE:20101028
DTSTAMP:20260423T235303
CREATED:20170726T030610Z
LAST-MODIFIED:20170726T052325Z
UID:6755-1288137600-1288223999@embodyingrhythm.com
SUMMARY:David with Sticky Mulligan
DESCRIPTION:Revolution Brewing
URL:https://embodyingrhythm.com/event/david-with-sticky-mulligan/
CATEGORIES:Performance
END:VEVENT
BEGIN:VEVENT
DTSTART;VALUE=DATE:20101023
DTEND;VALUE=DATE:20101024
DTSTAMP:20260423T235303
CREATED:20170726T030622Z
LAST-MODIFIED:20170726T052326Z
UID:6774-1287792000-1287878399@embodyingrhythm.com
SUMMARY:Craig Childs and live music
DESCRIPTION:Moab Arts and Recreation
URL:https://embodyingrhythm.com/event/craig-childs-and-live-music/
CATEGORIES:Performance
END:VEVENT
BEGIN:VEVENT
DTSTART;VALUE=DATE:20101009
DTEND;VALUE=DATE:20101010
DTSTAMP:20260423T235303
CREATED:20170726T030550Z
LAST-MODIFIED:20170726T052326Z
UID:6736-1286582400-1286668799@embodyingrhythm.com
SUMMARY:Joe Allen and friends
DESCRIPTION:Paradise Theater
URL:https://embodyingrhythm.com/event/joe-allen-and-friends/
CATEGORIES:Performance
END:VEVENT
BEGIN:VEVENT
DTSTART;VALUE=DATE:20101008
DTEND;VALUE=DATE:20101009
DTSTAMP:20260423T235303
CREATED:20170726T030543Z
LAST-MODIFIED:20170726T052326Z
UID:6723-1286496000-1286582399@embodyingrhythm.com
SUMMARY:Sticky Mulligan and David Alderdice
DESCRIPTION:KVNF Public Radio
URL:https://embodyingrhythm.com/event/sticky-mulligan-and-david-alderdice/
CATEGORIES:Performance
END:VEVENT
BEGIN:VEVENT
DTSTART;VALUE=DATE:20100925
DTEND;VALUE=DATE:20100926
DTSTAMP:20260423T235303
CREATED:20170726T030624Z
LAST-MODIFIED:20170726T052327Z
UID:6778-1285372800-1285459199@embodyingrhythm.com
SUMMARY:Beth Quist\, David Alderdice and friends
DESCRIPTION:Paradise Theater
URL:https://embodyingrhythm.com/event/beth-quist-david-alderdice-and-friends/
CATEGORIES:Performance
END:VEVENT
BEGIN:VEVENT
DTSTART;VALUE=DATE:20100924
DTEND;VALUE=DATE:20100925
DTSTAMP:20260423T235303
CREATED:20170726T030559Z
LAST-MODIFIED:20170726T052327Z
UID:6748-1285286400-1285372799@embodyingrhythm.com
SUMMARY:Fashion Show - Harvest Festival
DESCRIPTION:Paradise Theater
URL:https://embodyingrhythm.com/event/fashion-show-harvest-festival/
CATEGORIES:Performance
END:VEVENT
BEGIN:VEVENT
DTSTART;VALUE=DATE:20100924
DTEND;VALUE=DATE:20100925
DTSTAMP:20260423T235303
CREATED:20170726T030546Z
LAST-MODIFIED:20170726T052327Z
UID:6729-1285286400-1285372799@embodyingrhythm.com
SUMMARY:PARADE
DESCRIPTION:Paonia Town Park
URL:https://embodyingrhythm.com/event/parade/
CATEGORIES:Performance
END:VEVENT
BEGIN:VEVENT
DTSTART;VALUE=DATE:20100923
DTEND;VALUE=DATE:20100924
DTSTAMP:20260423T235303
CREATED:20170726T030552Z
LAST-MODIFIED:20170726T052327Z
UID:6738-1285200000-1285286399@embodyingrhythm.com
SUMMARY:Harvest of Voices
DESCRIPTION:Blue Sage Center
URL:https://embodyingrhythm.com/event/harvest-of-voices/
CATEGORIES:Performance
END:VEVENT
BEGIN:VEVENT
DTSTART;VALUE=DATE:20100910
DTEND;VALUE=DATE:20100911
DTSTAMP:20260423T235303
CREATED:20170726T030616Z
LAST-MODIFIED:20170726T052328Z
UID:6765-1284076800-1284163199@embodyingrhythm.com
SUMMARY:David with Bill Powers . . . and Sticky Mulligan
DESCRIPTION:Grange
URL:https://embodyingrhythm.com/event/david-with-bill-powers-and-sticky-mulligan/
CATEGORIES:Performance
END:VEVENT
BEGIN:VEVENT
DTSTART;VALUE=DATE:20100908
DTEND;VALUE=DATE:20100909
DTSTAMP:20260423T235303
CREATED:20170726T030620Z
LAST-MODIFIED:20170726T052328Z
UID:6772-1283904000-1283990399@embodyingrhythm.com
SUMMARY:David Alderdice and Sticky Mulligan
DESCRIPTION:Revolution Brewing
URL:https://embodyingrhythm.com/event/david-alderdice-and-sticky-mulligan/
CATEGORIES:Performance
END:VEVENT
BEGIN:VEVENT
DTSTART;VALUE=DATE:20100902
DTEND;VALUE=DATE:20100903
DTSTAMP:20260423T235303
CREATED:20170726T030619Z
LAST-MODIFIED:20170726T052329Z
UID:6769-1283385600-1283471999@embodyingrhythm.com
SUMMARY:David with Ariana Saraha
DESCRIPTION:other
URL:https://embodyingrhythm.com/event/david-with-ariana-saraha/
CATEGORIES:Performance
END:VEVENT
BEGIN:VEVENT
DTSTART;VALUE=DATE:20100901
DTEND;VALUE=DATE:20100902
DTSTAMP:20260423T235303
CREATED:20170726T030619Z
LAST-MODIFIED:20170726T052330Z
UID:6770-1283299200-1283385599@embodyingrhythm.com
SUMMARY:David with Ariana Saraha
DESCRIPTION:other
URL:https://embodyingrhythm.com/event/david-with-ariana-saraha-2/
CATEGORIES:Performance
END:VEVENT
BEGIN:VEVENT
DTSTART;VALUE=DATE:20100827
DTEND;VALUE=DATE:20100828
DTSTAMP:20260423T235303
CREATED:20170726T030616Z
LAST-MODIFIED:20170726T052330Z
UID:6766-1282867200-1282953599@embodyingrhythm.com
SUMMARY:David with Beth Quist & Ariana Saraha
DESCRIPTION:other
URL:https://embodyingrhythm.com/event/david-with-beth-quist-ariana-saraha/
CATEGORIES:Performance
END:VEVENT
BEGIN:VEVENT
DTSTART;VALUE=DATE:20100826
DTEND;VALUE=DATE:20100827
DTSTAMP:20260423T235303
CREATED:20170726T030616Z
LAST-MODIFIED:20170726T052330Z
UID:6767-1282780800-1282867199@embodyingrhythm.com
SUMMARY:David with Beth Quist & Ariana Saraha
DESCRIPTION:other
URL:https://embodyingrhythm.com/event/david-with-beth-quist-ariana-saraha-2/
CATEGORIES:Performance
END:VEVENT
BEGIN:VEVENT
DTSTART;VALUE=DATE:20100821
DTEND;VALUE=DATE:20100822
DTSTAMP:20260423T235303
CREATED:20170726T030547Z
LAST-MODIFIED:20170726T052331Z
UID:6730-1282348800-1282435199@embodyingrhythm.com
SUMMARY:Mientka - Alderdice Consort
DESCRIPTION:other
URL:https://embodyingrhythm.com/event/mientka-alderdice-consort-7/
CATEGORIES:Performance
END:VEVENT
BEGIN:VEVENT
DTSTART;VALUE=DATE:20100813
DTEND;VALUE=DATE:20100814
DTSTAMP:20260423T235303
CREATED:20170726T030622Z
LAST-MODIFIED:20170726T052331Z
UID:6773-1281657600-1281743999@embodyingrhythm.com
SUMMARY:Crystal Ball - with Devon Meyers
DESCRIPTION:Paradise Theater
URL:https://embodyingrhythm.com/event/crystal-ball-with-devon-meyers/
CATEGORIES:Performance
END:VEVENT
BEGIN:VEVENT
DTSTART;VALUE=DATE:20100724
DTEND;VALUE=DATE:20100725
DTSTAMP:20260423T235303
CREATED:20170726T030623Z
LAST-MODIFIED:20170726T052331Z
UID:6777-1279929600-1280015999@embodyingrhythm.com
SUMMARY:celebrate the beat - kids show
DESCRIPTION:Paonia Town Park
URL:https://embodyingrhythm.com/event/celebrate-the-beat-kids-show/
CATEGORIES:Performance
END:VEVENT
BEGIN:VEVENT
DTSTART;VALUE=DATE:20100723
DTEND;VALUE=DATE:20100724
DTSTAMP:20260423T235303
CREATED:20170726T030544Z
LAST-MODIFIED:20170726T052331Z
UID:6725-1279843200-1279929599@embodyingrhythm.com
SUMMARY:SilverTone Devils
DESCRIPTION:Paradise Theater
URL:https://embodyingrhythm.com/event/silvertone-devils-2/
CATEGORIES:Performance
END:VEVENT
BEGIN:VEVENT
DTSTART;VALUE=DATE:20100722
DTEND;VALUE=DATE:20100723
DTSTAMP:20260423T235303
CREATED:20170726T030502Z
LAST-MODIFIED:20170726T052331Z
UID:6676-1279756800-1279843199@embodyingrhythm.com
SUMMARY:SilverTone Devils
DESCRIPTION:Paonia Town Park
URL:https://embodyingrhythm.com/event/silvertone-devils/
CATEGORIES:Performance
END:VEVENT
BEGIN:VEVENT
DTSTART;VALUE=DATE:20100709
DTEND;VALUE=DATE:20100710
DTSTAMP:20260423T235303
CREATED:20170726T030535Z
LAST-MODIFIED:20170726T052332Z
UID:6716-1278633600-1278719999@embodyingrhythm.com
SUMMARY:Ariana\, David and friends
DESCRIPTION:Heideman’s Dome
URL:https://embodyingrhythm.com/event/ariana-david-and-friends/
CATEGORIES:Performance
END:VEVENT
BEGIN:VEVENT
DTSTART;VALUE=DATE:20100620
DTEND;VALUE=DATE:20100621
DTSTAMP:20260423T235303
CREATED:20170726T030535Z
LAST-MODIFIED:20170726T052332Z
UID:6717-1276992000-1277078399@embodyingrhythm.com
SUMMARY:Ariana Saraha and David on Drums - Santa Barbara CA
DESCRIPTION:other
URL:https://embodyingrhythm.com/event/ariana-saraha-and-david-on-drums-santa-barbara-ca/
CATEGORIES:Performance
END:VEVENT
BEGIN:VEVENT
DTSTART;VALUE=DATE:20100619
DTEND;VALUE=DATE:20100620
DTSTAMP:20260423T235303
CREATED:20170726T030538Z
LAST-MODIFIED:20170726T052332Z
UID:6718-1276905600-1276991999@embodyingrhythm.com
SUMMARY:Ariana Saraha and David on Drums - Ojai CA
DESCRIPTION:other
URL:https://embodyingrhythm.com/event/ariana-saraha-and-david-on-drums-ojai-ca/
CATEGORIES:Performance
END:VEVENT
BEGIN:VEVENT
DTSTART;VALUE=DATE:20100614
DTEND;VALUE=DATE:20100615
DTSTAMP:20260423T235303
CREATED:20170726T030501Z
LAST-MODIFIED:20170726T052333Z
UID:6675-1276473600-1276559999@embodyingrhythm.com
SUMMARY:Silvertone Devils in Delta
DESCRIPTION:other
URL:https://embodyingrhythm.com/event/silvertone-devils-in-delta/
CATEGORIES:Performance
END:VEVENT
BEGIN:VEVENT
DTSTART;VALUE=DATE:20100603
DTEND;VALUE=DATE:20100604
DTSTAMP:20260423T235303
CREATED:20170726T030508Z
LAST-MODIFIED:20170726T052333Z
UID:6688-1275523200-1275609599@embodyingrhythm.com
SUMMARY:Main in Motion - Montrose
DESCRIPTION:Montrose
URL:https://embodyingrhythm.com/event/main-in-motion-montrose/
CATEGORIES:Performance
END:VEVENT
BEGIN:VEVENT
DTSTART;VALUE=DATE:20100527
DTEND;VALUE=DATE:20100528
DTSTAMP:20260423T235303
CREATED:20170726T030534Z
LAST-MODIFIED:20170726T052333Z
UID:6715-1274918400-1275004799@embodyingrhythm.com
SUMMARY:Celebrate the Beat - Childrens show
DESCRIPTION:other
URL:https://embodyingrhythm.com/event/celebrate-the-beat-childrens-show/
CATEGORIES:Performance
END:VEVENT
BEGIN:VEVENT
DTSTART;VALUE=DATE:20100501
DTEND;VALUE=DATE:20100502
DTSTAMP:20260423T235303
CREATED:20170726T030455Z
LAST-MODIFIED:20170726T052334Z
UID:6671-1272672000-1272758399@embodyingrhythm.com
SUMMARY:Storytelling with Craig Childs - David on Drums
DESCRIPTION:Paradise Theater
URL:https://embodyingrhythm.com/event/storytelling-with-craig-childs-david-on-drums/
CATEGORIES:Performance
END:VEVENT
BEGIN:VEVENT
DTSTART;VALUE=DATE:20100430
DTEND;VALUE=DATE:20100501
DTSTAMP:20260423T235303
CREATED:20170726T030456Z
LAST-MODIFIED:20170726T052334Z
UID:6672-1272585600-1272671999@embodyingrhythm.com
SUMMARY:Storytelling with Craig Childs - David on Drums
DESCRIPTION:other
URL:https://embodyingrhythm.com/event/storytelling-with-craig-childs-david-on-drums-2/
CATEGORIES:Performance
END:VEVENT
BEGIN:VEVENT
DTSTART;VALUE=DATE:20100421
DTEND;VALUE=DATE:20100422
DTSTAMP:20260423T235303
CREATED:20170726T030530Z
LAST-MODIFIED:20170726T052334Z
UID:6713-1271808000-1271894399@embodyingrhythm.com
SUMMARY:Celebration of Creation
DESCRIPTION:other
URL:https://embodyingrhythm.com/event/celebration-of-creation/
CATEGORIES:Performance
END:VEVENT
END:VCALENDAR