BEGIN:VCALENDAR
VERSION:2.0
PRODID:-//Embodying Rhythm - ECPv6.15.20//NONSGML v1.0//EN
CALSCALE:GREGORIAN
METHOD:PUBLISH
X-ORIGINAL-URL:https://embodyingrhythm.com
X-WR-CALDESC:Events for Embodying Rhythm
REFRESH-INTERVAL;VALUE=DURATION:PT1H
X-Robots-Tag:noindex
X-PUBLISHED-TTL:PT1H
BEGIN:VTIMEZONE
TZID:America/Denver
BEGIN:DAYLIGHT
TZOFFSETFROM:-0700
TZOFFSETTO:-0600
TZNAME:MDT
DTSTART:20210314T090000
END:DAYLIGHT
BEGIN:STANDARD
TZOFFSETFROM:-0600
TZOFFSETTO:-0700
TZNAME:MST
DTSTART:20211107T080000
END:STANDARD
BEGIN:DAYLIGHT
TZOFFSETFROM:-0700
TZOFFSETTO:-0600
TZNAME:MDT
DTSTART:20220313T090000
END:DAYLIGHT
BEGIN:STANDARD
TZOFFSETFROM:-0600
TZOFFSETTO:-0700
TZNAME:MST
DTSTART:20221106T080000
END:STANDARD
BEGIN:DAYLIGHT
TZOFFSETFROM:-0700
TZOFFSETTO:-0600
TZNAME:MDT
DTSTART:20230312T090000
END:DAYLIGHT
BEGIN:STANDARD
TZOFFSETFROM:-0600
TZOFFSETTO:-0700
TZNAME:MST
DTSTART:20231105T080000
END:STANDARD
BEGIN:DAYLIGHT
TZOFFSETFROM:-0700
TZOFFSETTO:-0600
TZNAME:MDT
DTSTART:20240310T090000
END:DAYLIGHT
BEGIN:STANDARD
TZOFFSETFROM:-0600
TZOFFSETTO:-0700
TZNAME:MST
DTSTART:20241103T080000
END:STANDARD
BEGIN:DAYLIGHT
TZOFFSETFROM:-0700
TZOFFSETTO:-0600
TZNAME:MDT
DTSTART:20250309T090000
END:DAYLIGHT
BEGIN:STANDARD
TZOFFSETFROM:-0600
TZOFFSETTO:-0700
TZNAME:MST
DTSTART:20251102T080000
END:STANDARD
END:VTIMEZONE
BEGIN:VEVENT
DTSTART;TZID=America/Denver:20240712T180000
DTEND;TZID=America/Denver:20240712T220000
DTSTAMP:20260419T120941
CREATED:20240602T233439Z
LAST-MODIFIED:20240602T233501Z
UID:10296-1720807200-1720821600@embodyingrhythm.com
SUMMARY:Arlyn Alderdice on drums at Golden Bridge Summer\, Boulder\, CO
DESCRIPTION:https://goldenbridge.org/events/shakti-sisterhood/ \nhttps://goldenbridge.org/events/surfing-the-creative/
URL:https://embodyingrhythm.com/event/arlyn-alderdice-on-drums-at-golden-bridge-summer-boulder-co/
LOCATION:The Starhouse\, 3476 Sunshine Canyon Dr\, Boulder\, CO\, 80302\, United States
CATEGORIES:Arlyn Alderdice,Summercamp
ATTACH;FMTTYPE=image/jpeg:https://embodyingrhythm.com/wp-content/uploads/DSC00082.jpg
END:VEVENT
BEGIN:VEVENT
DTSTART;TZID=America/Denver:20230619T090000
DTEND;TZID=America/Denver:20230720T170000
DTSTAMP:20260419T120941
CREATED:20230224T234902Z
LAST-MODIFIED:20230414T203914Z
UID:9847-1687165200-1689872400@embodyingrhythm.com
SUMMARY:Summer Youth Backpacking Trips with The Nature Connection led by David & Arlyn
DESCRIPTION:Explore the woods with us this summer! We will be offering 4 youth camping & backpacking trips for 11-15 year olds this summer through The Nature Connection. They will all be 4 day/3 night trips\, two for girls and two for boys. Each gender will have a camping/backpacking 101 trip with 2 nights at a local campground then a short 1 night backpack. The second trip is a full backpacking trip where we spend all 4 days/ 3 nights hiking in the wilderness\, camping under the stars\, and carrying everything that we’ll need on our backs. more here \nBoot to Roots Boys Backpacking 101 trip will be June 19-22\nThe Girls in the Woods Backpacking 101 trip will be June 26-29 \nBoots to Roots boys backpacking trip July 10-13\nThe Girls in the Wilderness backpacking trip July 17-20 \n__ \nIf that sounds great\, but you’re not a youth in that age range\, please contact us to discuss a possibility of setting up a life-coaching / backpacking trip.
URL:https://embodyingrhythm.com/event/summer-youth-backpacking-trips-with-the-nature-connection-led-by-david-arlyn/
LOCATION:The Nature Connection\, 397 Miners Way\, Hotchkiss\, CO\, 81419\, United States
CATEGORIES:Arlyn Alderdice,Summercamp,Workshops and classes
ATTACH;FMTTYPE=image/jpeg:https://embodyingrhythm.com/wp-content/uploads/TNC-Bkpk.jpg
END:VEVENT
BEGIN:VEVENT
DTSTART;TZID=America/Denver:20220801T093000
DTEND;TZID=America/Denver:20220806T163000
DTSTAMP:20260419T120941
CREATED:20220510T143755Z
LAST-MODIFIED:20220510T145402Z
UID:9530-1659346200-1659803400@embodyingrhythm.com
SUMMARY:David Alderdice rhythm playshop at Bluegrass & Beyond Camp in Crested Butte\, CO
DESCRIPTION:Bluegrass and Beyond Camp @ Crested Butte Music Festival is a day camp running from August 1 – August 6 from 9:30am – 4:30pm daily. On Friday\, August 5th\, David & Arlyn will be teaching a participatory rhythmic body experience playshop that is geared toward finding different fun and useful  ways of feeling music. This overall camp is led by Stephanie Mientka with both her and Dylan Fixmer as teachers for the daily classes. \nmore information at: https://crestedbuttemusicfestival.org/calendar-plugin/bluegrass-and-beyond-camp/
URL:https://embodyingrhythm.com/event/david-alderdice-rhythm-playshop-at-bluegrass-beyond-camp-in-crested-butte-co/
LOCATION:CO
CATEGORIES:Summercamp,Workshops and classes
END:VEVENT
BEGIN:VEVENT
DTSTART;TZID=America/Denver:20220801T090000
DTEND;TZID=America/Denver:20220804T150000
DTSTAMP:20260419T120941
CREATED:20220414T174817Z
LAST-MODIFIED:20220510T145629Z
UID:9495-1659344400-1659625200@embodyingrhythm.com
SUMMARY:TNC Wilderness Aware Camp - Intro to Backpacking with David Alderdice
DESCRIPTION: Wilderness Aware\nAug 1st-4th: Ages 7-11 \nBecome familiar with the flora and fauna of the Western Slope and a find your rhythm with camping. Wilderness Aware explores the foundations of backpacking through four days of camp and a one night backpacking trip on a beginner-friendly loop into the wilderness with a new discovery of nature. \nHighlights: Intro to backpacking on national forest\, Plant and wildlife ID\, Discovery through hands-on experiences \nMonday – The Nature Connection Hub and Crossroads Park\nTuesday – The Nature Connection Hub and Crossroads Trails\nWednesday – One night backpacking trip on the Gunnison National Forest\, drop off at The Nature Connection Hub\nThursdays – Last day backpacking trip\, 12:00pm pick up at The Nature Connection Hub
URL:https://embodyingrhythm.com/event/tnc-wilderness-aware-with-backpacking-overnight-with-david-alderdice/
LOCATION:The Nature Connection\, 397 Miners Way\, Hotchkiss\, CO\, 81419\, United States
CATEGORIES:Summercamp,Workshops and classes
ATTACH;FMTTYPE=image/jpeg:https://embodyingrhythm.com/wp-content/uploads/TNC-Bkpk.jpg
END:VEVENT
BEGIN:VEVENT
DTSTART;TZID=America/Denver:20220718T090000
DTEND;TZID=America/Denver:20220721T170000
DTSTAMP:20260419T120941
CREATED:20220414T174249Z
LAST-MODIFIED:20220510T145707Z
UID:9491-1658134800-1658422800@embodyingrhythm.com
SUMMARY:TNC Boots to Roots Youth Boys Backpacking with David Alderdice
DESCRIPTION:Boots to Roots – Uncompahgre or West Elks \nJuly 18th-21st Boys ages 11-14 \nGo West or South\, young man. There lies the mountains\, a ridge jagged as a sawtooth blade. On this four day wilderness expedition you will travel through oceans of fir and the ghosts of ancient volcanoes. What are you waiting for? \nEnrollment: limited to 11 boys each trip \n  \nSummer Camp
URL:https://embodyingrhythm.com/event/tnc-boys-backpacking-with-david-alderdice/
LOCATION:The Nature Connection\, 397 Miners Way\, Hotchkiss\, CO\, 81419\, United States
CATEGORIES:Summercamp,Workshops and classes
ATTACH;FMTTYPE=image/jpeg:https://embodyingrhythm.com/wp-content/uploads/TNC-Bkpk.jpg
END:VEVENT
BEGIN:VEVENT
DTSTART;TZID=America/Denver:20220627T130000
DTEND;TZID=America/Denver:20220630T153000
DTSTAMP:20260419T120941
CREATED:20220414T171832Z
LAST-MODIFIED:20220510T144331Z
UID:9481-1656334800-1656603000@embodyingrhythm.com
SUMMARY:Kid's Summercamp - Skill Toys\, Music & Games Camp with David Alderdice
DESCRIPTION:Monday June 27th to Thursday June 30th: afternoons Skill Toys\, Music and Games Camp with David Alderdice offered by Arts For All.  for students going into 2nd to 6th grades – camp will be outside at the Paonia Town Park with David Alderdice \nIf you like being outside and playing games\, this would be a fun camp for you. And if you have interest in any of the following hobbies like\, Kendama\, Rubik’s Cube\, Marimba Music\, Yard Games\, Hackysack\, Percussion\, Slackline\, Backgammon\, Knot Tying\, Frisbee or other similar activities\, this would definitely be a super fun camp for you. $125 for just the afternoons. $200 per week for both the morning (circus arts) and afternoon sessions. $300 for both weeks. Register by emailing artsforallnf (at ) gmail.com
URL:https://embodyingrhythm.com/event/kids-summercamp-skill-toys-music-games-camp-with-david-alderdice/
LOCATION:CO
CATEGORIES:Summercamp,Workshops and classes
ATTACH;FMTTYPE=image/jpeg:https://embodyingrhythm.com/wp-content/uploads/DSC00013.jpg
END:VEVENT
BEGIN:VEVENT
DTSTART;TZID=America/Denver:20220620T090000
DTEND;TZID=America/Denver:20220623T150000
DTSTAMP:20260419T120941
CREATED:20220414T173918Z
LAST-MODIFIED:20220510T144414Z
UID:9487-1655715600-1655996400@embodyingrhythm.com
SUMMARY:TNC Boots to Roots Youth Boys Backpacking with David Alderdice
DESCRIPTION:Boots to Roots – Gunnison National Forest\nJune 20th-23rd for 11-14 year old boys \nHave you ever slept under a blanket of stars and hiked through endless groves of aspen? If you’re looking for an epic adventure in nature this summer\, join us for four days of backpacking in the beautiful Gunnison National Forest! This one’s for the boys\, making connections in our gorgeous backyard. \nEnrollment: limited to 11 boys each trip \n\nSummer Camp
URL:https://embodyingrhythm.com/event/tnc-boots-to-roots-boys-backpacking-with-david-alderdice/
LOCATION:The Nature Connection\, 397 Miners Way\, Hotchkiss\, CO\, 81419\, United States
CATEGORIES:Summercamp,Workshops and classes
ATTACH;FMTTYPE=image/jpeg:https://embodyingrhythm.com/wp-content/uploads/TNC-Bkpk.jpg
END:VEVENT
BEGIN:VEVENT
DTSTART;TZID=America/Denver:20220606T110000
DTEND;TZID=America/Denver:20220610T150000
DTSTAMP:20260419T120941
CREATED:20220414T171433Z
LAST-MODIFIED:20220510T144452Z
UID:9479-1654513200-1654873200@embodyingrhythm.com
SUMMARY:Kid's Summercamp - Celebrate the Beat with Emma Stedman & David Alderdice
DESCRIPTION:Monday\, June 6th to Friday\, June 10th FREE Celebrate the Beat Summercamps: These camps will be outside at the Paonia Town Park with David Alderdice providing live music and Emma Stedman providing CTB style dance and movement. Registration: 970-270-3331 \nDancers entering 1st or 2nd grade from 11:00 am-12:00 pm \nDancers entering the 3rd-5th grade from 1:00 pm-3:00 pm
URL:https://embodyingrhythm.com/event/kids-summercamp-celebrate-the-beat-with-emma-stedman-david-alderdice/
LOCATION:Paonia Town Park\, United States
CATEGORIES:Summercamp,Workshops and classes
ATTACH;FMTTYPE=image/jpeg:https://embodyingrhythm.com/wp-content/uploads/463_ctb-1.jpg
END:VEVENT
END:VCALENDAR