BEGIN:VCALENDAR
VERSION:2.0
PRODID:-//Embodying Rhythm - ECPv6.15.20//NONSGML v1.0//EN
CALSCALE:GREGORIAN
METHOD:PUBLISH
X-ORIGINAL-URL:https://embodyingrhythm.com
X-WR-CALDESC:Events for Embodying Rhythm
REFRESH-INTERVAL;VALUE=DURATION:PT1H
X-Robots-Tag:noindex
X-PUBLISHED-TTL:PT1H
BEGIN:VTIMEZONE
TZID:America/Denver
BEGIN:DAYLIGHT
TZOFFSETFROM:-0700
TZOFFSETTO:-0600
TZNAME:MDT
DTSTART:20240310T090000
END:DAYLIGHT
BEGIN:STANDARD
TZOFFSETFROM:-0600
TZOFFSETTO:-0700
TZNAME:MST
DTSTART:20241103T080000
END:STANDARD
BEGIN:DAYLIGHT
TZOFFSETFROM:-0700
TZOFFSETTO:-0600
TZNAME:MDT
DTSTART:20250309T090000
END:DAYLIGHT
BEGIN:STANDARD
TZOFFSETFROM:-0600
TZOFFSETTO:-0700
TZNAME:MST
DTSTART:20251102T080000
END:STANDARD
BEGIN:DAYLIGHT
TZOFFSETFROM:-0700
TZOFFSETTO:-0600
TZNAME:MDT
DTSTART:20260308T090000
END:DAYLIGHT
BEGIN:STANDARD
TZOFFSETFROM:-0600
TZOFFSETTO:-0700
TZNAME:MST
DTSTART:20261101T080000
END:STANDARD
END:VTIMEZONE
BEGIN:VEVENT
DTSTART;TZID=America/Denver:20251115T110000
DTEND;TZID=America/Denver:20251115T123000
DTSTAMP:20260423T084608
CREATED:20251007T152632Z
LAST-MODIFIED:20251023T005243Z
UID:10783-1763204400-1763209800@embodyingrhythm.com
SUMMARY:Marimba Ensemble fun with David and Arlyn Alderdice
DESCRIPTION:Come and experience the feeling of making wonderful sounds and musical vibrations with beautiful wooden tuned percussion instruments traditional to Zimbabwe. We will explore rhythm\, groove\, poly-rhythms\, ensemble part playing and other aspects of music in a fun a safe group setting. No experience necessary\, all instruments provided. Ages 9+ \nSliding scale $15 – $25 per person \nAt the Embodying Rhythm Teaching Studio\, Hotchkiss\nAddress and directions available upon registration
URL:https://embodyingrhythm.com/event/marimba-ensemble-fun-with-david-and-arlyn-alderdice/
LOCATION:CO
CATEGORIES:Workshops and classes
ATTACH;FMTTYPE=image/jpeg:https://embodyingrhythm.com/wp-content/uploads/DSC00004.jpg
END:VEVENT
END:VCALENDAR